Workbook

Sheet GCL
A2: Date | B2: List Number | C2: Doc # | D2: Campus | E2: Appropriation | F2: Vendor Name | G2: Invoice Number | H2: Amount
F4: July Payment
A5: 45476 | B5: FY25-001 | C5: V5600001 | D5: CSU | E5: 21516 | F5: Quinn Evans | G5: 6th | H5: 180469.44
A6: 45476 | B6: FY25-001 | C6: V5600002 | D6: CSU | E6: 23116 | F6: ATC Corp. | G6: 18663 | H6: 33000
A7: 45483 | B7: FY25-002 | C7: V5600003 | D7: BSU | E7: 23109 | F7: The Whiting-Turner Constracting Company | G7: 018510-0049 | H7: 3516527
A8: 45483 | B8: FY25-002 | C8: V5600004 | D8: SU | E8: 23117 | F8: The Whiting-Turner Constracting Company | G8: 020187-0012 | H8: 340954.94
A9: 45483 | B9: FY25-002 | C9: V5600005 | D9: UMBC | E9: 22114 | F9: The Whiting-Turner Constracting Company | G9: 025 | H9: 1736031
A10: 45483 | B10: FY25-002 | C10: V5600006 | D10: UMCP | E10: 21509 | F10: Electrico | G10: 2274008 | H10: 3000
A11: 45483 | B11: JA000003 | C11: JA000003 | D11: TU | E11: 23111 | F11: Maryland Correctional Enterprises | G11: H03085 | H11: 1128
A12: 45489 | B12: FY25-003 | C12: V5600007 | D12: UMB | E12: 19316 | F12: Emjay Engineering & Construction | G12: 2 | H12: 289393.75
A13: 45489 | B13: FY25-003 | C13: V5600008 | D13: UMBC | E13: 22114 | F13: The Whiting-Turner Constracting Company | G13: 7 | H13: 52417
A14: 45489 | B14: FY25-003 | C14: V5600009 | D14: UMCP | E14: 21512 | F14: Whitman, Requardt & Associates, LLP | G14: 090358.007-13 | H14: 4289.05
A15: 45489 | B15: FY25-003 | C15: V5600010 | D15: UMCP | E15: 23106 | F15: The Whiting-Turner Contracting Company | G15: 01905-0022 | H15: 3769460.8
A16: 45489 | B16: FY25-003 | C16: V5600011 | D16: UMBC | E16: 22114 | F16: RK&K | G16: 23063.000-15 | H16: 296104.72
A17: 45498 | B17: FY25-004 | C17: V5600012 | D17: BSU | E17: 22107 | F17: Rich Moe Enterprises, LLC | G17: 4619 | H17: 180717.61
A18: 45498 | B18: FY25-004 | C18: V5600013 | D18: TU | E18: 22108 | F18: J. Vinton Schafer & Sons, Inc. | G18: 23 | H18: 99687.91
A19: 45498 | B19: FY25-004 | C19: V5600014 | D19: TU | E19: 23111 | F19: Gilbane Building Company | G19: 40 | H19: 802144
A20: 45498 | B20: FY25-004 | C20: V5600015 | D20: UMCP | E20: 21512 | F20: Elevator Control Service | G20: 3 | H20: 131961.44
A21: 45498 | B21: FY25-004 | C21: V5600016 | D21: UMCP | E21: 22106 | F21: James G. Davis Construction Corporation | G21: 20761-005 | H21: 833681.17
A22: 45498 | B22: FY25-004 | C22: V5600017 | D22: UMCP | E22: 23105 | F22: AECOM Technical Services, Inc. | G22: 2000901236 | H22: 20360.4
A23: 45498 | B23: FY25-004 | C23: V5600018 | D23: UMB | E23: 17173 | F23: RMF Engineering | G23: 2406251 | H23: 10721.8
A24: 45498 | B24: FY25-004 | C24: V5600019 | D24: UMBC | E24: 21518 | F24: Page Southerland Page, Inc. | G24: 1P21070.01-18 | H24: 66558.75
F26: August Payment
A27: 45506 | B27: FY25-005 | C27: 604V5600020 | D27: FSU | E27: 21515 | F27: GWWO | G27: 12518 | H27: 15982.47
A28: 45506 | C28: 13595955 | D28: FSU | E28: 21515 | F28: Funds Returned from FSU (GWWO) | G28: 12232 12283 12352 12438 12509 | H28: -73300.52
A29: 45516 | C29: 13619602 | D29: FSU | E29: 21515 | F29: Funds Returned from FSU (GWWO) | G29: 12518 | H29: -15982.47
A30: 45506 | B30: FY25-005 | C30: 604V5600021 | D30: TU | E30: 23112 | F30: JMT | G30: 10-238731(Split) | H30: 617722.1
A31: 45506 | B31: FY25-005 | C31: 604V5600022 | D31: BSU | E31: 23109 | F31: The Whiting-Turner Constracting Company | G31: 018510-0050 | H31: 4430468.1
A32: 45506 | B32: FY25-005 | C32: 604V5600023 | D32: USM | E32: 18248 | F32: Fisher Scientific | G32: 3002487 | H32: 413.72
A33: 45506 | B33: FY25-005 | C33: 604V5600024 | D33: USM | E33: 18248 | F33: Fisher Scientific | G33: 3469872 | H33: 334
A34: 45506 | B34: FY25-005 | C34: 604V5600025 | D34: TU | E34: 20304 | F34: JMT | G34: 30-238122 | H34: 1223.66
A35: 45506 | B35: FY25-005 | C35: 604V5600026 | D35: UMB | E35: 19316 | F35: Emjay Engineering & Construction | G35: 3 | H35: 479607.5
A36: 45506 | B36: FY25-005 | C36: 604V5600027 | D36: UMB | E36: 22101 | F36: Emjay Engineering & Construction | G36: 9 | H36: 123136.87
A37: 45506 | B37: FY25-005 | C37: 604V5600028 | D37: UMCP | E37: 23105 | F37: AECOM Technical Services, Inc. | G37: 2000908512 | H37: 20360.4
A38: 45506 | B38: FY25-005 | C38: 604V5600029 | D38: CSU | E38: 21516 | F38: Quinn Evans | G38: 7th | H38: 181595.45
A39: 45506 | B39: FY25-005 | C39: 604V5600030 | D39: TU | E39: 23111 | F39: Medline Industries, LP | G39: 2319992748 | H39: 3501
A40: 45506 | B40: FY25-005 | C40: 604V5600031 | D40: TU | E40: 23111 | F40: Medline Industries, LP | G40: 2319141748 | H40: 34358.5
A41: 45511 | B41: FY25-006 | C41: 604V5600032 | D41: UMBC | E41: 22114 | F41: The Whiting-Turner Constracting Company | G41: 026 | H41: 2904601.4
A42: 45520 | B42: FY25-007 | C42: 604V5600033 | D42: SU | E42: 23117 | F42: The Whiting-Turner Constracting Company | G42: 020187-0013 | H42: 521887.11
A43: 45520 | B43: FY25-007 | C43: 604V5600034 | D43: TU | E43: 23112 | F43: Consigli Construction Co., Inc. | G43: 8 | H43: 1090394.7
...

Sheet Summary
B1: JULY | C1: July'24 | D1: Aug'24 | E1: Sep'24 | F1: Oct'24 | G1: Nov'24 | H1: Dec'24 | I1: Jan'25 | J1: Feb'25 | K1: Mar'25 | L1: Apr'25 | M1: May'25 | N1: Jun'25 | O1: TOTAL
A2: UMCP | C2: =UMCP!H12 -> 4762752.9 | D2: =UMCP!H20 -> 464790.98 | E2: =UMCP!H31 -> 4823148.5 | F2: =UMCP!H55 -> 32237983 | G2: =UMCP!H65 -> 238140.76 | H2: =UMCP!H72 -> 180922.05 | I2: =UMCP!H84 -> 11659530 | J2: =UMCP!H93 -> 12894587 | K2: =UMCP!H102 -> 950421.28 | L2: =UMCP!H113 -> 1003523.8 | M2: =UMCP!H129 -> 3864920.8 | N2: =UMCP!H142 -> 1531832.1 | O2: =SUM(C2:N2) -> 74612553
A3: UMB | C3: =UMB!H8 -> 300115.55 | D3: =UMB!H16 -> 973125.19 | E3: =UMB!H26 -> 488543.08 | F3: =UMB!H31 -> 232699.25 | G3: =UMB!H37 -> 663180.73 | H3: =UMB!H43 -> 21734.5 | I3: =UMB!H50 -> 711399.5 | J3: =UMB!H56 -> 1125824.8 | K3: =UMB!H65 -> 2702595.9 | L3: =UMB!H75 -> 1642401.3 | M3: =UMB!H79 -> 115729 | N3: =UMB!H87 -> 1633245.2 | O3: =SUM(C3:N3) -> 10610594
A4: UMBI | C4: =UMBI!H5 -> 0 | D4: =UMBI!H7 -> 0 | E4: =UMBI!H9 -> 0 | F4: =UMBI!H11 -> 0 | G4: =UMBI!H13 -> 0 | H4: =UMBI!H15 -> 0 | I4: =UMBI!H17 -> 0 | J4: =UMBI!H19 -> 0 | K4: =UMBI!H21 -> 0 | L4: =UMBI!H23 -> 0 | M4: =UMBI!H25 -> 0 | N4: =UMBI!H27 -> 0 | O4: =SUM(C4:N4) -> 0
A5: UMES | C5: =UMES!H5 -> 0 | D5: =UMES!H7 -> 0 | E5: =UMES!H9 -> 0 | F5: =UMES!H16 -> 1063890 | G5: =UMES!H18 -> 0 | H5: =UMES!H20 -> 0 | I5: =UMES!H27 -> 1084770.1 | J5: =UMES!H32 -> 247000 | K5: =UMES!H36 -> 343686.18 | L5: =UMES!H40 -> 2636.64 | M5: =UMES!H47 -> 570308.06 | N5: =UMES!H49 -> 0 | O5: =SUM(C5:N5) -> 3312290.9
A6: UMBC | C6: =UMBC!H10 -> 2151111.4 | D6: =UMBC!H17 -> 2981589.1 | E6: =UMBC!H25 -> 2409424.2 | F6: =UMBC!H29 -> 81312.22 | G6: =UMBC!H40 -> 6944171.8 | H6: =UMBC!H47 -> 5470754.3 | I6: =UMBC!H54 -> 2798441.4 | J6: =UMBC!H62 -> 435794.8 | K6: =UMBC!H70 -> 3371801.4 | L6: =UMBC!H79 -> 4330388.4 | M6: =UMBC!H94 -> 4325983.3 | N6: =UMBC!H107 -> 3121852.5 | O6: =SUM(C6:N6) -> 38422625
A7: UMUC | C7: =UMUC!H5 -> 0 | D7: =UMUC!H7 -> 0 | E7: =UMUC!H9 -> 0 | F7: =UMUC!H11 -> 0 | G7: =UMUC!H13 -> 0 | H7: =UMUC!H15 -> 0 | I7: =UMUC!H17 -> 0 | J7: =UMUC!H19 -> 0 | K7: =UMUC!H21 -> 0 | L7: =UMUC!H23 -> 0 | M7: =UMUC!H25 -> 0 | N7: =UMUC!H27 -> 0 | O7: =SUM(C7:N7) -> 0
A8: UMGC | C8: =UMGC!H5 -> 0 | D8: =UMGC!H9 -> 8437.23 | E8: =UMGC!H13 -> 10307.73 | F8: =UMGC!H15 -> 0 | G8: =UMGC!H17 -> 0 | H8: =UMGC!H19 -> 0 | I8: =UMGC!H25 -> 87242.15 | J8: =UMGC!H27 -> 0 | K8: =UMGC!H29 -> 0 | L8: =UMGC!H31 -> 0 | M8: =UMGC!H33 -> 0 | N8: =UMGC!H35 -> 0 | O8: =SUM(C8:N8) -> 105987.11
A9: CES | C9: =CES!H5 -> 0 | D9: =CES!H7 -> 0 | E9: =CES!H9 -> 0 | F9: =CES!H11 -> 0 | G9: =CES!H13 -> 0 | H9: =CES!H15 -> 0 | I9: =CES!H17 -> 0 | J9: =CES!H19 -> 0 | K9: =CES!H21 -> 0 | L9: =CES!H23 -> 0 | M9: =CES!H27 -> 480.75 | N9: =CES!H31 -> 197650.07 | O9: =SUM(C9:N9) -> 198130.82
A10: USM | C10: =USM!H6 -> 0 | D10: =USM!H11 -> 747.72 | E10: =USM!H16 -> 7291.16 | F10: =USM!H20 -> 50862 | G10: =USM!H22 -> 0 | H10: =USM!H27 -> 38235.06 | I10: =USM!H35 -> 544204.64 | J10: =USM!H37 -> 0 | K10: =USM!H39 -> 0 | L10: =USM!H43 -> 12500 | M10: =USM!H45 -> 0 | N10: =USM!H49 -> 14042 | O10: =SUM(C10:N10) -> 667882.58
A11: BSU | C11: =BSU!H8 -> 3697244.6 | D11: =BSU!H12 -> 4430468.1 | E11: =BSU!H14 -> 0 | F11: =BSU!H27 -> 8025302.6 | G11: =BSU!H34 -> 315719.69 | H11: =BSU!H39 -> 99933.79 | I11: =BSU!H44 -> 60523.69 | J11: =BSU!H54 -> 2405336.5 | K11: =BSU!H62 -> 928853.64 | L11: =BSU!H68 -> 46260.4 | M11: =BSU!H85 -> 832201.37 | N11: =BSU!H89 -> 1608209 | O11: =SUM(C11:N11) -> 22450053
A12: CSU | C12: =CSU!H8 -> 213469.44 | D12: =CSU!H13 -> 272666.14 | E12: =CSU!H15 -> 0 | F12: =CSU!H19 -> 500220.75 | G12: =CSU!H23 -> 239435.11 | H12: =CSU!H30 -> 445768.38 | I12: =CSU!H34 -> 160261.43 | J12: =CSU!H39 -> 157021.52 | K12: =CSU!H41 -> 0 | L12: =CSU!H46 -> 109802.41 | M12: =CSU!H50 -> 429565.38 | N12: =CSU!H54 -> 723354.16 | O12: =SUM(C12:N12) -> 3251564.7
A13: FSU | C13: =FSU!H5 -> 0 | D13: =FSU!H11 -> -73300.52 | E13: =FSU!H13 -> 0 | F13: =FSU!H15 -> 0 | G13: =FSU!H24 -> 132382.38 | H13: =FSU!H26 -> 0 | I13: =FSU!H30 -> 5883.2 | J13: =FSU!H32 -> 0 | K13: =FSU!H34 -> 0 | L13: =FSU!H38 -> 20859 | M13: =FSU!H40 -> 0 | N13: =FSU!H42 -> 0 | O13: =SUM(C13:N13) -> 85824.06
A14: SU | C14: =SU!H5 -> 340954.94 | D14: =SU!H11 -> 521887.11 | E14: =SU!H15 -> 884839.92 | F14: =SU!H20 -> 1648744.7 | G14: =SU!H22 -> 0 | H14: =SU!H26 -> 1367477.4 | I14: =SU!H31 -> 1318223.3 | J14: =SU!H35 -> 21432 | K14: =SU!H42 -> 3857687.4 | L14: =SU!H47 -> 1396946.5 | M14: =SU!H53 -> 1734547.4 | N14: =SU!H58 -> 1448740 | O14: =SUM(C14:N14) -> 14541481
A15: TU | C15: =TU!H9 -> 902959.91 | D15: =TU!H19 -> 1767863.5 | E15: =TU!H30 -> 2252986.3 | F15: =TU!H41 -> 1187553.1 | G15: =TU!H51 -> 2820920.3 | H15: =TU!H61 -> 910860.92 | I15: =TU!H69 -> 1916995.5 | J15: =TU!H82 -> 4035336.9 | K15: =TU!H90 -> 2341901.9 | L15: =TU!H105 -> 1338368.8 | M15: =TU!H112 -> 4157.82 | N15: =TU!H123 -> 7266001.1 | O15: =SUM(C15:N15) -> 26745906
A16: UB | C16: =UB!H5 -> 0 | D16: =UB!H7 -> 0 | E16: =UB!H9 -> 0 | F16: =UB!H11 -> 0 | G16: =UB!H13 -> 0 | H16: =UB!H15 -> 0 | I16: =UB!H17 -> 0 | J16: =UB!H19 -> 0 | K16: =UB!H21 -> 0 | L16: =UB!H23 -> 0 | M16: =UB!H25 -> 0 | O16: =SUM(C16:N16) -> 0
A17: TOTAL | B17: =SUM(B2:B16) -> 0 | C17: =SUM(C2:C16) -> 12368609 | D17: =SUM(D2:D16) -> 11348275 | E17: =SUM(E2:E16) -> 10876541 | F17: =SUM(F2:F16) -> 45028568 | G17: =SUM(G2:G16) -> 11353951 | H17: =SUM(H2:H16) -> 8535686.4 | I17: =SUM(I2:I16) -> 20347475 | ... O17: =SUM(O2:O16) -> 1.9500489e+08
A19: Const-24 | C19: 12368609 | D19: 11348275 | E19: 10876541 | F19: 45028568 | G19: 11353951 | H19: 8535686.4 | I19: 20347475 | J19: 21322334 | K19: 14496948 | L19: 9903687.3 | M19: 11877894 | N19: 17544926 | O19: =SUM(C19:N19) -> 1.9500489e+08
B20: =B19-B17 -> 0 | C20: =C19-C17 -> 0 | D20: =D19-D17 -> 0 | E20: =E19-E17 -> 0 | F20: =F19-F17 -> 0 | G20: =G19-G17 -> 0 | H20: =H19-H17 -> 0 | I20: =I19-I17 -> 0 | ... O20: =O19-O17 -> 0

Sheet UMCP
A3: Date | B3: List Number | C3: Doc # | D3: Campus | E3: Appropriation | F3: Vendor Name | G3: Invoice Number | H3: Amount | I3: Sub-Total
A5: 45483 | B5: FY25-002 | C5: V5600006 | D5: UMCP | E5: 21509 | F5: Electrico | G5: 2274008 | H5: 3000 | I5: =H5 -> 3000
A6: 45489 | B6: FY25-003 | C6: V5600009 | D6: UMCP | E6: 21512 | F6: Whitman, Requardt & Associates, LLP | G6: 090358.007-13 | H6: 4289.05
A7: 45498 | B7: FY25-004 | C7: V5600015 | D7: UMCP | E7: 21512 | F7: Elevator Control Service | G7: 3 | H7: 131961.44 | I7: =H6+H7 -> 136250.49
A8: 45498 | B8: FY25-004 | C8: V5600016 | D8: UMCP | E8: 22106 | F8: James G. Davis Construction Corporation | G8: 20761-005 | H8: 833681.17 | I8: =H8 -> 833681.17
A9: 45498 | B9: FY25-004 | C9: V5600017 | D9: UMCP | E9: 23105 | F9: AECOM Technical Services, Inc. | G9: 2000901236 | H9: 20360.4 | I9: =H9 -> 20360.4
A10: 45489 | B10: FY25-003 | C10: V5600010 | D10: UMCP | E10: 23106 | F10: The Whiting-Turner Contracting Company | G10: 01905-0022 | H10: 3769460.8 | I10: =H10 -> 3769460.8
F12: July 2024 Payment - UMCP | H12: =SUM(H5:H11) -> 4762752.9 | I12: =SUM(I5:I11) -> 4762752.9
A14: 45520 | B14: FY25-007 | C14: 604V5600039 | D14: UMCP | E14: 21512 | F14: Whitman, Requardt & Associates, LLP | G14: 090358.007-14 | H14: 5115.61
A15: 45520 | B15: FY25-007 | C15: 604V5600040 | D15: UMCP | E15: 21512 | F15: Whitman, Requardt & Associates, LLP | G15: 090266.007-11A | H15: 32388.56 | I15: =H14+H15 -> 37504.17
A16: 45506 | B16: FY25-005 | C16: 604V5600028 | D16: UMCP | E16: 23105 | F16: AECOM Technical Services, Inc. | G16: 2000908512 | H16: 20360.4 | I16: =H16 -> 20360.4
A17: 45520 | B17: FY25-007 | C17: 604V5600035 | D17: UMCP | E17: 23108 | F17: Jmes G. Davis Construction Corporation | G17: 20761-006 | H17: 399257.15 | I17: =H17 -> 399257.15
A18: 45532 | B18: FY25-008 | C18: 604V5600046 | D18: UMCP | E18: 23159 | F18: Whitman, Requardt & Associates, LLP | G18: 090266.007-11B | H18: 7669.26 | I18: =H18 -> 7669.26
F20: August 2024 Payment - UMCP | H20: =SUM(H14:H19) -> 464790.98 | I20: =SUM(I14:I19) -> 464790.98
A22: 45555 | B22: FY25-011 | C22: 604V5600063 | D22: UMCP | E22: 20300 | F22: J. Vinton Schafer Construction, LLC | G22: 18 | H22: 113193.87 | I22: =H22 -> 113193.87
A23: 45555 | B23: FY25-011 | C23: 604V5600064 | D23: UMCP | E23: 20603 | F23: DISYS Solutions, Inc. | G23: IN39195 | H23: 4478.84 | I23: =H23 -> 4478.84
A24: 45555 | B24: FY25-011 | C24: 604V5600065 | D24: UMCP | E24: 21512 | F24: Whitman, Requardt & Associates, LLP | G24: 090266.007-12 | H24: 14639.85
A25: 45555 | B25: FY25-011 | C25: 604V5600066 | D25: UMCP | E25: 21512 | F25: Elevator Control Service | G25: 4 | H25: 77686.24
A26: 45560 | B26: FY25-012 | C26: 604V5600072 | D26: UMCP | E26: 21512 | F26: Whitman, Requardt & Associates, LLP | G26: 090358.007-15 | H26: 1023.13 | I26: =SUM(H24:H26) -> 93349.22
A27: 45548 | B27: FY25-010 | C27: 604V5600053 | D27: UMCP | E27: 23105 | F27: AECOM Technical Services, Inc. | G27: 2000920400 | H27: 20896.2 | I27: =H27 -> 20896.2
A28: 45555 | B28: FY25-011 | C28: 604V5600067 | D28: UMCP | E28: 23108 | F28: James G. Davis Construction Corporation | G28: 20761-007 | H28: 78511.4 | I28: =H28 -> 78511.4
A29: 45548 | B29: FY25-010 | C29: 604V5600054 | D29: UMCP | E29: 24100 | F29: The Whiting-Turner Constracting Company | G29: 019505-0023 | H29: 4512719 | I29: =H29 -> 4512719
F31: September 2024 Payment - UMCP | H31: =SUM(H22:H30) -> 4823148.5 | I31: =SUM(I22:I30) -> 4823148.5
A33: 45586 | B33: FY25-015 | C33: 604V5600092 | D33: UMCP | E33: 19316 | F33: Bretco | G33: 13444 | H33: 58398.75 | I33: =H33 -> 58398.75
A34: 45594 | B34: FY25-016 | C34: 604V5600112 | D34: UMCP | E34: 20300 | F34: J. Vinton Schafer Construction, LLC | G34: 19 | H34: 435022
A35: 45594 | B35: FY25-016 | C35: 604V5600113 | D35: UMCP | E35: 20300 | F35: J. Vinton Schafer Construction, LLC | G35: 20 | H35: 240779.25
A36: 45594 | B36: FY25-016 | C36: 604V5600114 | D36: UMCP | E36: 20300 | F36: J. Vinton Schafer Construction, LLC | G36: 22 | H36: 199379.52
A37: 45579 | B37: JA000012 | D37: UMCP | E37: 20300 | F37: UMCP Reimbursements (Correction per UMCP) | G37: Ltr Dtd 10/01/24 | H37: =141514.8+149177.98 -> 290692.78 | I37: =SUM(H34:H37) -> 1165873.6
A38: 45586 | B38: FY25-015 | C38: 604V5600094 | D38: UMCP | E38: 20603 | F38: Aramark | G38: 000002875-001523 | H38: 12716 | I38: =H38 -> 12716
A39: 45586 | B39: FY25-015 | C39: 604V5600103 | D39: UMCP | E39: 21512 | F39: Whitman, Requardt & Associates, LLP | G39: 090358.007-16 | H39: 511.56
A40: 45594 | B40: FY25-016 | C40: 604V5600115 | D40: UMCP | E40: 21512 | F40: Whitman, Requardt & Associates, LLP | G40: 090266.007-13 | H40: 17878.4 | I40: =H39+H40 -> 18389.96
A41: 45594 | B41: FY25-016 | C41: 604V5600116 | D41: UMCP | E41: 22106 | F41: Demolition Services, Inc. | G41: Final Retainage | H41: 75513.1
A42: 45594 | B42: FY25-016 | C42: 604V5600117 | D42: UMCP | E42: 22106 | F42: Demolition Services, Inc. | G42: 10 Final | H42: 2052 | I42: =H41+H42 -> 77565.1
A43: 45586 | B43: FY25-015 | C43: 604V5600098 | D43: UMCP | E43: 23105 | F43: AECOM Technical Services, Inc. | G43: 2000931121 | H43: 23575.2
A44: 45594 | B44: FY25-016 | C44: 604V5600118 | D44: UMCP | E44: 23105 | F44: Bowman | G44: 430215 | H44: 13365
A45: 45594 | B45: FY25-016 | C45: 604V5600119 | D45: UMCP | E45: 23105 | F45: Bowman | G45: 434384 | H45: 4873
A46: 45594 | B46: FY25-016 | C46: 604V5600120 | D46: UMCP | E46: 23105 | F46: Bowman | G46: 444205 | H46: 2388.8 | I46: =SUM(H43:H46) -> 44202
A47: 45586 | B47: FY25-015 | C47: 604V5600102 | D47: UMCP | E47: 23106 | F47: AECOM Technical Services, Inc. | G47: 2000942367 | H47: 21432 | I47: =H47 -> 21432
A48: 45586 | B48: FY25-015 | C48: 604V5600104 | D48: UMCP | E48: 23108 | F48: James G. Davis Construction Corporation | G48: 20761-008 | H48: 148691.44
A49: 45586 | B49: FY25-015 | C49: 604V5600105 | D49: UMCP | E49: 23108 | F49: James G. Davis Construction Corporation | G49: 20761-009 | H49: 567453.06
...

Sheet UMB
A3: Date | B3: List Number | C3: Doc # | D3: Campus | E3: Appropriation | F3: Vendor Name | G3: Invoice Number | H3: Amount | I3: Sub-Total
A5: 45498 | B5: FY25-004 | C5: V5600018 | D5: UMB | E5: 17173 | F5: RMF Engineering | G5: 2406251 | H5: 10721.8 | I5: =H5 -> 10721.8
A6: 45489 | B6: FY25-003 | C6: V5600007 | D6: UMB | E6: 19316 | F6: Emjay Engineering & Construction | G6: 2 | H6: 289393.75 | I6: =H6 -> 289393.75
F8: July 2024 Payment - UMB | H8: =SUM(H5:H7) -> 300115.55 | I8: =SUM(I5:I7) -> 300115.55
A10: 45520 | B10: FY25-007 | C10: 604V5600042 | D10: UMB | E10: 17173 | F10: RMF Engineering | G10: 2407149 | H10: 10721.8 | I10: =H10 -> 10721.8
A11: 45506 | B11: FY25-005 | C11: 604V5600026 | D11: UMB | E11: 19316 | F11: Emjay Engineering & Construction | G11: 3 | H11: 479607.5
A12: 45532 | B12: FY25-008 | C12: 604V5600043 | D12: UMB | E12: 19316 | F12: Emjay Engineering & Construction | G12: 4 | H12: 346010.25 | I12: =H11+H12 -> 825617.75
A13: 45520 | B13: FY25-007 | C13: 604V5600041 | D13: UMB | E13: 22100 | F13: The Whiting-Turner Constracting Company | G13: 007 | H13: 13648.77 | I13: =H13 -> 13648.77
A14: 45506 | B14: FY25-005 | C14: 604V5600027 | D14: UMB | E14: 22101 | F14: Emjay Engineering & Construction | G14: 9 | H14: 123136.87 | I14: =H14 -> 123136.87
F16: August 2024 Payment - UMB | H16: =SUM(H10:H15) -> 973125.19 | I16: =SUM(I10:I15) -> 973125.19
A18: 45540 | B18: FY25-009 | C18: 604V5600047 | D18: UMB | E18: 22101 | F18: Emjay Engineering & Construction | G18: 10 | H18: 45429.85 | I18: =H18 -> 45429.85
A19: 45540 | B19: FY25-009 | C19: 604V5600048 | D19: UMB | E19: 23102 | F19: Ballinger | G19: 46104 | H19: 204214.51
A20: 45540 | B20: FY25-009 | C20: 604V5600051 | D20: UMB | E20: 23102 | F20: FST HEA | G20: R7024Z-108-1 | H20: 1552
A21: 45555 | B21: FY25-011 | C21: 604V5600059 | D21: UMB | E21: 23102 | F21: Ballinger | G21: 46130 | H21: 232992.97
A22: 45555 | B22: FY25-011 | C22: 604V5600060 | D22: UMB | E22: 23102 | F22: FST HEA | G22: R7024Z-108-2 | H22: 2735
A23: 45555 | B23: FY25-011 | C23: 604V5600061 | D23: UMB | E23: 23102 | F23: FST HEA | G23: R7024Z-108-3 | H23: 1000
A24: 45555 | B24: FY25-011 | C24: 604V5600062 | D24: UMB | E24: 23102 | F24: FST HEA | G24: R7024Z-108-4 | H24: 618.75 | I24: =SUM(H19:H24) -> 443113.23
F26: September 2024 Payment - UMB | H26: =SUM(H18:H25) -> 488543.08 | I26: =SUM(I18:I25) -> 488543.08
A28: 45586 | B28: FY25-015 | C28: 604V5600101 | D28: UMB | E28: 23102 | F28: Ballinger | G28: 46185 | H28: 229839.25
A29: 45586 | B29: FY25-015 | C29: 604V5600100 | D29: UMB | E29: 23102 | F29: FST HEA | G29: R7024Z-108-5 | H29: 2860 | I29: =H28+H29 -> 232699.25
F31: October 2024 Payment - UMB | H31: =SUM(H28:H30) -> 232699.25 | I31: =SUM(I28:I30) -> 232699.25
A33: 45614 | B33: FY25-020 | C33: 604V5600134 | D33: UMB | E33: 22100 | F33: The Whiting-Turner Constracting Company | G33: 008 | H33: 308237.24 | I33: =H33 -> 308237.24
A34: 45614 | B34: FY25-020 | C34: 604V5600135 | D34: UMB | E34: 23102 | F34: FST HEA | G34: R7024Z-108-6 | H34: 1360
A35: 45614 | B35: FY25-020 | C35: 604V5600139 | D35: UMB | E35: 23102 | F35: Ballinger | G35: 46338 | H35: 353583.49 | I35: =H34+H35 -> 354943.49
F37: November 2024 Payment - UMB | H37: =SUM(H33:H36) -> 663180.73 | I37: =SUM(I33:I36) -> 663180.73
A39: 45630 | B39: FY25-022 | C39: 604V5600156 | D39: UMB | E39: 23102 | F39: Bowman | G39: 458142 | H39: 20034
A40: 45643 | B40: FY25-023 | C40: 604V5600165 | D40: UMB | E40: 23102 | F40: Bowman | G40: 465232 | H40: 1113
A41: 45643 | B41: FY25-023 | C41: 604V5600166 | D41: UMB | E41: 23102 | F41: FST HEA | G41: R7024Z-108-7 | H41: 587.5 | I41: =H39+H40+H41 -> 21734.5
F43: December 2024 Payment - UMB | H43: =SUM(H39:H42) -> 21734.5 | I43: =SUM(I39:I42) -> 21734.5
A45: 45678 | B45: FY25-028 | C45: 604V5600198 | D45: UMB | E45: 20299 | F45: Highlander Contracting Company | G45: 18 | H45: 220637.44 | I45: =H45 -> 220637.44
A46: 45688 | B46: FY25-029 | C46: 604V5600204 | D46: UMB | E46: 23102 | F46: Ballinger | G46: 46547 | H46: 481680.91
A47: 45678 | B47: FY25-028 | C47: 604V5600200 | D47: UMB | E47: 23102 | F47: Bowman | G47: 469183 | H47: 3339
A48: 45678 | B48: FY25-028 | C48: 604V5600199 | D48: UMB | E48: 23102 | F48: FST HEA | G48: R7024Z-108-8 | H48: 5742.15 | I48: =H46+H47+H48 -> 490762.06
F50: January 2025 Payment - UMB | H50: =SUM(H44:H49) -> 711399.5 | I50: =SUM(I44:I49) -> 711399.5
A52: 45714 | B52: FY25-033 | C52: 604P5600195 | D52: UMB | E52: 20299 | F52: Pipeway Energy Construction, Inc. | G52: 20 | H52: 205073.06 | I52: =H52 -> 205073.06
A53: 45701 | B53: FY25-031 | C53: 604P5600185 | D53: UMB | E53: 23102 | F53: Ballinger | G53: 46567 | H53: 691014.72
A54: 45709 | B54: FY25-032 | C54: 604P5600190 | D54: UMB | E54: 23102 | F54: Ballinger | G54: 46627 | H54: 229736.97 | I54: =H53+H54 -> 920751.69
F56: February 2025 Payment - UMB | H56: =SUM(H52:H55) -> 1125824.8 | I56: =SUM(I52:I55) -> 1125824.8
A58: 45740 | B58: FY25-036 | C58: 604P5600218 | D58: UMB | E58: 17173 | F58: RMF Engineering | G58: 2501228 | H58: 9812.95 | I58: =H58 -> 9812.95
A59: 45729 | B59: FY25-035 | C59: 604P5600206 | D59: UMB | E59: 20299 | F59: Highlander Contracting Company | G59: 19 | H59: 44954 | I59: =H59 -> 44954
...

Sheet UMBI
A3: Date | B3: List Number | C3: Doc # | D3: Campus | E3: Appropriation | F3: Vendor Name | G3: Invoice Number | H3: Amount | I3: Sub-Total
F5: No Activity in July, 2024
F7: No Activity in August, 2024
F9: No Activity in September, 2024
F11: No Activity in October, 2024
F13: No Activity in November, 2024
F15: No Activity in December, 2024
F17: No Activity in January, 2025
F19: No Activity in February, 2025
F21: No Activity in March, 2025
F23: No Activity in April, 2025
F25: No Activity in May, 2025
F27: No Activity in Jun, 2025

Sheet UMES
A3: Date | B3: List Number | C3: Doc # | D3: Campus | E3: Appropriation | F3: Vendor Name | G3: Invoice Number | H3: Amount | I3: Sub-Total
F5: No Activity in July, 2024
F7: No Activity in August, 2024
F9: No Activity in September, 2024
A11: 45594 | B11: FY25-016 | C11: 604V5600122 | D11: UMES | E11: 22109 | F11: Ayers Saint Gross | G11: 0021749.00-52 | H11: 42266.76
A12: 45586 | B12: FY25-015 | C12: 604V5600093 | D12: UMES | E12: 22109 | F12: Vigil | G12: 223-012-04 | H12: 238153.46 | I12: =H11+H12 -> 280420.22
A13: 45586 | B13: FY25-015 | C13: 604V5600106 | D13: UMES | E13: 22110 | F13: Bancroft Construction | G13: 1124841 | H13: 471153.45
A14: 45586 | B14: FY25-015 | C14: 604V5600107 | D14: UMES | E14: 22110 | F14: Bancroft Construction | G14: 2124841 | H14: 312316.3 | I14: =H13+H14 -> 783469.75
F16: October 2024 Payment - UMES | H16: =SUM(H11:H15) -> 1063890 | I16: =SUM(I11:I15) -> 1063890
F18: No Activity in November, 2024
F20: No Activity in December, 2024
A22: 45664 | B22: FY25-026 | C22: 604V5600177 | D22: UMES | E22: 22109 | F22: Gilbane Building Company | G22: 54 | H22: 272737.86
A23: 45673 | B23: FY25-027 | C23: 604V5600190 | D23: UMES | E23: 22109 | F23: Vigil Contracting | G23: 223-012.05 | H23: 25907.2 | I23: =H22+H23 -> 298645.06
A24: 45673 | B24: FY25-027 | C24: 604V5600191 | D24: UMES | E24: 22110 | F24: Bancroft Construction | G24: 3 | H24: 289275
A25: 45673 | B25: FY25-027 | C25: 604V5600192 | D25: UMES | E25: 22110 | F25: Bancroft Construction | G25: 4 | H25: 496850 | I25: =H24+H25 -> 786125
F27: January 2025 Payment - UMES | H27: =SUM(H22:H26) -> 1084770.1 | I27: =SUM(I22:I26) -> 1084770.1
A29: 45694 | B29: FY25-030 | C29: 604P5600174 | D29: UMES | E29: 22110 | F29: Bancroft Construction | G29: 6 | H29: 171000
A30: 45694 | B30: FY25-030 | C30: 604P5600175 | D30: UMES | E30: 22110 | F30: Bancroft Construction | G30: 5 | H30: 76000 | I30: =H29+H30 -> 247000
F32: February 2025 Payment - UMES | H32: =SUM(H29:H31) -> 247000 | I32: =SUM(I29:I31) -> 247000
A34: 45729 | B34: FY25-035 | C34: 604P5600212 | D34: UMES | E34: 22110 | F34: Bancroft Construction | G34: 7 | H34: 343686.18 | I34: =H34 -> 343686.18
F36: March 2025 Payment - UMES | H36: =SUM(H34:H35) -> 343686.18 | I36: =SUM(I34:I35) -> 343686.18
A38: 45763 | B38: FY25-040 | C38: 604V5600281 | D38: UMES | E38: 22109 | F38: Ayers Saint Gross | G38: 0021749.00-53 | H38: 2636.64 | I38: =H38 -> 2636.64
F40: April 2025 Payment - UMES | H40: =SUM(H38:H39) -> 2636.64 | I40: =SUM(I38:I39) -> 2636.64
A42: 45784 | B42: FY25-045 | C42: 604V5600298 | D42: UMES | E42: 22109 | F42: Vigil Contracting | G42: 223-012-06 | H42: 6705.11 | I42: =H42 -> 6705.11
A43: 45784 | B43: FY25-045 | C43: 604V5600296 | D43: UMES | E43: 22110 | F43: Bancroft Construction | G43: 9 | H43: 288186.57
A44: 45784 | B44: FY25-045 | C44: 604V5600297 | D44: UMES | E44: 22110 | F44: Bancroft Construction | G44: 8 | H44: 236075
A45: 45797 | B45: JA000058 | D45: UMES | E45: 22110 | F45: UMCP OSCR Reimbursement | G45: Ltr Dtd 05/16/25 | H45: =39341.375-39341.375+39341.38 -> 39341.38 | I45: =H43+H44+H45 -> 563602.95
F47: May 2025 Payment - UMES | H47: =SUM(H42:H46) -> 570308.06 | I47: =SUM(I42:I46) -> 570308.06
F49: No Activity in Jun, 2025

Sheet UMBC
A3: Date | B3: List Number | C3: Doc # | D3: Campus | E3: Appropriation | F3: Vendor Name | G3: Invoice Number | H3: Amount | I3: Sub-Total
A5: 45498 | B5: FY25-004 | C5: V5600019 | D5: UMBC | E5: 21518 | F5: Page Southerland Page, Inc. | G5: 1P21070.01-18 | H5: 66558.75 | I5: =H5 -> 66558.75
A6: 45483 | B6: FY25-002 | C6: V5600005 | D6: UMBC | E6: 22114 | F6: The Whiting-Turner Constracting Company | G6: 025 | H6: 1736031
A7: 45489 | B7: FY25-003 | C7: V5600008 | D7: UMBC | E7: 22114 | F7: The Whiting-Turner Constracting Company | G7: 7 | H7: 52417
A8: 45489 | B8: FY25-003 | C8: V5600011 | D8: UMBC | E8: 22114 | F8: RK&K | G8: 23063.000-15 | H8: 296104.72 | I8: =H6+H7+H8 -> 2084552.7
F10: July 2024 Payment - UMBC | H10: =SUM(H5:H9) -> 2151111.4 | I10: =SUM(I5:I9) -> 2151111.4
A12: 45520 | B12: FY25-007 | C12: 604V5600038 | D12: UMBC | E12: 21518 | F12: Page Southerland Page, Inc. | G12: 1P21070.01-19 | H12: 71825.53
A13: 45532 | B13: FY25-008 | C13: 604V5600044 | D13: UMBC | E13: 21518 | F13: Coleman Consulting | G13: 22F1.00-16 | H13: 1104.64
A14: 45532 | B14: FY25-008 | C14: 604V5600045 | D14: UMBC | E14: 21518 | F14: James Posey Associates | G14: 7667-22-11 | H14: 4057.5 | I14: =H12+H13+H14 -> 76987.67
A15: 45511 | B15: FY25-006 | C15: 604V5600032 | D15: UMBC | E15: 22114 | F15: The Whiting-Turner Constracting Company | G15: 026 | H15: 2904601.4 | I15: =H15 -> 2904601.4
F17: August 2024 Payment - UMBC | H17: =SUM(H12:H16) -> 2981589.1 | I17: =SUM(I12:I16) -> 2981589.1
A19: 45560 | B19: FY25-012 | C19: 604V5600069 | D19: UMBC | E19: 21518 | F19: Page Southerland Page, Inc. | G19: 1P21070.01-20 | H19: 61560.25
A20: 45560 | B20: FY25-012 | C20: 604V5600070 | D20: UMBC | E20: 21518 | F20: Coleman Consulting | G20: 22F1.00-17 | H20: 1656.96 | I20: =H19+H20 -> 63217.21
A21: 45540 | B21: FY25-009 | C21: 604V5600049 | D21: UMBC | E21: 22114 | F21: RK&K | G21: 23063.000-16 | H21: 121230.9
A22: 45540 | B22: FY25-009 | C22: 604V5600052 | D22: UMBC | E22: 22114 | F22: The Whiting-Turner Constracting Company | G22: 027 | H22: 2128030.9
A23: 45560 | B23: FY25-012 | C23: 604V5600071 | D23: UMBC | E23: 22114 | F23: RK&K | G23: 23063.000-17 | H23: 96945.16 | I23: =H21+H22+H23 -> 2346207
F25: September 2024 Payment - UMBC | H25: =SUM(H19:H24) -> 2409424.2 | I25: =SUM(I20:I24) -> 2409424.2
A27: 45586 | B27: FY25-015 | C27: 604V5600099 | D27: UMBC | E27: 21518 | F27: Page Southerland Page, Inc. | G27: 1P21070.01-21 | H27: 81312.22 | I27: =H27 -> 81312.22
F29: October 2024 Payment - UMBC | H29: =H27 -> 81312.22 | I29: =I27 -> 81312.22
A31: 45614 | B31: FY25-020 | C31: 604V5600138 | D31: UMBC | E31: 21518 | F31: The Whiting-Turner Constracting Company | G31: 028(Split) | H31: 10000
A32: 45621 | B32: FY25-021 | C32: 604V5600145 | D32: UMBC | E32: 21518 | F32: Page Southerland Page, Inc. | G32: 1P21070.01-22 | H32: 70048.5 | I32: =H31+H32 -> 80048.5
A33: 45601 | B33: FY25-018 | C33: 604V5600127 | D33: UMBC | E33: 22114 | F33: The Whiting-Turner Constracting Company | G33: 028(Split) | H33: 364524.99
A34: 45614 | B34: FY25-020 | C34: 604V5600136 | D34: UMBC | E34: 22114 | F34: RK&K | G34: 23063.000-19 | H34: 60368.28
A35: 45614 | B35: FY25-020 | C35: 604V5600137 | D35: UMBC | E35: 22114 | F35: RK&K | G35: 23063.000-18 | H35: 163407.5 | I35: =H33+H34+H35 -> 588300.77
A36: 45601 | B36: FY25-018 | C36: 604V5600128 | D36: UMBC | E36: 23119 | F36: The Whiting-Turner Constracting Company | G36: 028(Split) | H36: 3842930
A37: 45621 | B37: FY25-021 | C37: 604V5600146 | D37: UMBC | E37: 23119 | F37: Hammerhead Stoneworks | G37: BC-21244-M Invoice 1 | H37: 36197.2
A38: 45621 | B38: FY25-021 | C38: 604V5600147 | D38: UMBC | E38: 23119 | F38: The Whiting-Turner Constracting Company | G38: 029 | H38: 2396695.4 | I38: =H36+H37+H38 -> 6275822.6
F40: November 2024 Payment - UMBC | H40: =SUM(H31:H39) -> 6944171.8 | I40: =SUM(I31:I39) -> 6944171.8
A42: 45643 | B42: FY25-023 | C42: 604V5600162 | D42: UMBC | E42: 21518 | F42: Coleman Consulting | G42: 22F1.00-18 | H42: 2209.28
A43: 45643 | B43: FY25-023 | C43: 604V5600163 | D43: UMBC | E43: 21518 | F43: James Posey Associates | G43: 7667-22-12 | H43: 4057.5 | I43: =H42+H43 -> 6266.78
A44: 45643 | B44: FY25-023 | C44: 604V5600160 | D44: UMBC | E44: 23119 | F44: The Whiting-Turner Contracting Company | G44: 030 | H44: 2916656.8
A45: 45645 | B45: FY25-024 | C45: 604V5600171 | D45: UMBC | E45: 23119 | F45: The Whiting-Turner Contracting Company | G45: 031 | H45: 2547830.6 | I45: =H44+H45 -> 5464487.5
F47: December 2024 Payment - UMBC | H47: =SUM(H42:H46) -> 5470754.3 | I47: =SUM(I42:I46) -> 5470754.3
A49: 45673 | B49: FY25-027 | C49: 604V5600185 | D49: UMBC | E49: 22113 | F49: Page Southerland Page, Inc. | G49: 1P21070.01-23 | H49: 55000 | I49: =H49 -> 55000
A50: 45673 | B50: FY25-027 | C50: 604V5600186 | D50: UMBC | E50: 22114 | F50: RK&K | G50: 23063.000-20 | H50: 29340.84
A51: 45678 | B51: FY25-028 | C51: 604V5600201 | D51: UMBC | E51: 22114 | F51: RK&K | G51: 23063.000-21 | H51: 27977.08 | I51: =H50+H51 -> 57317.92
A52: 45688 | B52: FY25-029 | C52: 604V5600205 | D52: UMBC | E52: 23119 | F52: The Whiting-Turner Contracting Company | G52: 32 | H52: 2686123.5 | I52: =H52 -> 2686123.5
F54: January 2025 Payment - UMBC | H54: =SUM(H49:H53) -> 2798441.4 | I54: =SUM(I49:I53) -> 2798441.4
A56: 45701 | B56: FY25-031 | C56: 604P5600188 | D56: UMBC | E56: 21518 | F56: Coleman Consulting | G56: 22F1.00-19 | H56: 2761.6
A57: 45701 | B57: FY25-031 | C57: 604P5600186 | D57: UMBC | E57: 21518 | F57: James Posey Associates | G57: 7667-22-13 | H57: 4057.5 | I57: =H56+H57 -> 6819.1
...

Sheet UMUC
A3: Date | B3: List Number | C3: Doc # | D3: Campus | E3: Appropriation | F3: Vendor Name | G3: Invoice Number | H3: Amount | I3: Sub-Total
F5: No Activity in July, 2024
F7: No Activity in August, 2024
F9: No Activity in September, 2024
F11: No Activity in October, 2024
F13: No Activity in November, 2024
F15: No Activity in December, 2024
F17: No Activity in January, 2025
F19: No Activity in February, 2025
F21: No Activity in March, 2025
F23: No Activity in April, 2025
F25: No Activity in May, 2025
F27: No Activity in Jun, 2025

Sheet UMGC
A3: Date | B3: List Number | C3: Doc # | D3: Campus | E3: Appropriation | F3: Vendor Name | G3: Invoice Number | H3: Amount | I3: Sub-Total
F5: No Activity in July, 2024
A7: 45526 | B7: JA000005 | D7: UMGC | E7: 22112 | F7: UMGC Reimbursement | G7: Ltr Dtd 7/25/24 | H7: 8437.23 | I7: =H7 -> 8437.23
F9: Aug 2024 Payment - UMGC | H9: =+H7 -> 8437.23 | I9: =+I7 -> 8437.23
A11: 45545 | B11: JA000006 | D11: UMGC | E11: 22112 | F11: UMGC Reimbursement | G11: Ltr Dtd 8/21/24 | H11: 10307.73 | I11: =H11 -> 10307.73
F13: Sep 2024 Payment - UMGC | H13: =+H11 -> 10307.73 | I13: =+I11 -> 10307.73
F15: No Activity in October, 2024
F17: No Activity in November, 2024
F19: No Activity in December, 2024
A21: 45688 | B21: JA000029 | D21: UMGC | E21: 22112 | F21: UMGC Reimbursement | G21: Ltr Dtd 01/16/25 | H21: 35278
A22: 45688 | B22: JA000029 | D22: UMGC | E22: 22112 | F22: UMGC Reimbursement | G22: Ltr Dtd 01/27/25 | H22: 22806.34
A23: 45688 | B23: JA000029 | D23: UMGC | E23: 22112 | F23: UMGC Reimbursement | G23: Ltr Dtd 01/30/25 | H23: 29157.81 | I23: =H21+H22+H23 -> 87242.15
F25: Jan 2025 Payment - UMGC | H25: =+H23+H22+H21 -> 87242.15 | I25: =+I23+I22+I21 -> 87242.15
F27: No Activity in February, 2025
F29: No Activity in March, 2025
F31: No Activity in April, 2025
F33: No Activity in May, 2025
F35: No Activity in Jun, 2025

Sheet CES
A3: Date | B3: List Number | C3: Doc # | D3: Campus | E3: Appropriation | F3: Vendor Name | G3: Invoice Number | H3: Amount | I3: Sub-Total
F5: No Activity in July, 2024
F7: No Activity in August, 2024
F9: No Activity in September, 2024
F11: No Activity in October, 2024
F13: No Activity in November, 2024
F15: No Activity in December, 2024
F17: No Activity in January, 2025
F19: No Activity in February, 2025
F21: No Activity in March, 2025
F23: No Activity in April, 2025
A25: 45797 | B25: JA000053 | D25: UMCES | E25: 23120 | F25: UMCP OSCR Reimbursement | G25: Ltr Dtd 05/16/25 | H25: 480.75 | I25: =H25 -> 480.75
F27: May 2025 Payment - UMCES | H27: =SUM(H25:H26) -> 480.75 | I27: =SUM(I25:I26) -> 480.75
A29: 45820 | B29: JA000061 | D29: UMCES | E29: 22115 | F29: UMCES Reimbursement | G29: Ltr Dtd 06/09/25 | H29: =13941.68+23204.18+160504.21 -> 197650.07 | I29: =H29 -> 197650.07
F31: Jun 2025 Payment - UMCES | H31: =SUM(H29:H30) -> 197650.07 | I31: =SUM(I29:I30) -> 197650.07

Sheet USM
A4: Date | B4: List Number | C4: Doc # | D4: Campus | E4: Appropriation | F4: Vendor Name | G4: Invoice Number | H4: Amount | I4: Sub-Total
F6: No Activity in July, 2024
A8: 45506 | B8: FY25-005 | C8: 604V5600023 | D8: USM | E8: 18248 | F8: Fisher Scientific | G8: 3002487 | H8: 413.72
A9: 45506 | B9: FY25-005 | C9: 604V5600024 | D9: USM | E9: 18248 | F9: Fisher Scientific | G9: 3469872 | H9: 334 | I9: =H8+H9 -> 747.72
F11: Aug 2024 Payment - USM | H11: =+H9+H8 -> 747.72 | I11: =+I9 -> 747.72
A13: 45560 | B13: FY25-012 | C13: 604V5600075 | D13: USM | E13: 21519 | F13: Global Industrial | G13: 122337994 | H13: 6122.75 | I13: =H13 -> 6122.75
A14: 45560 | B14: FY25-012 | C14: 604V5600076 | D14: USM | E14: 21519 | F14: Global Industrial | G14: 122348963 | H14: 1168.41 | I14: =H14 -> 1168.41
F16: Sep 2024 Payment - USM | H16: =+H14+H13 -> 7291.16 | I16: =+I14+I13 -> 7291.16
A18: 45586 | B18: FY25-015 | C18: 604V5600096 | D18: USM | E18: 18248 | F18: Armfield | G18: SI-000311/1 | H18: 50862 | I18: =H18 -> 50862
F20: Oct 2024 Payment - USM | H20: =H18 -> 50862 | I20: =I18 -> 50862
F22: No Activity in November, 2024
A24: 45630 | B24: FY25-022 | C24: 604V5600152 | D24: USM | E24: 18248 | F24: Cooper Carry | G24: 000071 | H24: 18805.84 | I24: =H24 -> 18805.84
A25: 45630 | B25: FY25-022 | C25: 604V5600155 | D25: USM | E25: 21519 | F25: Global Industrial | G25: 122592309 | H25: 19429.22 | I25: =H25 -> 19429.22
F27: Dec 2024 Payment - USM | H27: =+H25+H24 -> 38235.06 | I27: =+I25+I24 -> 38235.06
A29: 45664 | B29: FY25-026 | C29: 604V5600178 | D29: USM | E29: 18248 | F29: Fisher Scientific | G29: 0597192 | H29: 695.09
A30: 45664 | B30: FY25-026 | C30: 604V5600179 | D30: USM | E30: 18248 | F30: Fisher Scientific | G30: 0636750 | H30: 3141.05
A31: 45664 | B31: FY25-026 | C31: 604V5600180 | D31: USM | E31: 18248 | F31: Fisher Scientific | G31: 1135599 | H31: 23318.4
A32: 45664 | B32: FY25-026 | C32: 604V5600181 | D32: USM | E32: 18248 | F32: Fisher Scientific | G32: 0978088 | H32: 4440.1
A33: 45678 | B33: FY25-028 | C33: 604V5600202 | D33: USM | E33: 18248 | F33: Gilbane Building Company | G33: 74 | H33: 512610 | I33: =H29+H30+H31+H32+H33 -> 544204.64
F35: Jan 2025 Payment - USM | H35: =+H33+H32+H29+H30+H31 -> 544204.64 | I35: =+I33+I32+I29+I30+I31 -> 544204.64
F37: No Activity in February, 2025
F39: No Activity in March, 2025
A41: 45775 | B41: FY25-042 | C41: 604V5600289 | D41: USM | E41: 21519 | F41: Po Shu Wang | G41: 01 | H41: 12500 | I41: =H41 -> 12500
F43: Apr 2025 Payment - USM | H43: =H41 -> 12500 | I43: =I41 -> 12500
F45: No Activity in May, 2025
A47: 45828 | B47: FY25-053 | C47: 604V5600359 | D47: USM | E47: 18248 | F47: Amtek Company, Inc. | G47: 514542 | H47: 14042 | I47: =H47 -> 14042
F49: Jun 2025 Payment - USM | H49: =H47 -> 14042 | I49: =I47 -> 14042

Sheet BSU
A3: Date | B3: List Number | C3: Doc # | D3: Campus | E3: Appropriation | F3: Vendor Name | G3: Invoice # | H3: Amount | I3: Sub-Total
A5: 45498 | B5: FY25-004 | C5: V5600012 | D5: BSU | E5: 22107 | F5: Rich Moe Enterprises, LLC | G5: 4619 | H5: 180717.61 | I5: =H5 -> 180717.61
A6: 45483 | B6: FY25-002 | C6: V5600003 | D6: BSU | E6: 23109 | F6: The Whiting-Turner Constracting Company | G6: 018510-0049 | H6: 3516527 | I6: =H6 -> 3516527
F8: July 2024 Payment - BSU | H8: =H5+H6 -> 3697244.6 | I8: =I5+I6 -> 3697244.6
A10: 45506 | B10: FY25-005 | C10: 604V5600022 | D10: BSU | E10: 23109 | F10: The Whiting-Turner Constracting Company | G10: 018510-0050 | H10: 4430468.1 | I10: =H10 -> 4430468.1
F12: Aug 2024 Payment - BSU | H12: =+H10 -> 4430468.1 | I12: =+I10 -> 4430468.1
F14: No Activity in September, 2024
A16: 45586 | B16: FY25-015 | C16: 604V5600090 | D16: BSU | E16: 20303 | F16: The Whiting-Turner Constracting Company | G16: 018510-0052 | H16: 150000 | I16: =H16 -> 150000
A17: 45586 | B17: FY25-015 | C17: 604V5600088 | D17: BSU | E17: 22107 | F17: The Whiting-Turner Constracting Company | G17: 018510-0052 | H17: 415000 | I17: =H17 -> 415000
A18: 45586 | B18: FY25-015 | C18: 604V5600089 | D18: BSU | E18: 23109 | F18: The Whiting-Turner Constracting Company | G18: 018510-0052 | H18: 1528320.8
A19: 45594 | B19: FY25-016 | C19: 604V5600108 | D19: BSU | E19: 23109 | F19: The Whiting-Turner Constracting Company | G19: 018510-0053 | H19: 1415173
A20: 45594 | B20: FY25-016 | C20: 604V5600109 | D20: BSU | E20: 23109 | F20: The Whiting-Turner Constracting Company | G20: 018510-0054 | H20: 2234607
A21: 45586 | B21: FY25-015 | C21: 604V5600097 | D21: BSU | E21: 23109 | F21: Turner & Townsend Heery | G21: PJIN0041357 | H21: 15769.6
A22: 45594 | B22: FY25-016 | C22: 604V5600110 | D22: BSU | E22: 23109 | F22: Turner & Townsend Heery | G22: PJIN0041580 | H22: 12902.4
A23: 45579 | B23: JA000009 | D23: BSU | E23: 23109 | F23: UMCP Reimbursements (Correction per UMCP) | G23: Ltr Dtd 10/01/24 | H23: 2144511.2
A24: 45575 | B24: FY25-014 | C24: 604V5600085 | D24: BSU | E24: 23109 | F24: Washington Workplace | G24: CL231124A1 | H24: 90810.6
A25: 45575 | B25: FY25-014 | C25: 604V5600086 | D25: BSU | E25: 23109 | F25: Washington Workplace | G25: CL240347A | H25: 18208.08 | I25: =SUM(H18:H25) -> 7460302.6
F27: Oct 2024 Payment - BSU | H27: =SUM(H16:H25) -> 8025302.6 | I27: =SUM(I16:I25) -> 8025302.6
A29: 45607 | B29: FY25-019 | C29: 604V5600129 | D29: BSU | E29: 22107 | F29: Rich Moe Enterprises, LLC | G29: 4632 | H29: 66245.2
A30: 45607 | B30: FY25-019 | C30: 604V5600130 | D30: BSU | E30: 22107 | F30: CDW | G30: HE2306595 | H30: 93808.97
A31: 45607 | B31: FY25-019 | C31: 604V5600131 | D31: BSU | E31: 22107 | F31: CDW | G31: HE2407490 | H31: 2000 | I31: =H29+H30+H31 -> 162054.17
A32: 45601 | B32: JA000014 | D32: BSU | E32: 23109 | F32: UMCP Reimbursements | G32: Ltr Dtd 10/24/24 | H32: 153665.52 | I32: =H32 -> 153665.52
F34: Nov 2024 Payment - BSU | H34: =SUM(H29:H32) -> 315719.69 | I34: =SUM(I29:I32) -> 315719.69
A36: 45645 | B36: FY25-024 | C36: 604V5600167 | D36: BSU | E36: 22107 | F36: Rich Moe Enterprises, LLC | G36: 4665 | H36: 54787.79 | I36: =H36 -> 54787.79
A37: 45638 | B37: JA000026 | D37: BSU | E37: 23109 | F37: Maryland Correctional Enterprises | G37: C09529 | H37: 45146 | I37: =H37 -> 45146
F39: Dec 2024 Payment - BSU | H39: =SUM(H36:H37) -> 99933.79 | I39: =SUM(I36:I37) -> 99933.79
A41: 45660 | B41: FY25-025 | C41: 604V5600173 | D41: BSU | E41: 22107 | F41: CDW | G41: USC0000001923 | H41: 46904.49 | I41: =H41 -> 46904.49
A42: 45673 | B42: FY25-027 | C42: 604V5600193 | D42: BSU | E42: 24112 | F42: Turner & Townsend Heery | G42: PJIN0042379 | H42: 13619.2 | I42: =H42 -> 13619.2
F44: Jan 2025 Payment - BSU | H44: =SUM(H41:H42) -> 60523.69 | I44: =SUM(I41:I42) -> 60523.69
A46: 45694 | B46: FY25-030 | C46: 604P5600180 | D46: BSU | E46: 23109 | F46: The Whiting-Turner Contracting Company | G46: 018510-0055 | H46: 2386273.5
A47: 45714 | B47: FY25-033 | C47: 604P5600197 | D47: BSU | E47: 23109 | F47: Turner & Townsend Heery | G47: PJIN0042733 | H47: 14336
A48: 45716 | B48: JA000040 | D48: BSU | E48: 23109 | F48: Maryland Correctional Enterprises | G48: H02819 | H48: 1828
A49: 45716 | B49: JA000040 | D49: BSU | E49: 23109 | F49: Maryland Correctional Enterprises | G49: H02789 | H49: 951
A50: 45716 | B50: JA000040 | D50: BSU | E50: 23109 | F50: Maryland Correctional Enterprises | G50: H02820 | H50: 424
A51: 45716 | B51: JA000040 | D51: BSU | E51: 23109 | F51: Maryland Correctional Enterprises | G51: H02821 | H51: 914
A52: 45716 | B52: JA000040 | D52: BSU | E52: 23109 | F52: Maryland Correctional Enterprises | G52: H03194 | H52: 610 | I52: =SUM(H46:H52) -> 2405336.5
F54: Feb 2025 Payment - BSU | H54: =SUM(H46:H52) -> 2405336.5 | I54: =SUM(I46:I52) -> 2405336.5
A56: 45740 | B56: JA000041(1) | D56: BSU | E56: 23109 | F56: Maryland Correctional Enterprises | G56: H03383(Partial) | H56: 51271
A57: 45740 | B57: JA000041(2) | D57: BSU | E57: 23109 | F57: Maryland Correctional Enterprises | G57: H03385 | H57: 117797
A58: 45721 | B58: FY25-034 | C58: 604P5600198 | D58: BSU | E58: 23109 | F58: The Whiting-Turner Contracting Company | G58: 018510-0056 | H58: 596500
...

Sheet CSU
A3: Date | B3: List Number | C3: Doc # | D3: Campus | E3: Appropriation | F3: Vendor Name | G3: Invoice Number | H3: Amount | I3: Sub-Total
A5: 45476 | B5: FY25-001 | C5: V5600001 | D5: CSU | E5: 21516 | F5: Quinn Evans | G5: 6th | H5: 180469.44 | I5: =H5 -> 180469.44
A6: 45476 | B6: FY25-001 | C6: V5600002 | D6: CSU | E6: 23116 | F6: ATC Corp. | G6: 18663 | H6: 33000 | I6: =H6 -> 33000
F8: July 2024 Payment - CSU | H8: =SUM(H5:H7) -> 213469.44 | I8: =SUM(I5:I7) -> 213469.44
A10: 45506 | B10: FY25-005 | C10: 604V5600029 | D10: CSU | E10: 21516 | F10: Quinn Evans | G10: 7th | H10: 181595.45 | I10: =H10 -> 181595.45
A11: 45520 | B11: FY25-007 | C11: 604V5600036 | D11: CSU | E11: 22111 | F11: Consigli Construction Co., Inc. | G11: 2nd | H11: 91070.69 | I11: =H11 -> 91070.69
F13: Aug 2024 Payment - CSU | H13: =SUM(H9:H11) -> 272666.14 | I13: =SUM(I9:I11) -> 272666.14
F15: No Activity in September, 2024
A17: 45568 | B17: FY25-013 | C17: 604V5600084 | D17: CSU | E17: 21516 | F17: Quinn Evans | G17: 8th | H17: 500220.75 | I17: =H17 -> 500220.75
F19: Oct 2024 Payment - CSU | H19: =H17 -> 500220.75 | I19: =I17 -> 500220.75
A21: 45601 | B21: FY25-018 | C21: 604V5600125 | D21: CSU | E21: 21516 | F21: Quinn Evans | G21: 9th | H21: 239435.11 | I21: =H21 -> 239435.11
F23: Nov 2024 Payment - CSU | H23: =H21 -> 239435.11 | I23: =I21 -> 239435.11
A25: 45643 | B25: FY25-023 | C25: 604V5600158 | D25: CSU | E25: 21516 | F25: Quinn Evans | G25: 10th | H25: 164415.46
A26: 45645 | B26: FY25-024 | C26: 604V5600169 | D26: CSU | E26: 21516 | F26: Quinn Evans | G26: 11th(Split) | H26: 92541.14 | I26: =H25+H26 -> 256956.6
A27: 45645 | B27: FY25-024 | C27: 604V5600168 | D27: CSU | E27: 22111 | F27: Quinn Evans | G27: 11th(Split) | H27: 159701.78 | I27: =H27 -> 159701.78
A28: 45645 | B28: FY25-024 | C28: 604V5600170 | D28: CSU | E28: 23116 | F28: ATC Corp. | G28: 18973 | H28: 29110 | I28: =H28 -> 29110
F30: Dec 2024 Payment - CSU | H30: =SUM(H25:H29) -> 445768.38 | I30: =SUM(I25:I29) -> 445768.38
A32: 45688 | B32: FY25-029 | C32: 604V5600203 | D32: CSU | E32: 22111 | F32: Quinn Evans | G32: 12th | H32: 160261.43 | I32: =H32 -> 160261.43
F34: Jan 2025 Payment - CSU | H34: =H32 -> 160261.43 | I34: =I32 -> 160261.43
A36: 45694 | B36: FY25-030 | C36: 604P5600170 | D36: CSU | E36: 22111 | F36: Consigli Construction Co., Inc. | G36: 3rd | H36: 125416.36
A37: 45709 | B37: FY25-032 | C37: 604P5600191 | D37: CSU | E37: 22111 | F37: Quinn Evans | G37: 13th | H37: 31605.16 | I37: =H37+H36 -> 157021.52
F39: Feb 2025 Payment - CSU | H39: =H37+H36 -> 157021.52 | I39: =I37+I36 -> 157021.52
F41: No Activity in March, 2025
A43: 45754 | B43: FY25-038 | C43: 604V5600264 | D43: CSU | E43: 22111 | F43: Quinn Evans | G43: 14th | H43: 56201.19
A44: 45770 | B44: FY25-041 | C44: 604V5600287 | D44: CSU | E44: 22111 | F44: Quinn Evans | G44: 15th | H44: 53601.22 | I44: =H43+H44 -> 109802.41
F46: Apr 2025 Payment - CSU | H46: =H44+H43 -> 109802.41 | I46: =I44+I43 -> 109802.41
A48: 45791 | B48: FY25-047 | C48: 604V5600317 | D48: CSU | E48: 22111 | F48: Consigli Construction Co., Inc. | G48: 4th | H48: 429565.38 | I48: =H48 -> 429565.38
F50: May 2025 Payment - CSU | H50: =H48 -> 429565.38 | I50: =I48 -> 429565.38
A52: 45811 | B52: FY25-051 | C52: 604V5600339 | D52: CSU | E52: 22111 | F52: Consigli Construction Co., Inc. | G52: 5th | H52: 723354.16 | I52: =H52 -> 723354.16
F54: Jun 2025 Payment - CSU | H54: =H52 -> 723354.16 | I54: =I52 -> 723354.16

Sheet FSU
A3: Date | B3: List Number | C3: Doc # | D3: Campus | E3: Appropriation | F3: Vendor Name | G3: Invoice Number | H3: Amount | I3: Sub-Total
F5: No Activity in July, 2024
A7: 45506 | B7: FY25-005 | C7: 604V5600020 | D7: FSU | E7: 21515 | F7: GWWO | G7: 12518 | H7: 15982.47 | I7: =H7 -> 15982.47
A8: 45546 | C8: 13595955 | D8: FSU | E8: 21515 | F8: Funds Returned from FSU for GWWO | G8: 12232 12283 12352 12438 12509 | H8: -73300.52
A9: 45546 | C9: 13619602 | D9: FSU | E9: 21515 | F9: Funds Returned from FSU for GWWO | G9: 12518 | H9: -15982.47 | I9: =H8+H9 -> -89282.99
F11: Aug 2024 Payment - FSU | H11: =H7+H8+H9 -> -73300.52 | I11: =I7+I8+I9 -> -73300.52
F13: No Activity in September, 2024
F15: No Activity in October, 2024
A17: 45614 | B17: FY25-020 | C17: 604V5600132 | D17: FSU | E17: 23115 | F17: Daly Computers Inc. | G17: PSI1133283 | H17: 41790.22
A18: 45621 | B18: FY25-021 | C18: 604V5600140 | D18: FSU | E18: 23115 | F18: Applied Technology Services, Inc. | G18: 4003838 | H18: 30764
A19: 45621 | B19: FY25-021 | C19: 604V5600141 | D19: FSU | E19: 23115 | F19: Daly Computers Inc. | G19: PSO1133886 | H19: 6503.46
A20: 45622 | B20: JA000021 | D20: FSU | E20: 23115 | F20: FSU Reimbursement | G20: Ltr Dtd 11/08/24 | H20: 8687
A21: 45622 | B21: JA000022 | D21: FSU | E21: 23115 | F21: FSU Reimbursement | G21: Ltr Dtd 11/08/24 | H21: 37174
A22: 45622 | B22: JA000023 | D22: FSU | E22: 23115 | F22: FSU Reimbursement | G22: Ltr Dtd 11/08/24 | H22: 7463.7 | I22: =SUM(H17:H22) -> 132382.38
F24: Nov 2024 Payment - FSU | H24: =SUM(H17:H22) -> 132382.38 | I24: =SUM(I17:I22) -> 132382.38
F26: No Activity in December, 2024
A28: 45673 | B28: FY25-027 | C28: 604V5600182 | D28: FSU | E28: 23115 | F28: Daly Computers Inc. | G28: PSI1136133 | H28: 5883.2 | I28: =H28 -> 5883.2
F30: January 2025 Payment - FSU | H30: =+H28 -> 5883.2 | I30: =I26+I27+I28 -> 5883.2
F32: No Activity in February, 2025
F34: No Activity in March, 2025
A36: 45777 | B36: FY25-043 | C36: 604V5600290 | D36: FSU | E36: 23115 | F36: Applied Technology Services, Inc. | G36: 4004381 | H36: 20859 | I36: =H36 -> 20859
F38: April 2025 Payment - FSU | H38: =+H36 -> 20859 | I38: =I34+I35+I36 -> 20859
F40: No Activity in May, 2025
F42: No Activity in Jun, 2025

Sheet SU
A3: Date | B3: List Number | C3: Doc # | D3: Campus | E3: Appropriation | F3: Vendor Name | G3: Invoice Number | H3: Amount | I3: Sub-Total
A5: 45483 | B5: FY25-002 | C5: V5600004 | D5: SU | E5: 23117 | F5: The Whiting-Turner Constracting Company | G5: 020187-0012 | H5: 340954.94 | I5: =H5 -> 340954.94
F7: July 2024 Payment - SU | H7: =SUM(H4:H6) -> 340954.94 | I7: =SUM(I4:I6) -> 340954.94
A9: 45520 | B9: FY25-007 | C9: 604V5600033 | D9: SU | E9: 23117 | F9: The Whiting-Turner Constracting Company | G9: 020187-0013 | H9: 521887.11 | I9: =H9 -> 521887.11
F11: Aug 2024 Payment - SU | H11: =SUM(H8:H10) -> 521887.11 | I11: =SUM(I8:I10) -> 521887.11
A13: 45555 | B13: FY25-011 | C13: 604V5600058 | D13: SU | E13: 23117 | F13: The Whiting-Turner Constracting Company | G13: 020187-0014 | H13: 884839.92 | I13: =H13 -> 884839.92
F15: Sep 2024 Payment - SU | H15: =SUM(H12:H14) -> 884839.92 | I15: =SUM(I12:I14) -> 884839.92
A17: 45586 | B17: FY25-015 | C17: 604V5600091 | D17: SU | E17: 24120 | F17: The Whiting-Turner Constracting Company | G17: 020187-0015 | H17: 564740.16
A18: 45594 | B18: FY25-016 | C18: 604V5600111 | D18: SU | E18: 24120 | F18: The Whiting-Turner Constracting Company | G18: 020187-0016 | H18: 1084004.5 | I18: =H17+H18 -> 1648744.7
F20: Oct 2024 Payment - SU | H20: =SUM(H17:H19) -> 1648744.7 | I20: =SUM(I17:I19) -> 1648744.7
F22: No Activity in November, 2024
A24: 45630 | B24: FY25-022 | C24: 604V5600149 | D24: SU | E24: 24120 | F24: The Whiting-Turner Contracting Company | G24: 020187-0017 | H24: 1367477.4 | I24: =H24 -> 1367477.4
F26: Dec 2024 Payment - SU | H26: =SUM(H23:H25) -> 1367477.4 | I26: =SUM(I23:I25) -> 1367477.4
A28: 45664 | B28: FY25-026 | C28: 604V5600176 | D28: SU | E28: 24120 | F28: AECOM Technical Services, Inc. | G28: 2000966550 | H28: 19288.8
A29: 45678 | B29: FY25-028 | C29: 604V5600194 | D29: SU | E29: 24120 | F29: The Whiting-Turner Contracting Company | G29: 020187-018 | H29: 1298934.5 | I29: =H28+H29 -> 1318223.3
F31: Jan 2025 Payment - SU | H31: =SUM(H28:H30) -> 1318223.3 | I31: =SUM(I28:I30) -> 1318223.3
A33: 45694 | B33: FY25-030 | C33: 604P5600171 | D33: SU | E33: 24120 | F33: AECOM Technical Services, Inc. | G33: 2000977979 | H33: 21432 | I33: =H33 -> 21432
F35: Feb 2025 Payment - SU | H35: =SUM(H32:H34) -> 21432 | I35: =SUM(I32:I34) -> 21432
A37: 45729 | B37: FY25-035 | C37: 604P5600203 | D37: SU | E37: 24120 | F37: AECOM Technical Services, Inc. | G37: 2000992384 | H37: 22503.6
A38: 45721 | B38: FY25-034 | C38: 604P5600199 | D38: SU | E38: 24120 | F38: The Whiting-Turner Contracting Company | G38: 020187-0020 | H38: 988636.67
A39: 45729 | B39: FY25-035 | C39: 604P5600204 | D39: SU | E39: 24120 | F39: The Whiting-Turner Contracting Company | G39: 020187-0019 | H39: 1184848.3
A40: 45730 | B40: FY25-035 | C40: 604P5600215 | D40: SU | E40: 24120 | F40: The Whiting-Turner Contracting Company | G40: 020187-0021 | H40: 1661698.8 | I40: =SUM(H37:H40) -> 3857687.4
F42: Mar 2025 Payment - SU | H42: =SUM(H37:H41) -> 3857687.4 | I42: =SUM(I39:I41) -> 3857687.4
A44: 45754 | B44: FY25-038 | C44: 604V5600265 | D44: SU | E44: 24120 | F44: AECOM Technical Services, Inc. | G44: 2000999767 | H44: 21432
A45: 45763 | B45: FY25-040 | C45: 604V5600272 | D45: SU | E45: 24120 | F45: The Whiting-Turner Contracting Company | G45: 020187-0022 | H45: 1375514.5 | I45: =H44+H45 -> 1396946.5
F47: Apr 2025 Payment - SU | H47: =SUM(H44:H46) -> 1396946.5 | I47: =SUM(I44:I46) -> 1396946.5
A49: 45797 | B49: JA000052 | D49: SU | E49: 23117 | F49: UMCP OSCR Reimbursement | G49: Ltr Dtd 05/16/25 | H49: 62657.75 | I49: =H49 -> 62657.75
A50: 45784 | B50: FY25-045 | C50: 604V5600307 | D50: SU | E50: 24120 | F50: AECOM Technical Services, Inc. | G50: 2001012143 | H50: 21432
A51: 45799 | B51: FY25-048 | C51: 604V5600322 | D51: SU | E51: 24120 | F51: The Whiting-Turner Contracting Company | G51: 020187-0023 | H51: 1650457.6 | I51: =H50+H51 -> 1671889.6
F53: May 2025 Payment - SU | H53: =SUM(H49:H52) -> 1734547.4 | I53: =SUM(I49:I52) -> 1734547.4
A55: 45826 | B55: FY25-053 | C55: 604V5600356 | D55: SU | E55: 24120 | F55: AECOM Technical Services, Inc. | G55: 2001023309 | H55: 17681.4
A56: 45826 | B56: FY25-053 | C56: 604V5600352 | D56: SU | E56: 24120 | F56: The Whiting-Turner Contracting Company | G56: 020187-0024 | H56: 1431058.6 | I56: =H55+H56 -> 1448740
F58: Jun 2025 Payment - SU | H58: =SUM(H55:H57) -> 1448740 | I58: =SUM(I55:I57) -> 1448740

Sheet TU
A3: Date | B3: List Number | C3: Doc # | D3: Campus | E3: Appropriation | F3: Vendor Name | G3: Invoice Number | H3: Amount | I3: Sub-Total
A5: 45498 | B5: FY25-004 | C5: V5600013 | D5: TU | E5: 22108 | F5: J. Vinton Schafer & Sons, Inc. | G5: 23 | H5: 99687.91 | I5: =H5 -> 99687.91
A6: 45483 | B6: JA000003 | C6: JA000003 | D6: TU | E6: 23111 | F6: Maryland Correctional Enterprises | G6: H03085 | H6: 1128
A7: 45498 | B7: FY25-004 | C7: V5600014 | D7: TU | E7: 23111 | F7: Gilbane Building Company | G7: 40 | H7: 802144 | I7: =H6+H7 -> 803272
F9: July 2024 Payment - TU | H9: =SUM(H5:H8) -> 902959.91 | I9: =SUM(I5:I8) -> 902959.91
A11: 45506 | B11: FY25-005 | C11: 604V5600025 | D11: TU | E11: 20304 | F11: JMT | G11: 30-238122 | H11: 1223.66 | I11: =H11 -> 1223.66
A12: 45520 | B12: FY25-007 | C12: 604V5600037 | D12: TU | E12: 22108 | F12: Douron | G12: 111679 | H12: 3896.6 | I12: =H12 -> 3896.6
A13: 45506 | B13: FY25-005 | C13: 604V5600030 | D13: TU | E13: 23111 | F13: Medline Industries, LP | G13: 2319992748 | H13: 3501
A14: 45506 | B14: FY25-005 | C14: 604V5600031 | D14: TU | E14: 23111 | F14: Medline Industries, LP | G14: 2319141748 | H14: 34358.5
A15: 45526 | B15: JA000004 | D15: TU | E15: 23111 | F15: Maryland Correctional Enterprises | G15: H02991/H03082/H03083/H03084/H03086/H03087/H03134/H03135/H03136 | H15: =1968+1701+1128+1128+1140+558+3048+3048+3048 -> 16767 | I15: =H13+H14+H15 -> 54626.5
A16: 45506 | B16: FY25-005 | C16: 604V5600021 | D16: TU | E16: 23112 | F16: JMT | G16: 10-238731(Split) | H16: 617722.1
A17: 45520 | B17: FY25-007 | C17: 604V5600034 | D17: TU | E17: 23112 | F17: Consigli Construction Co., Inc. | G17: 8 | H17: 1090394.7 | I17: =H16+H17 -> 1708116.8
F19: August 2024 Payment - TU | H19: =SUM(H11:H18) -> 1767863.5 | I19: =SUM(I11:I18) -> 1767863.5
A21: 45540 | B21: FY25-009 | C21: 604V5600050 | D21: TU | E21: 23111 | F21: PriceModern | G21: INV20076427 | H21: 89493
A22: 45545 | B22: JA000007 | D22: TU | E22: 23111 | F22: Maryland Correctional Enterprises | G22: H02840 | H22: 45568
A23: 45548 | B23: FY25-010 | C23: 604V5600057 | D23: TU | E23: 23111 | F23: Gilbane Building Company | G23: 202407-J646 | H23: 574008 | I23: =H21+H22+H23 -> 709069
A24: 45548 | B24: FY25-010 | C24: 604V5600055 | D24: TU | E24: 22108 | F24: PriceModern | G24: INV20077316 | H24: 5165.84 | I24: =H24 -> 5165.84
A25: 45548 | B25: FY25-010 | C25: 604V5600056 | D25: TU | E25: 23112 | F25: Consigli Construction Co., Inc. | G25: 9 | H25: 971516.27 | I25: =H25 -> 971516.27
A26: 45555 | B26: FY25-011 | C26: 604V5600068 | D26: TU | E26: 20304 | F26: JMT | G26: 31-240284 | H26: 632.75 | I26: =H26 -> 632.75
A27: 45560 | B27: FY25-012 | C27: 604V5600077 | D27: TU | E27: 23112 | F27: Consigli Construction Co., Inc. | G27: 10 | H27: 563482.45
A28: 45560 | B28: FY25-012 | C28: 604V5600078 | D28: TU | E28: 23112 | F28: FST HEA | G28: R7024Z-018-2 | H28: 3120 | I28: =H27+H28 -> 566602.45
F30: September 2024 Payment - TU | H30: =SUM(H21:H29) -> 2252986.3 | I30: =SUM(I22:I29) -> 2252986.3
A32: 45568 | B32: FY25-013 | C32: 604V5600082 | D32: TU | E32: 19310 | F32: Gale | G32: 2303439 | H32: 3821.25
A33: 45594 | B33: FY25-017 | C33: 604V5600123 | D33: TU | E33: 19310 | F33: Gale | G33: 2408208(Split) | H33: 5017.5 | I33: =H32+H33 -> 8838.75
A34: 45594 | B34: FY25-017 | C34: 604V5600124 | D34: TU | E34: 20304 | F34: Gale | G34: 2408208(Split) | H34: 4062.5 | I34: =H34 -> 4062.5
A35: 45568 | B35: FY25-013 | C35: 604V5600083 | D35: TU | E35: 23111 | F35: Gilbane Building Company | G35: 202408-J735 | H35: 1165404
A36: 45586 | B36: JA000013 | D36: TU | E36: 23111 | F36: Maryland Correctional Enterprises | G36: H03137 H02516 | H36: 3775 | I36: =H35+H36 -> 1169179
A37: 45567 | B37: FY25-013 | C37: 604V5600079 | D37: TU | E37: 23112 | F37: Bowman | G37: 428324 | H37: 2189.13
A38: 45567 | B38: FY25-013 | C38: 604V5600080 | D38: TU | E38: 23112 | F38: Bowman | G38: 434287 | H38: 1094.56
A39: 45567 | B39: FY25-013 | C39: 604V5600081 | D39: TU | E39: 23112 | F39: Bowman | G39: 442637 | H39: 2189.14 | I39: =H37+H38+H39 -> 5472.83
F41: October 2024 Payment - TU | H41: =SUM(H32:H40) -> 1187553.1 | I41: =SUM(I32:I40) -> 1187553.1
A43: 45614 | B43: FY25-020 | C43: 604V5600133 | D43: TU | E43: 20304 | F43: JMT | G43: 32-242025 | H43: 4516.42
A44: 45621 | B44: FY25-021 | C44: 604V5600142 | D44: TU | E44: 20304 | F44: JMT | G44: 33-244319 | H44: 1276.55 | I44: =H43+H44 -> 5792.97
A45: 45622 | B45: JA000024 | D45: TU | E45: 22108 | F45: Maryland Correctional Enterprises | G45: H03660/H03654/H03656/H03662/H03659/H03665/H03658/H03657/H03661 | H45: =3083+715+1315+3192+2085+3217+11846+2665+4019 -> 32137 | I45: =H45 -> 32137
A46: 45622 | B46: JA000008 | D46: TU | E46: 23111 | F46: Maryland Correctional Enterprises | G46: Partial payments for H02731/H02662/H02622/H02617/H02576/H02487/H02660/H02385 | H46: =1364+155+1281+6869+1686+1329+795+7974 -> 21453
A47: 45621 | B47: FY25-021 | C47: 604V5600144 | D47: TU | E47: 23111 | F47: Gilbane Building Company | G47: 43 | H47: 730450 | I47: =H46+H47 -> 751903
A48: 45601 | B48: FY25-018 | C48: 604V5600126 | D48: TU | E48: 23112 | F48: Consigli Construction Co., Inc. | G48: 11 | H48: 830337.62
A49: 45621 | B49: FY25-021 | C49: 604V5600143 | D49: TU | E49: 23112 | F49: JMT | G49: 11-243148(Split) | H49: 1200749.7 | I49: =H48+H49 -> 2031087.4
F51: November 2024 Payment - TU | H51: =SUM(H43:H50) -> 2820920.3 | I51: =SUM(I43:I50) -> 2820920.3
A53: 45643 | B53: FY25-023 | C53: 604V5600159 | D53: TU | E53: 20304 | F53: JMT | G53: 34-246071 | H53: 1504.88 | I53: =H53 -> 1504.88
...

Sheet UB
A3: Date | B3: List Number | C3: Doc # | D3: Campus | E3: Appropriation | F3: Vendor Name | G3: Invoice Number | H3: Amount | I3: Sub-Total
F5: No Activity in July, 2024
F7: No Activity in August, 2024
F9: No Activity in September, 2024
F11: No Activity in October, 2024
F13: No Activity in November, 2024
F15: No Activity in December, 2024
F17: No Activity in January, 2025
F19: No Activity in February, 2025
F21: No Activity in March, 2025
F23: No Activity in April, 2025
F25: No Activity in May, 2025
F27: No Activity in Jun, 2025
