Workbook

Sheet Total Summary
A2: FY2024 Paygo Funding
E4: Total FY24 Paygo | F4: Total Invoices | G4: Invoices | H4: Total MCCBL
A5: Appn. | B5: Budget | C5: KFS A/C # | D5: Project Description | E5: Authorizations | F5: Processed | G5: Payment | H5: Balances
A6: Year | B6: Bill | C6: Sub - 3772 | E6: To-date | F6: To-date | G6: FY25 | H6: Available To-date
A7: 24 | C7: 08-7767201-3772 | D7: UMES Agricultural Research Education Center | E7: =UMES!D10 -> 12628000 | F7: =UMES!K10 -> 68026.13 | G7: =F7 -> 68026.13 | H7: =E7-F7 -> 12559974
A8: 24 | C8: 08-7767201-3772 | D8: USM Columbus Center Deferred Maintenance | E8: =USM_UMBC!D35 -> 4934000 | F8: =USM_UMBC!K35 -> 2777013.4 | G8: =F8 -> 2777013.4 | H8: =E8-F8 -> 2156986.6
A10: Total | E10: =SUM(E7:E9) -> 17562000 | F10: =SUM(F7:F9) -> 2845039.5 | G10: =SUM(G7:G9) -> 2845039.5 | H10: =SUM(H7:H9) -> 14716960
F11: 0
D12: PG24-001 | F12: =F13-F11 -> 131424.63 | G12: USM (UMBC)
A13: FY24 | B13: =E10 -> 17562000 | C13: auhtorized | F13: 131424.63
A14: 45378 | B14: 13171500 | C14: received (doc# 13090631 08-7767201-4938) | D14: PG24-002(1) | F14: =F15-F13 -> 203336.77 | G14: USM (UMBC)
A15: 45442 | B15: 4390500 | C15: received - doc# 13361463 | F15: 334761.4
B16: =B13-B14-B15 -> 0 | C16: remaining bal to receive | D16: PG24-002(2) | F16: =F17-F15 -> 424029.75 | G16: USM (UMBC)
F17: 758791.15
D18: PG24-003(1)(2) | F18: =F19-F17 -> 1191578.2 | G18: USM (UMBC)
F19: 1950369.3
D20: PG24-004(1)(2)(3)(4) | F20: =F21-F19 -> 1242296.2 | G20: USM (UMBC)
F21: 3192665.6
D22: PG24-005 | F22: =F23-F21 -> 68026.13 | G22: UMES
F23: 3260691.7
D24: PG24-006(1)(2)(3) | F24: =F25-F23 -> 388379.25 | G24: USM (UMBC)
F25: 3649070.9
D26: PG24-007(1)(2) | F26: =F27-F25 -> 275097.81 | G26: USM (UMBC)
F27: 3924168.8
D28: Return Duplicate Payment PG24-003(1) | F28: =F29-F27 -> -1079129.2 | G28: USM (UMBC)
F29: 2845039.5

Sheet Summary by Campus
A2: FY2024 Paygo Funding
E4: Total MCCBL | F4: Total Invoices | G4: Invoices | H4: Total MCCBL
A5: Appn. | B5: Appn. | C5: KFS A/C # | D5: Project Description | E5: Authorizations | F5: Processed | G5: Payment | H5: Balances
A6: Year | B6: Number | C6: Sub - 3772 | E6: To-date | F6: To-date | G6: FY25 | H6: Available To-date
A8: 24 | C8: 08-7767201-3772 | D8: UMES Agricultural Research Education Center | E8: =UMES!D10 -> 12628000 | F8: =UMES!K10 -> 68026.13 | G8: =F8 -> 68026.13 | H8: =E8-F8 -> 12559974
A10: UMES Total | E10: =SUM(E8:E9) -> 12628000 | F10: =SUM(F8:F9) -> 68026.13 | G10: =SUM(G8:G9) -> 68026.13 | H10: =SUM(H8:H9) -> 12559974
A12: 24 | C12: 08-7767201-3772 | D12: USM Columbus Ctr Deferred Maintenance (Rita Rossi Colwell Center) | E12: =USM_UMBC!D35 -> 4934000 | F12: =USM_UMBC!K35 -> 2777013.4 | G12: =F12 -> 2777013.4 | H12: =E12-F12 -> 2156986.6
A14: UMBC_USM Total | E14: =SUM(E12:E12) -> 4934000 | F14: =SUM(F12:F12) -> 2777013.4 | G14: =SUM(G12:G12) -> 2777013.4 | H14: =SUM(H12:H12) -> 2156986.6
A17: Total | E17: =E10+E14 -> 17562000 | F17: =F10+F14 -> 2845039.5 | G17: =G10+G14 -> 2845039.5 | H17: =H10+H14 -> 14716960

Sheet UMES
A2: FY2024 Paygo Funding
A4: Project Description | B4: KFS | C4: BPW/Item | D4: Auth Amt | E4: FY | F4: Appropriation | G4: Vendor Name | H4: INVOICE NO. | I4: Date | J4: Certificate | K4: Invoice | L4: Balance | M4: KFS | N4: Date
B5: Account | D5: DGS Trans | F5: Number | I5: Processed | J5: Number | K5: Amount | L5: Available | M5: Doc #
A7: Authorization | B7: 08-7767201-3772
A8: UMES Agricultural Research Education Center (CE) | D8: 12628000 | E8: 24 | G8: UMCP Reimbursement | H8: Ltr Dtd 05/15/25 | I8: 45796 | J8: PG24-005 | K8: 68026.13 | M8: JRN-016459
A10: UMES Agricultural Research Education Center | D10: =SUM(D8:D9) -> 12628000 | K10: =SUM(K8:K9) -> 68026.13 | L10: =+D10-K10 -> 12559974
K1046768: =SUM(#REF!,#REF!,#REF!,#REF!,#REF!,#REF!,#REF!,#REF!,#REF!,#REF!,#REF!,#REF!,#REF!,#REF!,#REF!,#REF!,#REF!,#REF!,#REF!,#REF!,#REF!,#REF!,#REF!,#REF!,#REF!,#REF!,#REF!,#REF!,#REF!,#REF!,#REF!,#REF!,#REF!,#REF!,#REF!,#REF!,#REF!,#REF!,#REF!,#REF!,#REF!,#REF!,#REF!,#REF!,#REF!,#REF!,#REF!,#REF!,#REF!,#REF!,#REF!,#REF!,#REF!,#REF!,#REF!,#REF!,#REF!,#REF!,#REF!,#REF!,#REF!,#REF!,#REF!,#REF!,#REF!,#REF!,#REF!,#REF!,#REF!,#REF!,#REF!,#REF!,#REF!,#REF!,#REF!,#REF!,#REF!,#REF!,#REF!,#REF!,#REF!,#REF!,#REF!,#REF!,#REF!,#REF!,#REF!,#REF!,#REF!,#REF!,#REF!,#REF!,#REF!,#REF!,#REF!,#REF!,#REF!,#REF!,#REF!,#REF!,#REF!,#REF!) -> #REF!

Sheet USM_UMBC
A2: FY2024 Paygo Funding
A4: Project Description | B4: KFS | C4: BPW/Item | D4: Auth Amt | E4: FY | F4: Appropriation | G4: Vendor Name | H4: INVOICE NO. | I4: Date | J4: Certificate | K4: Invoice | L4: Balance | N4: Date
B5: Account | D5: DGS Trans | F5: Number | I5: Processed | J5: Number | K5: Amount | L5: Available | M5: Doc #
A7: Authorization | B7: 08-7767201-3772 | C7: 1-GM 5/15/24 ($881,907-Henry Adams)
A8: USM Columbus Ctr Deferred Maintenance (Rita Rossi Colwell Center) | D8: 4934000 | E8: 24 | G8: Henry Adams, LLC | H8: 16274 / 16142 | I8: 45583 | J8: PG24-001 | K8: =27815.12+103609.51 -> 131424.63 | M8: 13981245 | N8: 10/23/2024
A9: USM Columbus Ctr Deferred Maintenance (Rita Rossi Colwell Center) | E9: 24 | G9: Henry Adams, LLC | H9: 16429 | I9: 45639 | J9: PG24-002(1) | K9: 111260.46 | M9: SIR-00000780 | N9: 45639
A10: USM Columbus Ctr Deferred Maintenance (Rita Rossi Colwell Center) | E10: 24 | G10: Henry Adams, LLC | H10: 12528 | I10: 45639 | J10: PG24-002(1) | K10: 92076.31 | M10: SIR-00000780 | N10: 45639
A11: USM Columbus Ctr Deferred Maintenance (Rita Rossi Colwell Center) | E11: 24 | G11: J. Vinton Schafer | H11: 01 | I11: 45639 | J11: PG24-002(2) | K11: 7475 | M11: SIR-00000780 | N11: 45639
A12: USM Columbus Ctr Deferred Maintenance (Rita Rossi Colwell Center) | E12: 24 | G12: J. Vinton Schafer | H12: 02 | I12: 45639 | J12: PG24-002(2) | K12: 15341 | M12: SIR-00000780 | N12: 45639
A13: USM Columbus Ctr Deferred Maintenance (Rita Rossi Colwell Center) | E13: 24 | G13: J. Vinton Schafer | H13: 03 | I13: 45639 | J13: PG24-002(2) | K13: 370177.75 | M13: SIR-00000780 | N13: 45639
A14: USM Columbus Ctr Deferred Maintenance (Rita Rossi Colwell Center) | E14: 24 | G14: J. Vinton Schafer | H14: 04 | I14: 45639 | J14: PG24-002(2) | K14: 31036 | M14: SIR-00000780 | N14: 45639
A15: USM Columbus Ctr Deferred Maintenance (Rita Rossi Colwell Center) | E15: 24 | G15: J. Vinton Schafer | H15: 05 | I15: 45706 | J15: PG24-003(1) | K15: 27125 | L15: duplicate | M15: SIR-00002306 | N15: 45713
A16: USM Columbus Ctr Deferred Maintenance (Rita Rossi Colwell Center) | E16: 24 | G16: J. Vinton Schafer | H16: 06 | I16: 45706 | J16: PG24-003(1) | K16: 1033359.2 | L16: duplicate | M16: SIR-00002306 | N16: 45713
A17: USM Columbus Ctr Deferred Maintenance (Rita Rossi Colwell Center) | E17: 24 | G17: J. Vinton Schafer | H17: 07 | I17: 45706 | J17: PG24-003(1) | K17: 18645 | L17: duplicate | M17: SIR-00002306 | N17: 45713
A18: USM Columbus Ctr Deferred Maintenance (Rita Rossi Colwell Center) | E18: 24 | G18: Henry Adams, LLC | H18: 16679 | I18: 45706 | J18: PG24-003(2) | K18: 81970.41 | M18: SIR-00002306 | N18: 45713
A19: USM Columbus Ctr Deferred Maintenance (Rita Rossi Colwell Center) | E19: 24 | G19: Henry Adams, LLC | H19: 16724 | I19: 45706 | J19: PG24-003(2) | K19: 30478.52 | M19: SIR-00002306 | N19: 45713
A20: USM Columbus Ctr Deferred Maintenance (Rita Rossi Colwell Center) | E20: 24 | G20: J. Vinton Schafer | H20: 06/7/05/8 | I20: 45728 | J20: PG24-004(1) | K20: =1033359.25+18645+27125+42376.78 -> 1121506 | M20: SIR-00002994 | N20: 45732
A21: USM Columbus Ctr Deferred Maintenance (Rita Rossi Colwell Center) | E21: 24 | G21: FST-HEA, LLC | H21: R7024Z-279-1/2 | I21: 45728 | J21: PG24-004(2) | K21: 5041.27 | M21: SIR-00002994 | N21: 45732
A22: USM Columbus Ctr Deferred Maintenance (Rita Rossi Colwell Center) | E22: 24 | G22: Henry Adams, LLC | H22: 16724/16679 | I22: 45728 | J22: PG24-004(3) | K22: =30478.52+81970.41 -> 112448.93 | M22: SIR-00002994 | N22: 45732
A23: USM Columbus Ctr Deferred Maintenance (Rita Rossi Colwell Center) | E23: 24 | G23: J. Vinton Schafer | H23: 353605/353626 | I23: 45728 | J23: PG24-004(4) | K23: =2310+990 -> 3300 | M23: SIR-00002994 | N23: 45732
A24: USM Columbus Ctr Deferred Maintenance (Rita Rossi Colwell Center) | E24: 24 | G24: J. Vinton Schafer | H24: 10 | I24: 45814 | J24: PG24-006(1) | K24: 37798 | M24: SIR-00005964 | N24: 45825
A25: USM Columbus Ctr Deferred Maintenance (Rita Rossi Colwell Center) | E25: 24 | G25: J. Vinton Schafer | H25: 9 | I25: 45814 | J25: PG24-006(1) | K25: 128184.7 | M25: SIR-00005964 | N25: 45825
A26: USM Columbus Ctr Deferred Maintenance (Rita Rossi Colwell Center) | E26: 24 | G26: Henry Adams, LLC | H26: 16827 | I26: 45814 | J26: PG24-006(2) | K26: 100141.39 | M26: SIR-00005964 | N26: 45825
A27: USM Columbus Ctr Deferred Maintenance (Rita Rossi Colwell Center) | E27: 24 | G27: Henry Adams, LLC | H27: 16915 | I27: 45814 | J27: PG24-006(2) | K27: 82466.57 | M27: SIR-00005964 | N27: 45825
A28: USM Columbus Ctr Deferred Maintenance (Rita Rossi Colwell Center) | E28: 24 | G28: Henry Adams, LLC | H28: 17079 | I28: 45814 | J28: PG24-006(2) | K28: 34178.59 | M28: SIR-00005964 | N28: 45825
A29: USM Columbus Ctr Deferred Maintenance (Rita Rossi Colwell Center) | E29: 24 | G29: Complete Commissioning | H29: 353852 | I29: 45814 | J29: PG24-006(3) | K29: 2970 | M29: SIR-00005964 | N29: 45825
A30: USM Columbus Ctr Deferred Maintenance (Rita Rossi Colwell Center) | E30: 24 | G30: Complete Commissioning | H30: 353906 | I30: 45814 | J30: PG24-006(3) | K30: 2640 | M30: SIR-00005964 | N30: 45825
A31: USM Columbus Ctr Deferred Maintenance (Rita Rossi Colwell Center) | E31: 24 | G31: FST-HEA, LLC | H31: R7024Z-276-2(3/4) | I31: 45824 | J31: PF24-007(1) | K31: 2814.38 | M31: SIR-00005964 | N31: 45825
A32: USM Columbus Ctr Deferred Maintenance (Rita Rossi Colwell Center) | E32: 24 | G32: J. Vinton Schafer | H32: 11 | I32: 45824 | J32: PF24-007(2) | K32: =54568.61+217714.82 -> 272283.43 | M32: SIR-00005964 | N32: 45825
A33: USM Columbus Ctr Deferred Maintenance (Rita Rossi Colwell Center) | E33: 24 | G33: Return Duplicate Reimb Requests PG24-003(1) ( J Vinton) | H33: 05 06 07 | J33: PG24-003(1) | K33: =-K15-K16-K17 -> -1079129.2 | M33: CIV-00027121 | N33: 45833
A35: USM Columbus Center Deferred Maintenance Total | D35: =SUM(D7:D34) -> 4934000 | K35: =SUM(K7:K34) -> 2777013.4 | L35: =+D35-K35 -> 2156986.6
K1046782: =SUM(#REF!,#REF!,#REF!,#REF!,#REF!,#REF!,#REF!,#REF!,#REF!,#REF!,#REF!,#REF!,#REF!,#REF!,#REF!,#REF!,#REF!,#REF!,#REF!,#REF!,#REF!,#REF!,#REF!,#REF!,#REF!,#REF!,#REF!,#REF!,#REF!,#REF!,#REF!,#REF!,#REF!,#REF!,#REF!,#REF!,#REF!,#REF!,#REF!,#REF!,#REF!,#REF!,#REF!,#REF!,#REF!,#REF!,#REF!,#REF!,#REF!,#REF!,#REF!,#REF!,#REF!,#REF!,#REF!,#REF!,#REF!,#REF!,#REF!,#REF!,#REF!,#REF!,#REF!,#REF!,#REF!,#REF!,#REF!,#REF!,#REF!,#REF!,#REF!,#REF!,#REF!,#REF!,#REF!,#REF!,#REF!,#REF!,#REF!,#REF!,#REF!,#REF!,#REF!,#REF!,#REF!,#REF!,#REF!,#REF!,#REF!,#REF!,#REF!,#REF!,#REF!,#REF!,#REF!,#REF!,#REF!,#REF!,#REF!,#REF!,#REF!,#REF!) -> #REF!

Sheet Log
A1: Vendor Name | B1: INVOICE NO. | C1: Date | D1: Certificate | E1: Invoice
C2: Processed | D2: Number | E2: Amount
A5: Henry Adams, LLC | B5: 16274 / 16142 | C5: 45583 | D5: PG24-001 | E5: =27815.12+103609.51 -> 131424.63
A6: Henry Adams, LLC | B6: 16429 | C6: 45639 | D6: PG24-002(1) | E6: 111260.46
A7: Henry Adams, LLC | B7: 12528 | C7: 45639 | D7: PG24-002(1) | E7: 92076.31
A8: j. Vinton Schafer | B8: 01 | C8: 45639 | D8: PG24-002(2) | E8: 7475
A9: j. Vinton Schafer | B9: 02 | C9: 45639 | D9: PG24-002(2) | E9: 15341
A10: j. Vinton Schafer | B10: 03 | C10: 45639 | D10: PG24-002(2) | E10: 370177.75
A11: j. Vinton Schafer | B11: 04 | C11: 45639 | D11: PG24-002(2) | E11: 31036
A12: J. Vinton Schafer | B12: 05 | C12: 45706 | D12: PG24-003(1) | E12: 27125
A13: J. Vinton Schafer | B13: 06 | C13: 45706 | D13: PG24-003(1) | E13: 1033359.2
A14: J. Vinton Schafer | B14: 07 | C14: 45706 | D14: PG24-003(1) | E14: 18645
A15: Henry Adams, LLC | B15: 16679 | C15: 45706 | D15: PG24-003(2) | E15: 81970.41
A16: Henry Adams, LLC | B16: 16724 | C16: 45706 | D16: PG24-003(2) | E16: 30478.52
A17: J. Vinton Schafer | B17: 06/7/05/8 | C17: 45728 | D17: PG24-004(1) | E17: =1033359.25+18645+27125+42376.78 -> 1121506
A18: FST-HEA, LLC | B18: R7024Z-279-1/2 | C18: 45728 | D18: PG24-004(2) | E18: 5041.27
A19: Henry Adams, LLC | B19: 16724/16679 | C19: 45728 | D19: PG24-004(3) | E19: =30478.52+81970.41 -> 112448.93
A20: Complete Commissioning | B20: 353605/353626 | C20: 45728 | D20: PG24-004(4) | E20: =2310+990 -> 3300
A21: UMCP Reimbursement | B21: Ltr Dtd 05/15/25 | C21: 45796 | D21: PG24-005 | E21: 68026.13
A22: J. Vinton Schafer | B22: 10 | C22: 45814 | D22: PG24-006(1) | E22: 37798
A23: J. Vinton Schafer | B23: 9 | C23: 45814 | D23: PG24-006(1) | E23: 128184.7
A24: Henry Adams, LLC | B24: 16827 | C24: 45814 | D24: PG24-006(2) | E24: 100141.39
A25: Henry Adams, LLC | B25: 16915 | C25: 45814 | D25: PG24-006(2) | E25: 82466.57
A26: Henry Adams, LLC | B26: 17079 | C26: 45814 | D26: PG24-006(2) | E26: 34178.59
A27: Complete Commissioning | B27: 353852 | C27: 45814 | D27: PG24-006(3) | E27: 2970
A28: Complete Commissioning | B28: 353906 | C28: 45814 | D28: PG24-006(3) | E28: 2640 | F28: =SUM(E22:E28) -> 388379.25 | G28: PG24-006(1)(2)(3)
A29: FST-HEA, LLC | B29: R7024Z-276-2(3/4) | C29: 45824 | D29: PF24-007(1) | E29: 2814.38
A30: J. Vinton Schafer | B30: 11 | C30: 45824 | D30: PF24-007(2) | E30: =54568.61+217714.82 -> 272283.43

Sheet CSU Settlements
A1: ELTG, LLC | B1: 1812 Warwick Avenue | C1: 41289 | D1: FY13-033 | E1: 10465.33
A2: Eileen A. Carpenter, Attorney at Law | B2: 1656 Warwick Avenue | C2: 41297 | D2: FY13-034 | E2: 23363.54
A3: Jones Realty Advisors, LLC | B3: J13-02 | C3: 41297 | D3: FY13-034 | E3: 200
A4: Barton Malow Company | B4: 17 | C4: 41297 | D4: FY13-034 | E4: 938074.51
A5: EA Engineering, Science, and Technology | B5: 79190 | C5: 41302 | D5: FY13-035 | E5: 8072.18
A6: ELTG, LLC | B6: 2500 Presbury Street | C6: 41320 | D6: FY13-038 | E6: 2833
A7: ELTG, LLC | B7: 1818 Warwick Avenue | C7: 41324 | D7: FY13-039 | E7: 5860
A8: Commonwealth Land Title Insurance Company | B8: 1659 Thomas Avenue | C8: 41324 | D8: FY13-039 | E8: 4689.71
A9: Diversified Property Services | B9: Ck#12321 | C9: 41330 | D9: Refund | E9: -87038.1
A10: Cohen and Forman, LLC | B10: Ck#9913 | C10: 41330 | D10: Refund | E10: -3.51
A11: Cohen and Forman, LLC | B11: Ck#2823 | C11: 41330 | D11: Refund | E11: -1.17
A12: Commonwealth Land Title Insurance Company | B12: Ck#98003184 | C12: 41330 | D12: Refund | E12: -2890.85
A13: Cohen and Forman, LLC | B13: Ck#2909 | C13: 41330 | D13: Refund | E13: -378.38
A14: Cohen and Forman, LLC | B14: Ck#9915 | C14: 41330 | D14: Refund | E14: -30
A15: ELTG, LLC | B15: 1726 N Warwick Ave | C15: 41331 | D15: FY13-040 | E15: 17021.32
A16: ELTG, LLC | B16: 1732 N Warwick Ave | C16: 41331 | D16: FY13-040 | E16: 9770.09
A17: Lipman Frizzell & Mitchell LLC | B17: LFM-12027YYYY-1 | C17: 41331 | D17: FY13-040 | E17: 375
A18: Barton Malow Company | B18: 18 | C18: 41331 | D18: FY13-040 | E18: 688511.7
A19: Commonwealth Land Title Insurance Company | B19: 1625 Thomas Ave | C19: 41332 | D19: FY13-040 | E19: 24204.6
A20: Commonwealth Land Title Insurance Company | B20: 1616 Thomas Ave | C20: 41332 | D20: FY13-040 | E20: 24071.6
A21: Eileen A. Carpenter, Attorney at Law | B21: 1805 Thomas Ave | C21: 41332 | D21: FY13-040 | E21: 65412.54
A22: Barton Malow Company | B22: 19 | C22: 41332 | D22: FY13-040 | E22: 429707.79
B24: 1659 Thomas Ave– Settlement 3/6/13
B25: 1818 Warwick Ave – Settlement 3/6/13
B27: 1805 Thomas Ave - Settlement 3/13/13
B28: 1616 & 1625 Thomas Ave. - Settlement 3/14/13
B29: 1726 & 1732 Warwick Ave – Settlement 3/14/13

Sheet Sheet1
B1: 9.0937797e+08
A2: JA000010 | B2: =B3-B1 -> 9.6399999
B3: 9.0937798e+08
A4: FY13-010 | B4: =B5-B3 -> 143198.85
B5: 9.0952118e+08
A6: CSU Refund 12046 | B6: =B7-B5 -> -63.41
B7: 9.0952112e+08
A8: JA000011 | B8: =B9-B7 -> 366.82
B9: 9.0952148e+08
A10: FY13-011 | B10: =B11-B9 -> 3614518.4
B11: 9.13136e+08
A12: JA000012 | B12: =B13-B11 -> 6624.8
B13: 9.1314263e+08
A14: JA000013 | B14: =B15-B13 -> 203.84
B15: 9.1314283e+08
A16: JA000014 | B16: =B17-B15 -> 1223.04
B17: 9.1314405e+08
A18: JA000015 | B18: =B19-B17 -> 121479.2
B19: 9.1326553e+08
A20: JA000016 | B20: =B21-B19 -> 6013.28
B21: 9.1327155e+08
A22: JA000017 | B22: =B23-B21 -> 8355.59
B23: 9.132799e+08
A24: JA000019 | B24: =B25-B23 -> 28435.68
B25: 9.1330834e+08
A26: JA000018 | B26: =B27-B25 -> 49584.08
B27: 9.1335792e+08
A28: JA000020 | B28: =B29-B27 -> 13615
B29: 9.1337154e+08
A30: FY13-012 | B30: =B31-B29 -> 149607.57
B31: 9.1352114e+08
A32: FY13-13 | B32: =B33-B31 -> 504270.95
B33: 9.1402542e+08
A34: CSU Refund 12046 | B34: =B35-B33 -> -1478
B35: 9.1402394e+08
A36: FY13-014 | B36: =B37-B35 -> 3546382.9
B37: 9.1757032e+08
A38: JA000021 | B38: =B39-B37 -> 10
B39: 9.1757033e+08
A40: FY13-015 | B40: =B41-B39 -> 6034102
...
