Workbook

Sheet Total Summary
A2: FY2023 Paygo Funding
E4: Total FY23 Paygo | F4: Total Invoices | G4: Invoices | H4: Invoices | I4: Invoices | J4: Total MCCBL
A5: Appn. | B5: Budget | C5: KFS A/C # | D5: Project Description | E5: Authorizations | F5: Processed | G5: Payment | H5: Payment | I5: Payment | J5: Balances
A6: Year | B6: Bill | C6: Sub - 3772 | E6: To-date | F6: To-date | G6: FY23 | H6: FY24 | I6: FY25 | J6: Available To-date
A7: 23 | B7: SB290 | C7: 08-0-767200 | D7: UMCP Chemistry Building Wing 1 Replacement | E7: =UMCP!D97 -> 57817000 | F7: =UMCP!K97 -> 54246153 | G7: 28832916 | H7: 19120312 | I7: =F7-G7-H7 -> 6292924.4 | J7: =E7-F7 -> 3570846.9
A8: 23 | B8: SB290 | C8: 08-0-767200 | D8: UMB Central Electric Substation and Redundancy | E8: =UMB!D14 -> 16138000 | F8: =UMB!K14 -> 3184876.9 | G8: 0 | H8: 0 | I8: =F8-G8-H8 -> 3184876.9 | J8: =E8-F8 -> 12953123
A9: 23 | B9: SB290 | C9: 08-0-767200 | D9: UMCES Chesapeake Analytics Collab Building | E9: =CES!D36 -> 9389000 | F9: =CES!K36 -> 8893261.6 | G9: 0 | H9: 64793.52 | I9: =F9-G9-H9 -> 8828468.1 | J9: =E9-F9 -> 495738.38
A10: 23 | B10: SB290 | C10: 08-0-767200 | D10: BSU Replace MLK Comm Arts & Hum Building | E10: =BSU!D47 -> 73247000 | F10: =BSU!K47 -> 73246152 | G10: 55187386 | H10: 15526524 | I10: =F10-G10-H10 -> 2532242.4 | J10: =E10-F10 -> 848.08
A11: 23 | B11: SB290 | C11: 08-0-767200 | D11: CSU Percy Julian Renovation for Coll Business | E11: =CSU!D17 -> 2500000 | F11: =CSU!K17 -> 241432.04 | G11: 0 | H11: 102483.5 | I11: =F11-G11-H11 -> 138948.54 | J11: =E11-F11 -> 2258568
A12: 23 | B12: SB290 | C12: 08-0-767200 | D12: FSU Facilities Renewal | E12: =FSU!D34 -> 10000000 | F12: =FSU!K34 -> 8724995 | G12: 3682935 | H12: 3374097.9 | I12: =F12-G12-H12 -> 1667962 | J12: =E12-F12 -> 1275005
A13: 23 | B13: Grant Award | C13: 08-0-767200 | D13: FSU Cordts PE Renovation/Regional Recreation Center | E13: =FSU!D40 -> 0 | F13: =FSU!K40 -> 0 | G13: 0 | H13: 0 | I13: =F13-G13-H13 -> 0 | J13: =E13-F13 -> 0
A14: 23 | B14: Amendment | C14: 08-0-767200 | D14: SU Blackwell Hall Renovation | E14: =SU!D23 -> 1940000 | F14: =SU!K23 -> 1923054.2 | G14: 370930.56 | H14: 1509882.4 | I14: =F14-G14-H14 -> 42241.15 | J14: =E14-F14 -> 16945.85
A15: 23 | B15: SB290 | C15: 08-0-767200 | D15: TU Health Professions Building | E15: =TU!D48 -> 88695000 | F15: =TU!K48 -> 88694630 | G15: 53054241 | H15: 35083658 | I15: =F15-G15-H15 -> 556731.59 | J15: =E15-F15 -> 369.86
A16: 23 | B16: Amendment | C16: 08-0-767200 | D16: TU Visual & Com Tech (Smith Hall Renovation) | E16: =TU!D68 -> 6066000 | F16: =TU!K68 -> 6066000 | G16: 708625.63 | H16: 4190837.8 | I16: =F16-G16-H16 -> 1166536.6 | J16: =E16-F16 -> 0.0099999998
A17: 23 | C17: 08-0-767200 | D17: UMCP Facilities Renewal Program | E17: =UMCP!D194 -> 23503432 | F17: =UMCP!K194 -> 16812952 | G17: 2622930.5 | H17: 7422745.6 | I17: =F17-G17-H17 -> 6767276 | J17: =E17-F17 -> 6690479.9
A18: 23 | C18: 08-0-767200 | D18: UMB Facilities Renewal Program | E18: =UMB!D54 -> 12391073 | F18: =UMB!K54 -> 6920426.6 | G18: 1181987.2 | H18: 1929288 | I18: =F18-G18-H18 -> 3809151.4 | J18: =E18-F18 -> 5470646.4
A19: 23 | C19: 08-0-767200 | D19: UMES Facilities Renewal Program | E19: =UMES!D30 -> 3227327 | F19: =UMES!K30 -> 198593.5 | G19: 163629.26 | H19: 740.2 | I19: =F19-G19-H19 -> 34224.04 | J19: =E19-F19 -> 3028733.5
A20: 23 | C20: 08-0-767200 | D20: UMBC Facilities Renewal Program | E20: =UMBC!D34 -> 5806280 | F20: =UMBC!K34 -> 3635227 | G20: 199153.17 | H20: 2000846.8 | I20: =F20-G20-H20 -> 1435227 | J20: =E20-F20 -> 2171053
A21: 23 | C21: 08-0-767200 | D21: UMGC Facilities Renewal Program | E21: =UMGC!D11 -> 565000 | F21: =UMGC!K11 -> 565000 | G21: 0 | H21: 565000 | I21: =F21-G21-H21 -> 0 | J21: =E21-F21 -> 0
A22: 23 | C22: 08-0-767200 | D22: UMCES Facilities Renewal Program | E22: =CES!D43 -> 887932 | F22: =CES!K43 -> 0 | G22: 0 | H22: 0 | I22: =F22-G22-H22 -> 0 | J22: =E22-F22 -> 887932
A23: 23 | C23: 08-0-767200 | D23: BSU Facilities Renewal Program | E23: =BSU!D58 -> 2126310 | F23: =BSU!K58 -> 1226310 | G23: 0 | H23: 750000 | I23: =F23-G23-H23 -> 476310 | J23: =E23-F23 -> 900000
A24: 23 | C24: 08-0-767200 | D24: CSU Facilities Renewal Program | E24: =CSU!D22 -> 1400329 | F24: =CSU!K22 -> 754443 | G24: 0 | H24: 754443 | I24: =F24-G24-H24 -> 0 | J24: =E24-F24 -> 645886
A25: 23 | C25: 08-0-767200 | D25: FSU Facilities Renewal Program | E25: =FSU!D51 -> 1277670 | F25: =FSU!K51 -> 993304.7 | G25: 0 | H25: 251750.7 | I25: =F25-G25-H25 -> 741554 | J25: =E25-F25 -> 284365.3
A26: 23 | C26: 08-0-767200 | D26: SU Facilities Renewal Program | E26: =SU!D43 -> 2339352 | F26: =SU!K43 -> 1771250 | G26: 154012.9 | H26: 1501319 | I26: =F26-G26-H26 -> 115918.05 | J26: =E26-F26 -> 568102
A27: 23 | C27: 08-0-767200 | D27: TU Facilities Renewal Program | E27: =TU!D88 -> 5796085 | F27: =TU!K88 -> 617817.6 | G27: 0 | H27: 78030.17 | I27: =F27-G27-H27 -> 539787.43 | J27: =E27-F27 -> 5178267.4
A28: 23 | C28: 08-0-767200 | D28: UB Facilities Renewal Program | E28: =UB!D14 -> 2207480 | F28: =UB!K14 -> 486414.03 | G28: 0 | H28: 0 | I28: =F28-G28-H28 -> 486414.03 | J28: =E28-F28 -> 1721066
A29: 23 | C29: 08-0-767200 | D29: USM Facilities Renewal Program | E29: =USM!D12+USM!D17+USM!D22+USM!D27 -> 3471730 | F29: =USM!K12+USM!K17+USM!K22+USM!K27 -> 916927 | G29: 0 | H29: 498227 | I29: =F29-G29-H29 -> 418700 | J29: =E29-F29 -> 2554803
A30: 23 | B30: Amendment | C30: 08-0-767200 | D30: UMCES Horn Point Laboratory Sewer Collection System Upgrade | E30: =CES!D48 -> 188000 | F30: =CES!K48 -> 188000 | G30: 188000 | H30: 0 | I30: =F30-G30-H30 -> 0 | J30: =E30-F30 -> 0
A32: Total | E32: =SUM(E7:E31) -> 330980000 | F32: =SUM(F7:F31) -> 2.8030722e+08 | G32: =SUM(G7:G31) -> 1.4634675e+08 | H32: =SUM(H7:H31) -> 94724979 | I32: =SUM(I7:I31) -> 39235494 | J32: =SUM(J7:J31) -> 50672780
F33: 0
A34: 44858 | B34: 257786000 | C34: Received - Doc# 11119152 (0767200-4938) BA008-23 | D34: 09/06/22 PG23-001 | F34: =F35-F33 -> 2438745.4
A35: 44861 | B35: 8194000 | C35: Received -Doc# 11086817 corrected by doc# 11119152 (0767200-4938) BA014-23 | F35: 2438745.4
A36: 45106 | B36: 26000000 | C36: Received -Doc# 12014035 - transfer Q4 Paygo funds to Plant Fund (0767200-4938) BA069-23 | D36: 09/07/22 PG23-002 | F36: =F37-F35 -> 71945.11
A37: 45442 | B37: 24033000 | C37: Received - Doc# 13361463 BA044-24 | F37: 2510690.5
A38: 45632 | B38: 2300760 | C38: BA 086-24 recorded in Workday JRN-001797 Dec 24 (original was recorded in KFS FY24 Paygo in Aug 2024) BA086-24 | D38: 09/21/22 PG23-003 | F38: =F39-F37 -> 5404063
B39: =E32-B34-B35-B36-B37-B38 -> 12666240 | C39: Remaining Balance to be Transferred | F39: 7914753.5
D40: 10/05/22 PG23-004 | F40: =F41-F39 -> 3907510
B41: $3,065,382 - received 5/14/25, in progress | F41: 11822264
D42: 10/06/22 PG23-005 | F42: =F43-F41 -> 14072.4
F43: 11836336
...

Sheet Summary by Campus
A2: FY2023 Paygo Funding
E4: Total MCCBL | F4: Total Invoices | G4: Invoices | H4: Invoices | I4: Invoices | J4: Total MCCBL
A5: Appn. | B5: Appn. | C5: KFS A/C # | D5: Project Description | E5: Authorizations | F5: Processed | G5: Payment | H5: Payment | I5: Payment | J5: Balances
A6: Year | B6: Number | C6: Sub - 3772 | E6: To-date | F6: To-date | G6: FY23 | H6: FY24 | I6: FY25 | J6: Available To-date
A7: 23 | D7: UMCP Chemistry Building Wing 1 Replacement | E7: =UMCP!D97 -> 57817000 | F7: =UMCP!K97 -> 54246153 | G7: 28832916 | H7: 19120312 | I7: =F7-G7-H7 -> 6292924.4 | J7: =E7-F7 -> 3570846.9
A8: 23 | D8: UMCP Facilities Renewal Program | E8: =UMCP!D194 -> 23503432 | F8: =UMCP!K194 -> 16812952 | G8: 2622930.5 | H8: 7422745.6 | I8: =F8-G8-H8 -> 6767276 | J8: =E8-F8 -> 6690479.9
A10: UMCP Total | E10: =SUM(E7:E9) -> 81320432 | F10: =SUM(F7:F9) -> 71059105 | G10: =SUM(G7:G9) -> 31455847 | H10: =SUM(H7:H9) -> 26543058 | I10: =SUM(I7:I9) -> 13060200 | J10: =SUM(J7:J9) -> 10261327
A12: 23 | D12: UMB Central Electric Substation and Redundancy | E12: =UMB!D14 -> 16138000 | F12: =UMB!K14 -> 3184876.9 | G12: 0 | H12: 0 | I12: =F12-G12-H12 -> 3184876.9 | J12: =E12-F12 -> 12953123
A13: 23 | D13: UMB Facilities Renewal Program | E13: =UMB!D54 -> 12391073 | F13: =UMB!K54 -> 6920426.6 | G13: 1181987.2 | H13: 1929288 | I13: =F13-G13-H13 -> 3809151.4 | J13: =E13-F13 -> 5470646.4
A15: UMB Total | E15: =SUM(E12:E14) -> 28529073 | F15: =SUM(F12:F14) -> 10105304 | G15: =SUM(G12:G14) -> 1181987.2 | H15: =SUM(H12:H14) -> 1929288 | I15: =SUM(I12:I14) -> 6994028.3 | J15: =SUM(J12:J14) -> 18423770
A17: 23 | D17: UMES Facilities Renewal Program | E17: =UMES!D30 -> 3227327 | F17: =UMES!K30 -> 198593.5 | G17: 163629.26 | H17: 740.2 | I17: =F17-G17-H17 -> 34224.04 | J17: =E17-F17 -> 3028733.5
A19: UMES Total | E19: =SUM(E17:E18) -> 3227327 | F19: =SUM(F17:F18) -> 198593.5 | G19: =SUM(G17:G18) -> 163629.26 | H19: =SUM(H17:H18) -> 740.2 | I19: =SUM(I17:I18) -> 34224.04 | J19: =SUM(J17:J18) -> 3028733.5
A21: 23 | D21: UMBC Facilities Renewal Program | E21: =UMBC!D34 -> 5806280 | F21: =UMBC!K34 -> 3635227 | G21: 199153.17 | H21: 2000846.8 | I21: =F21-G21-H21 -> 1435227 | J21: =E21-F21 -> 2171053
A23: UMBC Total | E23: =SUM(E21:E22) -> 5806280 | F23: =SUM(F21:F22) -> 3635227 | G23: =SUM(G21:G22) -> 199153.17 | H23: =SUM(H21:H22) -> 2000846.8 | I23: =SUM(I21:I22) -> 1435227 | J23: =SUM(J21:J22) -> 2171053
A25: 23 | D25: UMGC Facilities Renewal Program | E25: =UMGC!D11 -> 565000 | F25: =UMGC!K11 -> 565000 | G25: 0 | H25: 565000 | I25: =F25-G25-H25 -> 0 | J25: =E25-F25 -> 0
A27: UMGC Total | E27: =SUM(E25:E26) -> 565000 | F27: =SUM(F25:F26) -> 565000 | G27: =SUM(G25:G26) -> 0 | H27: =SUM(H25:H26) -> 565000 | I27: =SUM(I25:I26) -> 0 | J27: =SUM(J25:J26) -> 0
A29: 23 | D29: UMCES Chesapeake Analytics Collab Building | E29: =CES!D36 -> 9389000 | F29: =CES!K36 -> 8893261.6 | G29: 0 | H29: 64793.52 | I29: =F29-G29-H29 -> 8828468.1 | J29: =E29-F29 -> 495738.38
A30: 23 | D30: UMCES Facilities Renewal Program | E30: =CES!D43 -> 887932 | F30: =CES!K43 -> 0 | G30: 0 | H30: 0 | I30: =F30-G30-H30 -> 0 | J30: =E30-F30 -> 887932
A31: 23 | D31: UMCES Horn Point Laboratory Sewer Collection System Upgrade | E31: =CES!D48 -> 188000 | F31: =CES!K48 -> 188000 | G31: 188000 | H31: 0 | I31: =F31-G31-H31 -> 0 | J31: =E31-F31 -> 0
A33: UMCES Total | E33: =SUM(E29:E32) -> 10464932 | F33: =SUM(F29:F32) -> 9081261.6 | G33: =SUM(G29:G32) -> 188000 | H33: =SUM(H29:H32) -> 64793.52 | I33: =SUM(I29:I32) -> 8828468.1 | J33: =SUM(J29:J32) -> 1383670.4
A35: 23 | D35: BSU Replace MLK Comm Arts & Hum Building | E35: =BSU!D47 -> 73247000 | F35: =BSU!K47 -> 73246152 | G35: 55187386 | H35: 15526524 | I35: =F35-G35-H35 -> 2532242.4 | J35: =E35-F35 -> 848.08
A36: 23 | D36: BSU Facilities Renewal Program | E36: =BSU!D58 -> 2126310 | F36: =BSU!K58 -> 1226310 | G36: 0 | H36: 750000 | I36: =F36-G36-H36 -> 476310 | J36: =E36-F36 -> 900000
A38: BSU Total | E38: =SUM(E35:E37) -> 75373310 | F38: =SUM(F35:F37) -> 74472462 | G38: =SUM(G35:G37) -> 55187386 | H38: =SUM(H35:H37) -> 16276524 | I38: =SUM(I35:I37) -> 3008552.4 | J38: =SUM(J35:J37) -> 900848.08
A40: 23 | D40: CSU Percy Julian Renovation for Coll Business | E40: =CSU!D17 -> 2500000 | F40: =CSU!K17 -> 241432.04 | G40: 0 | H40: 102483.5 | I40: =F40-G40-H40 -> 138948.54 | J40: =E40-F40 -> 2258568
A41: 23 | D41: CSU Facilities Renewal Program | E41: =CSU!D22 -> 1400329 | F41: =CSU!K22 -> 754443 | G41: 0 | H41: 754443 | I41: =F41-G41-H41 -> 0 | J41: =E41-F41 -> 645886
A43: CSU Total | E43: =SUM(E40:E42) -> 3900329 | F43: =SUM(F40:F42) -> 995875.04 | G43: =SUM(G40:G42) -> 0 | H43: =SUM(H40:H42) -> 856926.5 | I43: =SUM(I40:I42) -> 138948.54 | J43: =SUM(J40:J42) -> 2904454
A45: 23 | D45: FSU Facilities Renewal | E45: =FSU!D34 -> 10000000 | F45: =FSU!K34 -> 8724995 | G45: 3682935 | H45: 3374097.9 | I45: =F45-G45-H45 -> 1667962 | J45: =E45-F45 -> 1275005
A46: 23 | D46: FSU Cordts PE Renovation/Regional Recreation Center | E46: =FSU!D40 -> 0 | F46: =FSU!K40 -> 0 | G46: 0 | H46: 0 | I46: =F46-G46-H46 -> 0 | J46: =E46-F46 -> 0
A47: 23 | D47: FSU Facilities Renewal Program | E47: =FSU!D51 -> 1277670 | F47: =FSU!K51 -> 993304.7 | G47: 0 | H47: 251750.7 | I47: =F47-G47-H47 -> 741554 | J47: =E47-F47 -> 284365.3
A49: FSU Total | E49: =SUM(E45:E48) -> 11277670 | F49: =SUM(F45:F48) -> 9718299.7 | G49: =SUM(G45:G48) -> 3682935 | H49: =SUM(H45:H48) -> 3625848.6 | I49: =SUM(I45:I48) -> 2409516 | J49: =SUM(J45:J48) -> 1559370.3
A51: 23 | D51: SU Blackwell Hall Renovation | E51: =SU!D23 -> 1940000 | F51: =SU!K23 -> 1923054.2 | G51: 370930.56 | H51: 1509882.4 | I51: =F51-G51-H51 -> 42241.15 | J51: =E51-F51 -> 16945.85
A52: 23 | D52: SU Facilities Renewal Program | E52: =SU!D43 -> 2339352 | F52: =SU!K43 -> 1771250 | G52: 154012.9 | H52: 1501319 | I52: =F52-G52-H52 -> 115918.05 | J52: =E52-F52 -> 568102
A54: SU Total | E54: =SUM(E51:E53) -> 4279352 | F54: =SUM(F51:F53) -> 3694304.2 | G54: =SUM(G51:G53) -> 524943.46 | H54: =SUM(H51:H53) -> 3011201.5 | I54: =SUM(I51:I53) -> 158159.2 | J54: =SUM(J51:J53) -> 585047.85
A56: 23 | D56: TU Health Professions Building | E56: =TU!D48 -> 88695000 | F56: =TU!K48 -> 88694630 | G56: 53054241 | H56: 35083658 | I56: =F56-G56-H56 -> 556731.59 | J56: =E56-F56 -> 369.86
A57: 23 | D57: TU Visual & Com Tech (Smith Hall Renovation) | E57: =TU!D68 -> 6066000 | F57: =TU!K68 -> 6066000 | G57: 708625.63 | H57: 4190837.8 | I57: =F57-G57-H57 -> 1166536.6 | J57: =E57-F57 -> 0.0099999998
A58: 23 | D58: TU Facilities Renewal Program | E58: =TU!D88 -> 5796085 | F58: =TU!K88 -> 617817.6 | G58: 0 | H58: 78030.17 | I58: =F58-G58-H58 -> 539787.43 | J58: =E58-F58 -> 5178267.4
A60: TU Total | E60: =SUM(E56:E59) -> 100557085 | F60: =SUM(F56:F59) -> 95378448 | G60: =SUM(G56:G59) -> 53762867 | H60: =SUM(H56:H59) -> 39352526 | I60: =SUM(I56:I59) -> 2263055.6 | J60: =SUM(J56:J59) -> 5178637.3
A62: 23 | D62: UB Facilities Renewal Program | E62: =UB!D14 -> 2207480 | F62: =UB!K14 -> 486414.03 | G62: 0 | H62: 0 | I62: =F62-G62-H62 -> 486414.03 | J62: =E62-F62 -> 1721066
A64: UB Total | E64: =SUM(E62:E62) -> 2207480 | F64: =SUM(F62:F62) -> 486414.03 | G64: =SUM(G62:G62) -> 0 | H64: =SUM(H62:H62) -> 0 | I64: =SUM(I62:I62) -> 486414.03 | J64: =SUM(J62:J62) -> 1721066
A66: 23 | D66: USM Facilities Renewal Program | E66: =USM!D12+USM!D17+USM!D22+USM!D27 -> 3471730 | F66: =USM!K12+USM!K17+USM!K22+USM!K27 -> 916927 | G66: 0 | H66: 498227 | I66: =F66-G66-H66 -> 418700 | J66: =E66-F66 -> 2554803
...

Sheet UMCP
A2: FY2023 Paygo Funding
A4: Project Description | B4: KFS | C4: BPW/Item | D4: Auth Amt | E4: FY | F4: Appropriation | G4: Vendor Name | H4: INVOICE NO. | I4: Date | J4: Certificate | K4: Invoice | L4: Balance | M4: KFS | N4: Date
B5: Account | D5: DGS Trans | F5: Number | I5: Processed | J5: Number | K5: Amount | L5: Available | M5: Doc #
A7: Authorization | C7: 10/25/22 Transferred from DBM | D7: 57817000 | E7: 23
A8: UMCP Chemistry Building Wing 1 Replacement | E8: 23 | G8: The Whiting-Turner Contracting Company | H8: (38) 018100-0052 | I8: 44965 | J8: PG23-019 | K8: 7588233.5 | M8: 11488251 | N8: 44974
A9: UMCP Chemistry Building Wing 1 Replacement | E9: 23 | G9: The Whiting-Turner Contracting Company | H9: (37) 018100-0051(Split) | I9: 44965 | J9: PG23-019 | K9: 2165048.8 | M9: 11488251 | N9: 44974
A10: UMCP Chemistry Building Wing 1 Replacement | E10: 23 | G10: Bowman Consulting Group, Ltd. | H10: 15048.03-10/15048.03-11 | I10: 44986 | J10: PG23-025 | K10: =7720+1505 -> 9225 | M10: 11584724 | N10: 44999
A11: UMCP Chemistry Building Wing 1 Replacement | E11: 23 | G11: The Whiting-Turner Contracting Company | H11: 39 | I11: 45000 | J11: PG23-028 | K11: 5419435.7 | M11: 11612733 | N11: 45009
A12: UMCP Chemistry Building Wing 1 Replacement | E12: 23 | G12: Bowman Consulting Group, Ltd. | H12: 361108 | I12: 45009 | J12: PG23-029 | K12: 5292.58 | M12: 11706388 | N12: 45033
A13: UMCP Chemistry Building Wing 1 Replacement | E13: 23 | G13: The Whiting-Turner Contracting Company | H13: 40 | I13: 45028 | J13: PG23-034 | K13: 4956456.4 | M13: 11706388 | N13: 45033
A14: UMCP Chemistry Building Wing 1 Replacement | E14: 23 | G14: Bowman Consulting Group, Ltd. | H14: 373142 | I14: 45047 | J14: PG23-039 | K14: 4046.42 | M14: 11853679 | N14: 45065
A15: UMCP Chemistry Building Wing 1 Replacement | E15: 23 | G15: The Whiting-Turner Contracting Company | H15: 018100.001 | I15: 45070 | J15: PG23-046 | K15: 4660944.4 | M15: 11891182 | N15: 45076
A16: UMCP Chemistry Building Wing 1 Replacement | E16: 23 | G16: The Whiting-Turner Contracting Company | H16: 018100-0057 | I16: 45091 | J16: PG23-055 | K16: 4024233.7 | M16: 11998394 | N16: 45100
A17: UMCP Chemistry Building Wing 1 Replacement | E17: 23 | G17: Graybar Electric Company, Inc. | H17: 9332559996 | I17: 45114 | J17: PG23-061 | K17: 47954.45 | M17: 12092750 | N17: 45135
A18: UMCP Chemistry Building Wing 1 Replacement | E18: 23 | G18: The Whiting-Turner Contracting Company | H18: 018100-0054 | I18: 45121 | J18: PG23-062 | K18: 136035.48 | M18: 12092750 | N18: 45135
A19: UMCP Chemistry Building Wing 1 Replacement | E19: 23 | G19: Pier Group, LLC | H19: INV4165 | I19: 45126 | J19: PG23-066 | K19: 33061.5 | M19: 12109646 | N19: 45135
A20: UMCP Chemistry Building Wing 1 Replacement | E20: 23 | G20: Pier Group, LLC | H20: INV4172 | I20: 45126 | J20: PG23-066 | K20: 45210.5 | M20: 12109646 | N20: 45135
A21: UMCP Chemistry Building Wing 1 Replacement | E21: 23 | G21: Bowman Consulting Group, Ltd. | H21: 379746 | I21: 45133 | J21: PG23-068 | K21: 13504.41 | M21: 12177926 | N21: 45161
A22: UMCP Chemistry Building Wing 1 Replacement | E22: 23 | G22: The Whiting-Turner Contracting Company | H22: 018100-0058 | I22: 45140 | J22: PG23-070 | K22: 4192637.9 | M22: 12177926 | N22: 45161
A23: UMCP Chemistry Building Wing 1 Replacement | E23: 23 | G23: Pier Group, LLC | H23: 4224 | I23: 45140 | J23: PG23-070 | K23: 23322.5 | M23: 12177926 | N23: 45161
A24: UMCP Chemistry Building Wing 1 Replacement | E24: 23 | G24: Aecom Technical Services Inc. | H24: 2000788858 | I24: 45161 | J24: PG23-079 | K24: 21158.4 | M24: 12338463 | N24: 45196
A25: UMCP Chemistry Building Wing 1 Replacement | E25: 23 | G25: The Whiting-Turner Contracting Company | H25: 018100-0059 | I25: 45176 | J25: PG23-082 | K25: 2860902.8 | M25: 12338463 | N25: 45196
A26: UMCP Chemistry Building Wing 1 Replacement | E26: 23 | G26: Pier Group, LLC | H26: INV4438 | I26: 45184 | J26: PG23-086 | K26: 71171.25 | M26: 12361553 | N26: 45196
A27: UMCP Chemistry Building Wing 1 Replacement | E27: 23 | G27: Aecom Technical Services Inc. | H27: 2000779034 | I27: 45184 | J27: PG23-086 | K27: 22216.32 | M27: 12361553 | N27: 45196
A28: UMCP Chemistry Building Wing 1 Replacement | E28: 23 | G28: Aecom Technical Services Inc. | H28: 2000766627 | I28: 45184 | J28: PG23-086 | K28: 25919.04 | M28: 12361553 | N28: 45196
A29: UMCP Chemistry Building Wing 1 Replacement | E29: 23 | G29: Pier Group, LLC | H29: INV4513 | I29: 45250 | J29: PG23-095 | K29: 56937 | M29: 12627815 | N29: 45271
A30: UMCP Chemistry Building Wing 1 Replacement | E30: 23 | G30: Aecom Technical Services Inc. | H30: 2000799957 | I30: 45250 | J30: PG23-095 | K30: 24332.16 | M30: 12627815 | N30: 45271
A31: UMCP Chemistry Building Wing 1 Replacement | E31: 23 | G31: The Whiting-Turner Contracting Company | H31: 018100-0061 | I31: 45250 | J31: PG23-095 | K31: 1727517 | M31: 12627815 | N31: 45271
A32: UMCP Chemistry Building Wing 1 Replacement | E32: 23 | G32: Aecom Technical Services Inc. | H32: 2000810160 | I32: 45250 | J32: PG23-097 | K32: 16926.72 | M32: 12627815 | N32: 45271
A33: UMCP Chemistry Building Wing 1 Replacement | E33: 23 | G33: The Whiting-Turner Contracting Company | H33: 018100-0062 | I33: 45250 | J33: PG23-097 | K33: 1958900.1 | M33: 12627815 | N33: 45271
A34: UMCP Chemistry Building Wing 1 Replacement | E34: 23 | G34: Aecom Technical Services Inc. | H34: 2000822109 | I34: 45271 | J34: PG23-109 | K34: 21158.4 | M34: 12702135 | N34: 45278
A35: UMCP Chemistry Building Wing 1 Replacement | E35: 23 | G35: The Whiting-Turner Contracting Company | H35: 018100-0063 | I35: 45271 | J35: PG23-110 | K35: 1741287.5 | M35: 12702135 | N35: 45278
A36: UMCP Chemistry Building Wing 1 Replacement | E36: 23 | G36: The Whiting-Turner Contracting Company | H36: 018100-0064 | I36: 45295 | J36: PG23-116 | K36: 1464376.8 | M36: 12815305 | N36: 45320
A37: UMCP Chemistry Building Wing 1 Replacement | E37: 23 | G37: The Whiting-Turner Contracting Company | H37: 018100-0066 | I37: 45295 | J37: PG23-116 | K37: 654273.67 | M37: 12815305 | N37: 45320
A38: UMCP Chemistry Building Wing 1 Replacement | E38: 23 | G38: Aecom Technical Services Inc. | H38: 2000832346 | I38: 45295 | J38: PG23-116 | K38: 21158.4 | M38: 12815305 | N38: 45320
A39: UMCP Chemistry Building Wing 1 Replacement | E39: 23 | G39: Aecom Technical Services Inc. | H39: 2000842323 | I39: 45327 | J39: PG23-126 | K39: 20100.48 | M39: 12904178 | N39: 45348
A40: UMCP Chemistry Building Wing 1 Replacement | E40: 23 | G40: TA Instruments - Waters L.L.C. | H40: 262343110 | I40: 45330 | J40: PG23-128 | K40: 275.27 | M40: 12953849 | N40: 45348
A41: UMCP Chemistry Building Wing 1 Replacement | E41: 23 | G41: TA Instruments - Waters L.L.C. | H41: 262342780 | I41: 45330 | J41: PG23-128 | K41: 3937.93 | M41: 12953849 | N41: 45348
A42: UMCP Chemistry Building Wing 1 Replacement | E42: 23 | G42: TA Instruments - Waters L.L.C. | H42: 262342155 | I42: 45330 | J42: PG23-128 | K42: 3251.39 | M42: 12953849 | N42: 45348
A43: UMCP Chemistry Building Wing 1 Replacement | E43: 23 | G43: TA Instruments - Waters L.L.C. | H43: 262341674 | I43: 45330 | J43: PG23-128 | K43: 545923.88 | M43: 12953849 | N43: 45348
...

Sheet UMB
A2: FY2023 Paygo Funding
A4: Project Description | B4: KFS | C4: BPW/Item | D4: Auth Amt | E4: FY | F4: Appropriation | G4: Vendor Name | H4: INVOICE NO. | I4: Date | J4: Certificate | K4: Invoice | L4: Balance | M4: KFS | N4: Date
B5: Account | D5: DGS Trans | F5: Number | I5: Processed | J5: Number | K5: Amount | L5: Available | M5: Doc #
A7: Authorization
A8: UMB Central Electric Substation and Redundancy | C8: 10/25/22 Transferred from DBM | D8: 16138000 | E8: 23 | G8: Highlander Contracting Company, LLC | H8: 1 | I8: 45637 | J8: PG23-192(1) | K8: 528253.2 | M8: SIR-00000696 | N8: 45643
A9: UMB Central Electric Substation and Redundancy | E9: 23 | G9: Highlander Contracting Company, LLC | H9: 2 | I9: 45706 | J9: PG23-197(2) | K9: 558662.7 | M9: SIR-00002305 | N9: 45713
A10: UMB Central Electric Substation and Redundancy | E10: 23 | G10: Highlander Contracting Company, LLC | H10: 4 | I10: 45796 | J10: PG23-216(1) | K10: 558182 | M10: SIR-00005364 | N10: 45800
A11: UMB Central Electric Substation and Redundancy | E11: 23 | G11: Highlander Contracting Company, LLC | H11: 3 | I11: 45796 | J11: PG23-216(2) | K11: 553204 | M11: SIR-00005364 | N11: 45800
A12: UMB Central Electric Substation and Redundancy | E12: 23 | G12: Highlander Contracting Company, LLC | H12: 5 | I12: 45817 | J12: PG23-222(1) | K12: 986575 | M12: SIR-00005953 | N12: 45825
A14: UMB Central Electric Substation and Redundancy Total | D14: =SUM(D7:D13) -> 16138000 | K14: =SUM(K7:K13) -> 3184876.9 | L14: =+D14-K14 -> 12953123
A16: Authorization
A17: UMB 737 West Lombard Street Mechanical System Upgrades | D17: =8000000-8000000+5000000+518835.83 -> 5518835.8 | E17: 23 | G17: Boland Trane Services, Inc. | H17: JC42108 | I17: 45042 | J17: PG23-037 | K17: 772237.17 | M17: 11940004 | N17: 45086
A18: UMB Replacement of the Davidge Hall Roof | D18: =2800000-2800000+4300000 -> 4300000 | E18: 23 | G18: Boland Trane Services, Inc. | H18: JC42442 | I18: 45044 | J18: PG23-038 | K18: 200000 | M18: 11940004 | N18: 45086
A19: UMB Davidge Hall HVAC Renewal | D19: =1591073-1591073+3091073-518835.83 -> 2572237.2 | E19: 23 | G19: Boland Trane Services, Inc. | H19: JC42623 | I19: 45063 | J19: PG23-043 | K19: 209750 | M19: 11980953 | N19: 45097
A20: UMB Facilities Renewal | E20: 23 | G20: Boland Trane Services, Inc. | H20: JC43090 | I20: 45121 | J20: PG23-065 | K20: 300500 | M20: 12398360 | N20: 45202
A21: UMB Facilities Renewal | E21: 23 | G21: Boland Trane Services, Inc. | H21: JC42906 | I21: 45141 | J21: PG23-072 | K21: 85000 | M21: 12398360 | N21: 45202
A22: UMB Facilities Renewal | E22: 23 | G22: Boland Trane Services, Inc. | H22: JC43453 | I22: 45176 | J22: PG23-084 | K22: 385000 | M22: 12398360 | N22: 45202
A23: UMB Facilities Renewal | E23: 23 | G23: Boland Trane Services, Inc. | H23: JC43602 | I23: 45181 | J23: PG23-085 | K23: 354500 | M23: 12554161 | N23: 45237
A24: UMB Facilities Renewal | E24: 23 | G24: Boland Trane Services, Inc. | H24: JC43735 | I24: 45250 | J24: PG23-098 | K24: 192750 | M24: 12758184 | N24: 45299
A25: UMB Facilities Renewal | E25: 23 | G25: Marshall Craft Associates, Inc. | H25: 11765 | I25: 45251 | J25: PG23-103 | K25: 35550.95 | M25: 12758184 | N25: 45299
A26: UMB Facilities Renewal | E26: 23 | G26: Marshall Craft Associates, Inc. | H26: 11853 | I26: 45295 | J26: PG23-117 | K26: 35550.95 | M26: 12817779 | N26: 45315
A27: UMB Facilities Renewal | E27: 23 | G27: Marshall Craft Associates, Inc. | H27: 11908 | I27: 45320 | J27: PG23-123 | K27: 163534.38 | M27: 13209370 | N27: 45406
A28: UMB Facilities Renewal | E28: 23 | G28: Boland Trane Services, Inc. | H28: JC44807 | I28: 45324 | J28: PG23-125 | K28: 72500 | M28: 13209370 | N28: 45406
A29: UMB Facilities Renewal | E29: 23 | G29: Marshall Craft Associates, Inc. | H29: 11961 | I29: 45341 | J29: PG23-135 | K29: 99586.72 | M29: 13209370 | N29: 45406
A30: UMB Facilities Renewal | E30: 23 | G30: Marshall Craft Associates, Inc. | H30: 12024 | I30: 45378 | J30: PG23-148 | K30: 97216.66 | M30: 13209370 | N30: 45406
A31: UMB Facilities Renewal | E31: 23 | G31: Marshall Craft Associates, Inc. | H31: 12074 | I31: 45454 | J31: PG23-165 | K31: 5663.07 | M31: 13420307 | N31: 45456
A32: UMB Facilities Renewal | E32: 23 | G32: Marshall Craft Associates, Inc. | H32: 12135 | I32: 45454 | J32: PG23-165 | K32: 101935.3 | M32: 13420307 | N32: 45456
A33: UMB Facilities Renewal | E33: 23 | G33: The Christman Company | H33: 1 | I33: 45485 | J33: PG23-168 | K33: 768875.85 | M33: 13570373 | N33: 45498
A34: UMB Facilities Renewal | E34: 23 | G34: The Christman Company | H34: 2 | I34: 45485 | J34: PG23-168 | K34: 441262.65 | M34: 13570373 | N34: 45498
A35: UMB Facilities Renewal | E35: 23 | G35: The Christman Company | H35: 3 | I35: 45485 | J35: PG23-168 | K35: 287347.16 | M35: 13570373 | N35: 45498
A36: UMB Facilities Renewal | E36: 23 | G36: The Christman Company | H36: 4 | I36: 45558 | J36: PG23-179 | K36: 260443.47 | M36: 13855697 | N36: 45562
A37: UMB Facilities Renewal | E37: 23 | G37: The Christman Company | H37: 5 | I37: 45558 | J37: PG23-179 | K37: 361714.63 | M37: 13855697 | N37: 45562
A38: UMB Facilities Renewal | E38: 23 | G38: The Christman Company | H38: 6 | I38: 45574 | J38: PG23-183 | K38: 321719.68 | M38: 13981225 | N38: 10/23/2024
A39: UMB Facilities Renewal | E39: 23 | G39: Marshall Craft Associates, Inc. | H39: 12409 | I39: 45574 | J39: PG23-183 | K39: 5663.07 | M39: 13981225 | N39: 10/23/2024
A40: UMB Facilities Renewal | E40: 23 | G40: The Christman Company | H40: 7 | I40: 45616 | J40: PG23-191 | K40: 350404.65 | M40: SIR-00000243 | N40: 45635
A41: UMB Facilities Renewal | E41: 23 | G41: Marshall Craft Associates, Inc. | H41: 12546 | I41: 45637 | J41: PG23-192 | K41: 11037.25 | M41: SIR-00000696 | N41: 45643
A42: UMB Facilities Renewal | E42: 23 | G42: The Christman Company | H42: 8 | I42: 45637 | J42: PG23-192 | K42: 337543.49 | M42: SIR-00000696 | N42: 45643
A43: UMB Facilities Renewal | E43: 23 | G43: Marshall Craft Associates, Inc. | H43: 12632 | I43: 45679 | J43: PG23-193 | K43: 2759.31 | M43: SIR-00001375 | N43: 45681
A44: UMB Facilities Renewal | E44: 23 | G44: Marshall Craft Associates, Inc. | H44: 12692 | I44: 45706 | J44: PG23-197(1) | K44: 3679.08 | M44: SIR-00002305 | N44: 45713
A45: UMB Facilities Renewal | E45: 23 | G45: The Christman Company | H45: 10 | I45: 45706 | J45: PG23-197(3) | K45: 73835.65 | M45: SIR-00002305 | N45: 45713
...

Sheet UMES
A2: FY2023 Paygo Funding
A4: Project Description | B4: KFS | C4: BPW/Item | D4: Auth Amt | E4: FY | F4: Appropriation | G4: Vendor Name | H4: INVOICE NO. | I4: Date | J4: Certificate | K4: Invoice | L4: Balance | M4: KFS | N4: Date
B5: Account | D5: DGS Trans | F5: Number | I5: Processed | J5: Number | K5: Amount | L5: Available | M5: Doc #
A7: Authorization
A8: UMES 6 Classroom Building, Envelope Reairs (Window, Masonry) | D8: 959796 | E8: 23
A10: UMES 6 Classroom Building, Envelope Reairs (Window, Masonry) | D10: =SUM(D8:D9) -> 959796 | K10: =SUM(K8:K9) -> 0 | L10: =+D10-K10 -> 959796
A12: UMES 6 Offfice/Admin Buildings, Envelope Repairs (Window, Masonry) | D12: 763744 | E12: 23 | G12: Paige Industrial Services | H12: 2230-001 | I12: 44810 | J12: PG23-001 | K12: 51368.4 | M12: 10919361 | N12: 44820
A13: UMES 6 Offfice/Admin Buildings, Envelope Repairs (Window, Masonry) | E13: 23 | G13: Paige Industrial Services | H13: 2230-002 | I13: 44811 | J13: PG23-002 | K13: 71945.11 | M13: 10919427 | N13: 44820
A14: UMES 6 Offfice/Admin Buildings, Envelope Repairs (Window, Masonry) | E14: 23 | G14: Paige Industrial Services | H14: 2230-003 | I14: 44958 | J14: PG23-017 | K14: 40315.75 | M14: 11488251 | N14: 44974
A15: UMES 6 Offfice/Admin Buildings, Envelope Repairs (Window, Masonry) | E15: 23 | G15: UMCP Reimbursement | H15: Ltr Dtd 03/05/24 | I15: 45359 | J15: PG23-140 | K15: 74.02 | M15: 13043230 | N15: 45377
A16: UMES 6 Offfice/Admin Buildings, Envelope Repairs (Window, Masonry) | E16: 23 | G16: UMCP Reimbursement | H16: Ltr Dtd 05/30/24 | I16: 45454 | J16: PG23-161 | K16: 666.18 | M16: 13425578 | N16: 45463
A17: UMES 6 Offfice/Admin Buildings, Envelope Repairs (Window, Masonry) | E17: 23 | G17: UMCP Reimbursement | H17: Ltr Dtd 11/06/24 | I17: 45637 | J17: PG23-188(1) | K17: 5699.54 | M17: JRN-002566 | N17: 45642
A18: UMES 6 Offfice/Admin Buildings, Envelope Repairs (Window, Masonry) | E18: 23 | G18: UMCP Reimbursement | H18: Ltr Dtd 01/14/25 | I18: 45679 | J18: PG23-193 | K18: 28524.5 | M18: JRN-004852 | N18: 45681
A20: UMES 6 Offfice/Admin Buildings, Envelope Repairs (Window, Masonry) | D20: =SUM(D12:D19) -> 763744 | K20: =SUM(K12:K19) -> 198593.5 | L20: =+D20-K20 -> 565150.5
A22: UMES W. P Hytche, Dehumindification System, Chlorine Gen | D22: 500000 | E22: 23
A24: UMES W. P Hytche, Dehumindification System, Chlorine Gen | D24: =SUM(D22:D23) -> 500000 | K24: =SUM(K22:K23) -> 0 | L24: =+D24-K24 -> 500000
A26: UMES EF Performing Arts Center, Envelope & ADA Upgrades | D26: 1003787 | E26: 23
A28: UMES EF Performing Arts Center, Envelope & ADA Upgrades | D28: =SUM(D26:D27) -> 1003787 | K28: =SUM(K26:K27) -> 0 | L28: =+D28-K28 -> 1003787
A30: UMES Facilities Renewal Total | D30: =D10+D20+D24+D28 -> 3227327 | K30: =K10+K20+K24+K28 -> 198593.5 | L30: =L10+L20+L24+L28 -> 3028733.5
A33: UMES 6 Classroom Building, Envelope Reairs (Window, Masonry)
A34: UMES 6 Offfice/Admin Buildings, Envelope Repairs (Window, Masonry)
A35: UMES W. P Hytche, Dehumindification System, Chlorine Gen
A36: UMES EF Performing Arts Center, Envelope & ADA Upgrades
K1046786: =SUM(#REF!,#REF!,#REF!,#REF!,#REF!,#REF!,#REF!,#REF!,#REF!,#REF!,#REF!,#REF!,#REF!,#REF!,#REF!,#REF!,#REF!,#REF!,#REF!,#REF!,#REF!,#REF!,#REF!,#REF!,#REF!,#REF!,#REF!,#REF!,#REF!,#REF!,#REF!,#REF!,#REF!,#REF!,#REF!,#REF!,#REF!,#REF!,#REF!,#REF!,#REF!,#REF!,#REF!,#REF!,#REF!,#REF!,#REF!,#REF!,#REF!,#REF!,#REF!,#REF!,#REF!,#REF!,#REF!,#REF!,#REF!,#REF!,#REF!,#REF!,#REF!,#REF!,#REF!,#REF!,#REF!,#REF!,#REF!,#REF!,#REF!,#REF!,#REF!,#REF!,#REF!,#REF!,#REF!,#REF!,#REF!,#REF!,#REF!,#REF!,#REF!,#REF!,#REF!,#REF!,#REF!,#REF!,#REF!,#REF!,#REF!,#REF!,#REF!,#REF!,#REF!,#REF!,#REF!,#REF!,#REF!,#REF!,#REF!,#REF!,#REF!,#REF!) -> #REF!

Sheet UMBC
A2: FY2023 Paygo Funding
A4: Project Description | B4: KFS | C4: BPW/Item | D4: Auth Amt | E4: FY | F4: Appropriation | G4: Vendor Name | H4: INVOICE NO. | I4: Date | J4: Certificate | K4: Invoice | L4: Balance | M4: KFS | N4: Date
B5: Account | D5: DGS Trans | F5: Number | I5: Processed | J5: Number | K5: Amount | L5: Available | M5: Doc #
A7: Authorization
A8: UMBC Math/Psych, Bio and UC Elevator Upgrades | D8: 3000000 | E8: 23 | G8: Jeffrey Brown Contracting, LLC | H8: 2022-015-01 | I8: 44840 | J8: PG23-005 | K8: 14072.4 | M8: 11268240 | N8: 44908
A9: UMBC Multiple Bldgs Fire Alarm System Upgrades | D9: 1806280 | E9: 23 | G9: Jeffrey Brown Contracting, LLC | H9: 2022-015-02 | I9: 44879 | J9: PG23-006 | K9: 12192.44 | M9: 11268240 | N9: 44908
A10: UMBC Library and Tech Research Center Roof Replacements | D10: 1000000 | E10: 23 | G10: Jeffrey Brown Contracting, LLC | H10: 2022-015-03 | I10: 44931 | J10: PG23-012 | K10: 34606.6 | M10: 11460080 | N10: 44967
A11: UMBC Math/Psych, Bio and UC Elevator Upgrades | E11: 23 | G11: Jeffrey Brown Contracting, LLC | H11: 2022-015-04 | I11: 45000 | J11: PG23-027 | K11: 15646.5 | M11: 11871337 | N11: 45070
A12: UMBC Facilities Renewal | E12: 23 | G12: Jeffrey Brown Contracting, LLC | H12: 2022-015-06 | I12: 45050 | J12: PG23-040 | K12: 79173.76 | M12: 11871337 | N12: 45070
A13: UMBC Facilities Renewal | E13: 23 | G13: Jeffrey Brown Contracting, LLC | H13: 2022-015-07 | I13: 45084 | J13: PG23-051 | K13: 43461.47 | M13: 11980666 | N13: 45097
A14: UMBC Facilities Renewal | E14: 23 | G14: Jeffrey Brown Contracting, LLC | H14: 2022-015-08 | I14: 45113 | J14: PG23-060 | K14: 291443 | M14: 12106972 | N14: 45133
A15: UMBC Facilities Renewal | E15: 23 | G15: Jeffrey Brown Contracting, LLC | H15: 2022-015-10 | I15: 45145 | J15: PG23-073 | K15: 35208.42 | M15: 12248061 | N15: 45167
A16: UMBC Facilities Renewal | E16: 23 | G16: Jeffrey Brown Contracting, LLC | H16: 2022-015-11 | I16: 45160 | J16: PG23-078 | K16: 177355.5 | M16: 12720824 | N16: 45279
A17: UMBC Facilities Renewal | E17: 23 | G17: Jeffrey Brown Contracting, LLC | H17: 2022-015-09 | I17: 45176 | J17: PG23-083 | K17: 83899.13 | M17: 12720824 | N17: 45279
A18: UMBC Facilities Renewal | E18: 23 | G18: Plano-Coudon, LLC | H18: 2(Split) | I18: 45196 | J18: PG23-089 | K18: 179650.75 | M18: 12720824 | N18: 45279
A19: UMBC Facilities Renewal | E19: 23 | G19: Jeffrey Brown Contracting, LLC | H19: 2022-015-12 | I19: 45246 | J19: PG23-093 | K19: 78633.82 | M19: 12758118 | N19: 45299
A20: UMBC Facilities Renewal | E20: 23 | G20: Jeffrey Brown Contracting, LLC | H20: 2022-015-13 | I20: 45246 | J20: PG23-093 | K20: 35836.85 | M20: 12758118 | N20: 45299
A21: UMBC Facilities Renewal | E21: 23 | G21: Jeffrey Brown Contracting, LLC | H21: 2022-015-14 | I21: 45260 | J21: PG23-106 | K21: 86397.75 | M21: 12720824 | N21: 45279
A22: UMBC Facilities Renewal | E22: 23 | G22: Expenditure transfer from Bond funds to PayGo for Plano-Coudon Inv#3(Split), it should be paid from PayGo FY23, was paid mistakenly from Bond funds through 2022A Cert#78 | I22: 45273 | J22: PG23-111 | K22: 820349.25 | M22: 12711479 | N22: 45278
A23: UMBC Facilities Renewal | E23: 23 | G23: Jeffrey Brown Contracting, LLC | H23: 2022-015-15 | I23: 45303 | J23: PG23-118 | K23: 60599.55 | M23: 12815233 | N23: 45315
A24: UMBC Facilities Renewal | E24: 23 | G24: Jeffrey Brown Contracting, LLC | H24: 2022-015-16 | I24: 45341 | J24: PG23-131 | K24: 93278.98 | M24: 13081606 | N24: 45377
A25: UMBC Facilities Renewal | E25: 23 | G25: Jeffrey Brown Contracting, LLC | H25: 2022-015-17 | I25: 45366 | J25: PG23-143 | K25: 40236.3 | M25: 13313908 | N25: 45429
A26: UMBC Facilities Renewal | E26: 23 | G26: Jeffrey Brown Contracting, LLC | H26: 2022-015-18 | I26: 45412 | J26: PG23-157 | K26: 17957.53 | M26: 13313908 | N26: 45429
A27: UMBC Facilities Renewal | E27: 23 | G27: Brawner Builders | H27: 1 | I27: 45574 | J27: PG23-184 | K27: 517806.9 | M27: 13981235 | N27: 10/23/2024
A28: UMBC Facilities Renewal | E28: 23 | G28: Brawner Builders | H28: 2 | I28: 45728 | J28: PG23-204 | K28: 426739.68 | M28: SIR-00002984 | N28: 45732
A29: UMBC Facilities Renewal | E29: 23 | G29: Brawner Builders | H29: 3 | I29: 45814 | J29: PG23-220(1) | K29: 87617.33 | M29: SIR-00005952
A30: UMBC Facilities Renewal | E30: 23 | G30: Brawner Builders | H30: 4 | I30: 45814 | J30: PG23-220(1) | K30: 197578.13 | M30: SIR-00005952
A31: UMBC Facilities Renewal | E31: 23 | G31: Dvorak | H31: 01 | I31: 45814 | J31: PG23-220(2) | K31: 13775 | M31: SIR-00005952
A32: UMBC Facilities Renewal | E32: 23 | G32: Brawner Builders | H32: 5(100098.026-5) | I32: 45824 | J32: PG23-224 | K32: 191710 | M32: SIR-00005952
A34: UMBC Facilities Renewal Total | D34: =SUM(D7:D33) -> 5806280 | K34: =SUM(K7:K33) -> 3635227 | L34: =+D34-K34 -> 2171053
K1046796: =SUM(#REF!,#REF!,#REF!,#REF!,#REF!,#REF!,#REF!,#REF!,#REF!,#REF!,#REF!,#REF!,#REF!,#REF!,#REF!,#REF!,#REF!,#REF!,#REF!,#REF!,#REF!,#REF!,#REF!,#REF!,#REF!,#REF!,#REF!,#REF!,#REF!,#REF!,#REF!,#REF!,#REF!,#REF!,#REF!,#REF!,#REF!,#REF!,#REF!,#REF!,#REF!,#REF!,#REF!,#REF!,#REF!,#REF!,#REF!,#REF!,#REF!,#REF!,#REF!,#REF!,#REF!,#REF!,#REF!,#REF!,#REF!,#REF!,#REF!,#REF!,#REF!,#REF!,#REF!,#REF!,#REF!,#REF!,#REF!,#REF!,#REF!,#REF!,#REF!,#REF!,#REF!,#REF!,#REF!,#REF!,#REF!,#REF!,#REF!,#REF!,#REF!,#REF!,#REF!,#REF!,#REF!,#REF!,#REF!,#REF!,#REF!,#REF!,#REF!,#REF!,#REF!,#REF!,#REF!,#REF!,#REF!,#REF!,#REF!,#REF!,#REF!,#REF!) -> #REF!

Sheet UMGC
A2: FY2023 Paygo Funding
A4: Project Description | B4: KFS | C4: BPW/Item | D4: Auth Amt | E4: FY | F4: Appropriation | G4: Vendor Name | H4: INVOICE NO. | I4: Date | J4: Certificate | K4: Invoice | L4: Balance | M4: KFS | N4: Date
B5: Account | D5: DGS Trans | F5: Number | I5: Processed | J5: Number | K5: Amount | L5: Available | M5: Doc #
A7: Authorization | E7: 23
A8: UMGC Admin Building Conference Room HVAC/Electrical Upgrades | D8: 565000 | E8: 23 | G8: UMGC Reimbursement | H8: Ltr Dtd 07/20/23 | I8: 45141 | J8: PG23-071 | K8: =33975.8+51680+85072.5+47964.55 -> 218692.85 | M8: 12190440 | N8: 45153
A9: UMGC Admin Building Conference Room HVAC/Electrical Upgrades | E9: 23 | G9: UMGC Reimbursement | H9: Ltr Dtd 11/29/23 | I9: 45260 | J9: PG23-107 | K9: 346307.15 | M9: 12674047 | N9: 45268
A11: UMGC Facilities Renewal Total | D11: =SUM(D7:D10) -> 565000 | K11: =SUM(K7:K10) -> 565000 | L11: =+D11-K11 -> 0
D13: 218693
D15: =D8-D13 -> 346307
K1046773: =SUM(#REF!,#REF!,#REF!,#REF!,#REF!,#REF!,#REF!,#REF!,#REF!,#REF!,#REF!,#REF!,#REF!,#REF!,#REF!,#REF!,#REF!,#REF!,#REF!,#REF!,#REF!,#REF!,#REF!,#REF!,#REF!,#REF!,#REF!,#REF!,#REF!,#REF!,#REF!,#REF!,#REF!,#REF!,#REF!,#REF!,#REF!,#REF!,#REF!,#REF!,#REF!,#REF!,#REF!,#REF!,#REF!,#REF!,#REF!,#REF!,#REF!,#REF!,#REF!,#REF!,#REF!,#REF!,#REF!,#REF!,#REF!,#REF!,#REF!,#REF!,#REF!,#REF!,#REF!,#REF!,#REF!,#REF!,#REF!,#REF!,#REF!,#REF!,#REF!,#REF!,#REF!,#REF!,#REF!,#REF!,#REF!,#REF!,#REF!,#REF!,#REF!,#REF!,#REF!,#REF!,#REF!,#REF!,#REF!,#REF!,#REF!,#REF!,#REF!,#REF!,#REF!,#REF!,#REF!,#REF!,#REF!,#REF!,#REF!,#REF!,#REF!,#REF!) -> #REF!

Sheet CES
A2: FY2023 Paygo Funding
A4: Project Description | B4: KFS | C4: BPW/Item | D4: Auth Amt | E4: FY | F4: Appropriation | G4: Vendor Name | H4: INVOICE NO. | I4: Date | J4: Certificate | K4: Invoice | L4: Balance | M4: KFS | N4: Date
B5: Account | D5: DGS Trans | F5: Number | I5: Processed | J5: Number | K5: Amount | L5: Available | M5: Doc #
A7: Authorization
A8: UMCES Chesapeake Analytics Collab Building | C8: 10/25/22 Transferred from DBM | D8: 9389000 | E8: 23 | G8: Barton Malow Company | H8: 13 | I8: 45271 | J8: PG23-110 | K8: 15967.92 | M8: 12702135 | N8: 45278
A9: UMCES Chesapeake Analytics Collab Building | E9: 23 | G9: Design Collective, Inc. | H9: 0000765 | I9: 45303 | J9: PG23-119 | K9: 12114.5 | M9: 12815305 | N9: 45320
A10: UMCES Chesapeake Analytics Collab Building | E10: 23 | G10: Design Collective, Inc. | H10: 0000852 | I10: 45330 | J10: PG23-128 | K10: 1788.75 | M10: 12953849 | N10: 45348
A11: UMCES Chesapeake Analytics Collab Building | E11: 23 | G11: UMCP Reimbursement | H11: Ltr Dtd 03/05/24 | I11: 45359 | J11: PG23-140 | K11: 367.6 | M11: 13043230 | N11: 45377
A12: UMCES Chesapeake Analytics Collab Building | E12: 23 | G12: Design Collective, Inc. | H12: 0001021 | I12: 45434 | J12: PG23-159 | K12: 34554.75 | M12: 13331708 | N12: 45441
A13: UMCES Chesapeake Analytics Collab Building | E13: 23 | G13: Design Collective, Inc. | H13: 0001285 | I13: 45559 | J13: PG23-181 | K13: 14847.33 | M13: 13836916 | N13: 45561
A14: UMCES Chesapeake Analytics Collab Building | E14: 23 | G14: Costello Construction | H14: 052401 | I14: 45574 | J14: PG23-185 | K14: 415188.95 | M14: 13924866 | N14: 10/24/2024
A15: UMCES Chesapeake Analytics Collab Building | E15: 23 | G15: Costello Construction | H15: 052402 | I15: 45574 | J15: PG23-185 | K15: 238219.15 | M15: 13924866 | N15: 10/24/2024
A16: UMCES Chesapeake Analytics Collab Building | E16: 23 | G16: Design Collective, Inc. | H16: 0001482 | I16: 45574 | J16: PG23-185 | K16: 16319.33 | M16: 13924866 | N16: 10/24/2024
A17: UMCES Chesapeake Analytics Collab Building | E17: 23 | G17: Design Collective, Inc. | H17: 0001377 | I17: 45574 | J17: PG23-185 | K17: 14847.28 | M17: 13924866 | N17: 10/24/2024
A18: UMCES Chesapeake Analytics Collab Building | E18: 23 | G18: Costello Construction | H18: 0524-04 | I18: 45616 | J18: PG23-190(4) | K18: 823656.03 | M18: JRN-000746 | N18: 45623
A19: UMCES Chesapeake Analytics Collab Building | E19: 23 | G19: Costello Construction | H19: 0524-03 | I19: 45616 | J19: PG23-190(5) | K19: 1036736.8 | M19: JRN-000746 | N19: 45623
A20: UMCES Chesapeake Analytics Collab Building | E20: 23 | G20: UMCP Reimbursement | H20: Ltr Dtd 11/06/24 | I20: 45637 | J20: PG23-188(1) | K20: 5403.46 | M20: JRN-002566 | N20: 45642
A21: UMCES Chesapeake Analytics Collab Building | E21: 23 | G21: UMCP Reimbursement | H21: Ltr Dtd 01/14/25 | I21: 45679 | J21: PG23-193 | K21: 59132.25 | M21: JRN-004852 | N21: 45681
A22: UMCES Chesapeake Analytics Collab Building | E22: 23 | G22: Costello Construction | H22: 0524-07 | I22: 45712 | J22: PG23-201(3) | K22: 687421.36 | M22: JRN-008111 | N22: 45726
A23: UMCES Chesapeake Analytics Collab Building | E23: 23 | G23: Design Collective | H23: 0001986 | I23: 45728 | J23: PG23-205(11) | K23: 39640.52 | M23: JRN-009562 | N23: 45732
A24: UMCES Chesapeake Analytics Collab Building | E24: 23 | G24: Costello Construction Of Maryland | H24: 0524-05 | I24: 45728 | J24: PG23-205(13) | K24: 1231233.2 | M24: JRN-009562 | N24: 45732
A25: UMCES Chesapeake Analytics Collab Building | E25: 23 | G25: Costello Construction Of Maryland | H25: 0524-06 | I25: 45728 | J25: PG23-205(2) | K25: 1674087.2 | M25: JRN-009562 | N25: 45732
A26: UMCES Chesapeake Analytics Collab Building | E26: 23 | G26: Barton Malow Company | H26: 14 | I26: 45728 | J26: PG23-205(9) | K26: 99188.23 | M26: JRN-009562 | N26: 45732
A27: UMCES Chesapeake Analytics Collab Building | E27: 23 | G27: Design Collective, Inc. | H27: 0002061 | I27: 45763 | J27: PG23-212(1) | K27: 15493.33 | M27: JRN-012904 | N27: 45769
A28: UMCES Chesapeake Analytics Collab Building | E28: 23 | G28: Design Collective, Inc. | H28: 0001825 | I28: 45763 | J28: PG23-212(2) | K28: 10044.07 | M28: JRN-012904 | N28: 45769
A29: UMCES Chesapeake Analytics Collab Building | E29: 23 | G29: Costello Construction Of Maryland, Inc. | H29: 052408 | I29: 45763 | J29: PG23-212(3) | K29: 821543.3 | M29: JRN-012904 | N29: 45769
A30: UMCES Chesapeake Analytics Collab Building | E30: 23 | G30: Design Collective, Inc. | H30: 0002235 | I30: 45792 | J30: PG23-217(01) | K30: 16458.29 | M30: JRN-016366 | N30: 45805
A31: UMCES Chesapeake Analytics Collab Building | E31: 23 | G31: Costello Construction Of Maryland, Inc. | H31: 052409 | I31: 45792 | J31: PG23-217(02) | K31: 692273.47 | M31: JRN-016366 | N31: 45805
A32: UMCES Chesapeake Analytics Collab Building | E32: 23 | G32: Design Collective, Inc. | H32: 0002260 | I32: 45792 | J32: PG23-217(11) | K32: 22446.76 | M32: JRN-016366 | N32: 45805
A33: UMCES Chesapeake Analytics Collab Building | E33: 23 | G33: UMCP Reimbursement | H33: Ltr Dtd 05/15/25 | I33: 45796 | J33: PG23-217(12) | K33: 111253.56 | M33: JRN-016444 | N33: 45805
A34: UMCES Chesapeake Analytics Collab Building | E34: 23 | G34: Costello Construction Of Maryland, Inc. | H34: 0524-10 | I34: 16224 | J34: PG23-223(1) | K34: 783034.19 | M34: JRN-020996 | N34: 45833
A36: UMCES Chesapeake Analytics Collab Building Total | D36: =SUM(D7:D35) -> 9389000 | K36: =SUM(K7:K35) -> 8893261.6 | L36: =+D36-K36 -> 495738.38
A38: Authorization
A39: UMCES HPL Visitor Building Renovation | D39: 400000 | E39: 23
A40: UMCES HPL Environmental Education Facility | D40: 300000 | E40: 23
A41: UMCES CBL Bernie Fowler Lab Roof and HVAC Replacement | D41: 187932 | E41: 23
A43: UMCES Facilities Renewal Total | D43: =SUM(D38:D42) -> 887932 | K43: =SUM(K38:K42) -> 0 | L43: =+D43-K43 -> 887932
A45: Authorization
A46: UMCES Horn Point Laboratory Sewer Collection System Upgrade | C46: 10/26/22 Transferred from DBM | D46: 188000 | E46: 23 | G46: Maryland Environmental Service | H46: CI-032046 | I46: 45064 | J46: JV Doc# 11846850 | K46: 188000 | M46: 11846850 | N46: 45064
A48: UMCES Horn Point Laboratory Sewer Collection System Upgrade Total | D48: =SUM(D45:D47) -> 188000 | K48: =SUM(K45:K47) -> 188000 | L48: =+D48-K48 -> 0
...

Sheet BSU
A2: FY2023 Paygo Funding
A4: Project Description | B4: KFS | C4: BPW/Item | D4: Auth Amt | E4: FY | F4: Appropriation | G4: Vendor Name | H4: INVOICE NO. | I4: Date | J4: Certificate | K4: Invoice | L4: Balance | M4: KFS | N4: Date
B5: Account | D5: DGS Trans | F5: Number | I5: Processed | J5: Number | K5: Amount | L5: Available | M5: Doc #
A7: Authorization | C7: 10/25/22 Transferred from DBM | D7: 73247000 | E7: 23
A8: BSU Replace MLK Comm Arts & Hum Building | E8: 23 | G8: The Whiting-Turner Contracting Co, Inc. | H8: 018510-0027(Split) | I8: 44810 | J8: PG23-001 | K8: 2387377 | M8: 10919361 | N8: 44820
A9: BSU Replace MLK Comm Arts & Hum Building | E9: 23 | G9: The Whiting-Turner Contracting Co, Inc. | H9: 018510-0028 | I9: 44825 | J9: PG23-003 | K9: 5404063 | M9: 10970071 | N9: 44833
A10: BSU Replace MLK Comm Arts & Hum Building | E10: 23 | G10: The Whiting-Turner Contracting Co, Inc. | H10: 018510-0029 | I10: 44839 | J10: PG23-004 | K10: 3907510 | M10: 11051831 | N10: 44853
A11: BSU Replace MLK Comm Arts & Hum Building | E11: 23 | G11: The Whiting-Turner Contracting Co, Inc. | H11: 018510-0030 | I11: 44883 | J11: PG23-007 | K11: 4858838 | M11: 11212830 | N11: 44895
A12: BSU Replace MLK Comm Arts & Hum Building | E12: 23 | G12: The Whiting-Turner Contracting Co, Inc. | H12: 018510-0031 | I12: 44902 | J12: PG23-010 | K12: 3778195 | M12: 11255588 | N12: 44904
A13: BSU Replace MLK Comm Arts & Hum Building | E13: 23 | G13: The Whiting-Turner Contracting Co, Inc. | H13: 018510-0032 | I13: 44937 | J13: PG23-013 | K13: 4840015 | M13: 11381774 | N13: 44953
A14: BSU Replace MLK Comm Arts & Hum Building | E14: 23 | G14: The Whiting-Turner Contracting Co, Inc. | H14: 018510-0033 | I14: 44965 | J14: PG23-019 | K14: 3781756 | M14: 11488251 | N14: 44974
A15: BSU Replace MLK Comm Arts & Hum Building | E15: 23 | G15: The Whiting-Turner Contracting Co, Inc. | H15: 018510-0035 | I15: 45028 | J15: PG23-034 | K15: 6793327 | M15: 11706388 | N15: 45033
A16: BSU Replace MLK Comm Arts & Hum Building | E16: 23 | G16: The Whiting-Turner Contracting Co, Inc. | H16: 018510-0034 | I16: 45047 | J16: PG23-039 | K16: 6625530 | M16: 11853679 | N16: 45065
A17: BSU Replace MLK Comm Arts & Hum Building | E17: 23 | G17: The Whiting-Turner Contracting Co, Inc. | H17: 018510-0036 | I17: 45063 | J17: PG23-044 | K17: 7011371 | M17: 11876322 | N17: 45071
A18: BSU Replace MLK Comm Arts & Hum Building | E18: 23 | G18: Turner & Townsend Heery LLC | H18: PJIN0036180 | I18: 45079 | J18: PG23-048 | K18: 2888.8 | M18: 11950237 | N18: 45089
A19: BSU Replace MLK Comm Arts & Hum Building | E19: 23 | G19: The Whiting-Turner Contracting Co, Inc. | H19: 018510-0037 | I19: 45084 | J19: PG23-052 | K19: 5796515 | M19: 11950237 | N19: 45089
... A28: BSU Replace MLK Comm Arts & Hum Building | E28: 23 | G28: Turner & Townsend Heery LLC | H28: P JIN0039085 | I28: 45295 | J28: PG23-116 | K28: 10977.44 | M28: 12815305 | N28: 45320
A29: BSU Replace MLK Comm Arts & Hum Building | E29: 23 | G29: Washington Workplace, Inc. | H29: CL231124A | I29: 45295 | J29: PG23-116 | K29: 90810.6 | M29: - | N29: -
A30: BSU Replace MLK Comm Arts & Hum Building | E30: 23 | G30: Pending Washington Workplace Inv#CL231124A | I30: 45308 | J30: Pending | K30: -90810.6 | M30: - | N30: -
A31: BSU Replace MLK Comm Arts & Hum Building | E31: 23 | G31: Turner & Townsend Heery LLC | H31: PJIN0039337 | I31: 45320 | J31: PG23-122 | K31: 9244.16 | M31: 12904178 | N31: 45348
A32: BSU Replace MLK Comm Arts & Hum Building | E32: 23 | G32: Turner & Townsend Heery LLC | H32: PJIN0039608 | I32: 45343 | J32: PG23-136 | K32: 12132.96 | M32: 12953849 | N32: 45348
A33: BSU Replace MLK Comm Arts & Hum Building | E33: 23 | G33: UMCP Reimbursement | H33: Ltr Dtd 03/05/24 | I33: 45359 | J33: PG23-140 | K33: 783484.38 | M33: 13043230 | N33: 45377
A34: BSU Replace MLK Comm Arts & Hum Building | E34: 23 | G34: Turner & Townsend Heery LLC | H34: PJIN0039850 | I34: 45373 | J34: PG23-147 | K34: 10977.44 | M34: 13073779 | N34: 45377
A35: BSU Replace MLK Comm Arts & Hum Building | E35: 23 | G35: Washington Workplace, Inc. | H35: CL231124A | I35: 45373 | J35: PG23-150 | K35: 90810.6 | M35: 13073779 | N35: 45377
A36: BSU Replace MLK Comm Arts & Hum Building | E36: 23 | G36: Victorekpuk | H36: 01 | I36: 45404 | J36: PG23-155 | K36: 8000 | M36: 13208376 | N36: 45412 | O36: 08/31/22 1-GM
A37: BSU Replace MLK Comm Arts & Hum Building | E37: 23 | G37: Turner & Townsend Heery LLC | H37: PJIN0040112 | I37: 45434 | J37: PG23-159 | K37: 10977.44 | M37: 13331708 | N37: 45441
A38: BSU Replace MLK Comm Arts & Hum Building | E38: 23 | G38: UMCP Reimbursement | H38: Ltr Dtd 05/30/24 | I38: 45454 | J38: PG23-161 | K38: 126944.3 | M38: 13425578 | N38: 45463
A39: BSU Replace MLK Comm Arts & Hum Building | E39: 23 | G39: Turner & Townsend Heery LLC | H39: PJIN0040307 | I39: 45456 | J39: PG23-166 | K39: 6933.12 | M39: 13425578 | N39: 45463
A40: BSU Replace MLK Comm Arts & Hum Building | E40: 23 | G40: Victorekpuk | H40: 02 | I40: 45496 | J40: PG23-172 | K40: 144250 | M40: 13562178 | N40: 45504
A41: BSU Replace MLK Comm Arts & Hum Building | E41: 23 | G41: Turner & Townsend Herry, LLC | H41: PJIN0040561 | I41: 45496 | J41: PG23-172 | K41: 18636.8 | M41: 13562178 | N41: 45504
A42: BSU Replace MLK Comm Arts & Hum Building | E42: 23 | G42: The Whiting-Turner Contracting Co, Inc. | H42: 018510-0051 | I42: 45559 | J42: PG23-181 | K42: 2321184 | M42: 13836916 | N42: 45561
A43: BSU Replace MLK Comm Arts & Hum Building | E43: 23 | G43: Maryland Correctional Enterprises | H43: H03600 | I43: 45686 | J43: PG23-196(3) | K43: 30970 | M43: JRN-005306 | N43: 45687
A44: BSU Replace MLK Comm Arts & Hum Building | E44: 23 | G44: Turner & Townsend Herry, LLC | H44: PJIN0041888 | I44: 45686 | J44: PG23-196(5) | K44: 15769.6 | M44: JRN-005306 | N44: 45687
A45: BSU Replace MLK Comm Arts & Hum Building | E45: 23 | G45: Maryland Correctional Enterprises | H45: H03625 | I45: 45686 | J45: PG23-196(10) | K45: 1432 | M45: JRN-005306 | N45: 45687
A47: BSU Replace MLK Comm Arts & Hum Building Total | D47: =SUM(D7:D46) -> 73247000 | K47: =SUM(K7:K46) -> 73246152 | L47: =+D47-K47 -> 848.08
A49: Authorization | E49: 23
A50: BSU Classroom/Laboratory/Lecture Hall Improvements (Various Building) | D50: 500000 | E50: 23 | G50: Jeffrey Brown Contracting, LLC | H50: 202102713 | I50: 45114 | J50: PG23-061 | K50: 201799.38 | M50: 12092750 | N50: 45135
A51: BSU Mechanical System Replacements (Various Buildings) | D51: 400000 | E51: 23 | G51: Jeffrey Brown Contracting, LLC | H51: 2021027.1 | I51: 45160 | J51: PG23-076 | K51: 199103.52 | M51: 12244899 | N51: 45180
A52: BSU Robinson Hall Mechanical Electrical System Upgrades | D52: 750000 | E52: 23 | G52: Jeffrey Brown Contracting, LLC | H52: 2021-027-15 | I52: 45160 | J52: PG23-076 | K52: 237366.3 | M52: 12244899 | N52: 45180
A53: BSU Campus-wide Sanitary Line Replacements | D53: 476310 | E53: 23 | G53: Jeffrey Brown Contracting, LLC | H53: 2021-027-16 | I53: 45202 | J53: PG23-091 | K53: 111730.8 | M53: 12423019 | N53: 45210
...

Sheet CSU
A2: FY2023 Paygo Funding
A4: Project Description | B4: KFS | C4: BPW/Item | D4: Auth Amt | E4: FY | F4: Appropriation | G4: Vendor Name | H4: INVOICE NO. | I4: Date | J4: Certificate | K4: Invoice | L4: Balance | M4: KFS | N4: Date
B5: Account | D5: DGS Trans | F5: Number | I5: Processed | J5: Number | K5: Amount | L5: Available | M5: Doc #
A7: Authorization | E7: 23
A8: CSU Percy Julian Renovation for Coll Business | C8: 10/25/22 Transferred from DBM | D8: 2500000 | E8: 23 | G8: Quinn Evans Architect | H8: COB2017_20th(Split) | I8: 45341 | J8: PG23-132 | K8: 2656.47 | M8: 13205440 | N8: 45406
A9: CSU Percy Julian Renovation for Coll Business | E9: 23 | G9: Quinn Evans Architect | H9: COB2017_21st | I9: 45366 | J9: PG23-144 | K9: 34285.3 | M9: 13205440 | N9: 45406
A10: CSU Percy Julian Renovation for Coll Business | E10: 23 | G10: Barton Malow Company | H10: 43 (Split) | I10: 45454 | J10: PG23-163 | K10: 65541.73 | M10: 13422264 | N10: 45456
A11: CSU Percy Julian Renovation for Coll Business | E11: 23 | G11: Quinn Evans Architect | H11: 22nd | I11: 45495 | J11: PG23-170 | K11: 699.7 | M11: 13570535 | N11: 45498
A12: CSU Percy Julian Renovation for Coll Business | E12: 23 | G12: Quinn Evans Architect | H12: 23rd | I12: 45525 | J12: PG23-173 | K12: 3878.1 | M12: 13736875 | N12: 45539
A13: CSU Percy Julian Renovation for Coll Business | E13: 23 | G13: Barton Malow Company | H13: 44 | I13: 45525 | J13: PG23-173 | K13: 116285.59 | M13: 13736875 | N13: 45539
A14: CSU Percy Julian Renovation for Coll Business | E14: 23 | G14: Quinn Evans Architect | H14: 24th | I14: 45706 | J14: PG23-195 | K14: 4907.2 | M14: SIR-00002298 | N14: 45713
A15: CSU Percy Julian Renovation for Coll Business | E15: 23 | G15: Quinn Evans Architect | H15: 25th | I15: 45730 | J15: PG23-207 | K15: 13177.95 | M15: SIR-00002999 | N15: 45732
A17: CSU Renovate Julian Sci for the College of Business Total | D17: =SUM(D7:D16) -> 2500000 | K17: =SUM(K7:K16) -> 241432.04 | L17: =+D17-K17 -> 2258568
A19: Authorization | E19: 23
A20: CSU Johnson Auditorium Roof and HVAC Repairs | D20: 1400329 | E20: 23 | G20: Simpson Unlimited, Inc. | H20: 23-0008-1-001/23-0008-1-002/23-0008-1-003 | I20: 45121 | J20: PG23-063 | K20: =293400+225162.9+235880.1 -> 754443 | M20: 12141298 | N20: 45141
A22: CSU Facilities Renewal Total | D22: =SUM(D19:D21) -> 1400329 | K22: =SUM(K19:K21) -> 754443 | L22: =+D22-K22 -> 645886
K1046789: =SUM(#REF!,#REF!,#REF!,#REF!,#REF!,#REF!,#REF!,#REF!,#REF!,#REF!,#REF!,#REF!,#REF!,#REF!,#REF!,#REF!,#REF!,#REF!,#REF!,#REF!,#REF!,#REF!,#REF!,#REF!,#REF!,#REF!,#REF!,#REF!,#REF!,#REF!,#REF!,#REF!,#REF!,#REF!,#REF!,#REF!,#REF!,#REF!,#REF!,#REF!,#REF!,#REF!,#REF!,#REF!,#REF!,#REF!,#REF!,#REF!,#REF!,#REF!,#REF!,#REF!,#REF!,#REF!,#REF!,#REF!,#REF!,#REF!,#REF!,#REF!,#REF!,#REF!,#REF!,#REF!,#REF!,#REF!,#REF!,#REF!,#REF!,#REF!,#REF!,#REF!,#REF!,#REF!,#REF!,#REF!,#REF!,#REF!,#REF!,#REF!,#REF!,#REF!,#REF!,#REF!,#REF!,#REF!,#REF!,#REF!,#REF!,#REF!,#REF!,#REF!,#REF!,#REF!,#REF!,#REF!,#REF!,#REF!,#REF!,#REF!,#REF!,#REF!) -> #REF!

Sheet FSU
A2: FY2023 Paygo Funding
A4: Project Description | B4: KFS | C4: BPW/Item | D4: Auth Amt | E4: FY | F4: Appropriation | G4: Vendor Name | H4: INVOICE NO. | I4: Date | J4: Certificate | K4: Invoice | L4: Balance | M4: KFS | N4: Date
B5: Account | D5: DGS Trans | F5: Number | I5: Processed | J5: Number | K5: Amount | L5: Available | M5: Doc #
A7: Authorization
A8: FSU Facilities Renewal | C8: 10/25/22 Transferred from DBM | D8: 10000000 | E8: 23 | G8: Garland/DBS, Inc. | H8: 42785239926/4275239533 | I8: 44895 | J8: PG23-008 | K8: =174584.35+93652.9 -> 268237.25 | M8: 11292858 | N8: 44915
A9: FSU Facilities Renewal | E9: 23 | G9: Garland/DBS, Inc. | H9: 42785241034 | I9: 44943 | J9: PG23-014 | K9: 237766 | M9: 11387509 | N9: 44950
A10: FSU Facilities Renewal | E10: 23 | G10: Carl Belt, Inc. | H10: 4247-1 | I10: 44944 | J10: PG23-016 | K10: 219395.95 | M10: 11387509 | N10: 44950
A11: FSU Facilities Renewal | E11: 23 | G11: The Efficiency Network | H11: 1 | I11: 44981 | J11: PG23-024 | K11: 40212 | M11: 11726643 | N11: 45036
A12: FSU Facilities Renewal | E12: 23 | G12: Garland/DBS, Inc. | H12: 42785241358 | I12: 45012 | J12: PG23-031 | K12: 26631.75 | M12: 11726643 | N12: 45036
A13: FSU Facilities Renewal | E13: 23 | G13: The Efficiency Network | H13: 2 | I13: 45026 | J13: PG23-032 | K13: 15525 | M13: 11726643 | N13: 45036
A14: FSU Facilities Renewal | E14: 23 | G14: Garland/DBS, Inc. | H14: 42785241885 | I14: 45037 | J14: PG23-036 | K14: 934831.35 | M14: 11757531 | N14: 45043
A15: FSU Facilities Renewal | E15: 23 | G15: The Efficiency Network | H15: 3 | I15: 45056 | J15: PG23-042 | K15: 152226 | M15: 11876713 | N15: 45071
A16: FSU Facilities Renewal | E16: 23 | G16: Carl Belt, Inc. | H16: 4247-2 | I16: 45071 | J16: PG23-047 | K16: 24716.05 | M16: 11907924 | N16: 45079
A17: FSU Facilities Renewal | E17: 23 | G17: The Efficiency Network | H17: 4 | I17: 45079 | J17: PG23-049 | K17: 198544.5 | M17: 11939913 | N17: 45086
A18: FSU Facilities Renewal | E18: 23 | G18: Trane U.S. Inc. | H18: 313625096 | I18: 45089 | J18: PG23-053 | K18: 171995 | M18: 11980666 | N18: 45097
A19: FSU Facilities Renewal | E19: 23 | G19: Garland/DBS, Inc. | H19: 42785242462 | I19: 45091 | J19: PG23-054 | K19: 806369.2 | M19: 11980913 | N19: 45097
A20: FSU Facilities Renewal | E20: 23 | G20: The Efficiency Network | H20: 5 | I20: 45105 | J20: PG23-059 | K20: 586485 | M20: 12106929 | N20: 45133
A21: FSU Facilities Renewal | E21: 23 | G21: Garland/DBS, Inc. | H21: 42785243207 | I21: 45161 | J21: PG23-080 | K21: 263007.55 | M21: 12248213 | N21: 45167
A22: FSU Facilities Renewal | E22: 23 | G22: The Efficiency Network | H22: 6 | I22: 45161 | J22: PG23-080 | K22: 509484.6 | M22: 12248213 | N22: 45167
A23: FSU Facilities Renewal | E23: 23 | G23: Trane U.S. Inc. | H23: 313798798 | I23: 45168 | J23: PG23-081 | K23: 136573 | M23: 12333287 | N23: 45188
A24: FSU Facilities Renewal | E24: 23 | G24: The Efficiency Network | H24: 2201024.1 | I24: 45197 | J24: PG23-090 | K24: 993508.25 | M24: 12418033 | N24: 45205
A25: FSU Facilities Renewal | E25: 23 | G25: Garland/DBS, Inc. | H25: 4278524389 | I25: 45197 | J25: PG23-090 | K25: 394488.3 | M25: 12418033 | N25: 45205
A26: FSU Facilities Renewal | E26: 23 | G26: Garland/DBS, Inc. | H26: 42785243802 | I26: 45246 | J26: PG23-094 | K26: 323641.73 | M26: 12554161 | N26: 45237
A27: FSU Facilities Renewal | E27: 23 | G27: The Efficiency Network | H27: 2201024.07 REV 2 | I27: 45246 | J27: PG23-094 | K27: 65683.82 | M27: 12554161 | N27: 45237
A28: FSU Facilities Renewal | E28: 23 | G28: The Efficiency Network | H28: 2201024.08/2201024.09 | I28: 45250 | J28: PG23-096 | K28: =154117.27+63915.15 -> 218032.42 | M28: 12554161 | N28: 45237
A29: FSU Facilities Renewal | E29: 23 | G29: Garland/DBS, Inc. | H29: 42785244323 | I29: 45251 | J29: PG23-102 | K29: 290250.2 | M29: 12674064 | N29: 45268
A30: FSU Facilities Renewal | E30: 23 | G30: Garland/DBS, Inc. | H30: 42785244683 | I30: 45295 | J30: PG23-115 | K30: 87480.67 | M30: 12817738 | N30: 45315
A31: FSU Facilities Renewal | E31: 23 | G31: The Efficiency Network | H31: 2201024.1 | I31: 45295 | J31: PG23-115 | K31: 91947.4 | M31: 12817738 | N31: 45315
A32: FSU Facilities Renewal | E32: 23 | G32: Trane U.S. Inc. | H32: 315062345 | I32: 45763 | J32: PG23-214 | K32: 1667962 | M32: SIR-00004199 | N32: 45769
A34: FSU Facilities Renewal Total | D34: =SUM(D7:D33) -> 10000000 | K34: =SUM(K7:K33) -> 8724995 | L34: =+D34-K34 -> 1275005
A36: Authorization
A37: FSU Cordts PE Renovation/Regional Recreation Center | D37: 5000000 | E37: 23
A38: FSU Cordts PE Renovation/Regional Recreation Center | C38: 06/08/22 Grant Award to FSU | D38: -5000000
A40: FSU Cordts PE Renov/Regional Rec Center Total | D40: =SUM(D36:D39) -> 0 | K40: =SUM(K36:K39) -> 0 | L40: =+D40-K40 -> 0
A42: Authorization
