Workbook

Sheet Summary
B2: FY2021 Deficiency Appropriation - Tier 2 State Facilities Renewal Projects
B4: Project Name | C4: Authorization | D4: Payment | E4: Payment from | F4: Balance to be | G4: FY2025 | H4: FY2024 | I4: FY2023 | J4: FY2022 | K4: FY2021
E5: Plant Fund | F5: Financed | G5: Activity | H5: Activity | I5: Activity | J5: Activity | K5: Activity
B7: UMCP | C7: =UMCP!G19+UMCP!G24+UMCP!G45 -> 8036658 | D7: =UMCP!I19+UMCP!I24+UMCP!I45 -> 4859931.8 | F7: =C7-D7 -> 3176726.2 | G7: =D7-K7-J7-I7-H7 -> 2917841.7 | H7: 1155329.9 | I7: 759834.64 | J7: 26925.55 | K7: 0
B8: UMB | C8: =UMB!G18+UMB!G28+UMB!G36 -> 4236947 | D8: =UMB!I18+UMB!I28+UMB!I36 -> 4236947 | F8: =C8-D8 -> 0 | G8: =D8-K8-J8-I8-H8 -> 0 | H8: 1593030.4 | I8: 1855841.6 | J8: 788075.01 | K8: 0
B9: UMES | C9: =UMES!G8 -> 1103538 | D9: =UMES!I8 -> 0 | F9: =C9-D9 -> 1103538 | G9: =D9-K9-J9-I9-H9 -> 0 | H9: 0 | I9: 0 | J9: 0 | K9: 0
B10: UMBC | C10: =UMBC!G32+UMBC!G48 -> 1985373 | D10: =UMBC!I32+UMBC!I48 -> 1978194.9 | F10: =C10-D10 -> 7178.08 | G10: =D10-K10-J10-I10-H10 -> 196027.39 | H10: 491555.83 | I10: 1286047.4 | J10: 4564.3 | K10: 0
B11: UMCES | C11: =UMCES!G15+UMCES!G22+UMCES!G28 -> 303615 | D11: =UMCES!I15+UMCES!I22+UMCES!I28 -> 0 | F11: =C11-D11 -> 303615 | G11: =D11-K11-J11-I11-H11 -> 0 | H11: 0 | I11: 0 | J11: 0 | K11: 0
B12: USM Centers | C12: =USM!G9+USM!G14+USM!G20+USM!G27+USM!G33+USM!G40+USM!G47+USM!G52+USM!G57 -> 363495 | D12: =USM!I9+USM!I14+USM!I20+USM!I27+USM!I33+USM!I40+USM!I47+USM!I52+USM!I57 -> 285215 | F12: =C12-D12 -> 78280 | G12: =D12-K12-J12-I12-H12 -> 0 | H12: 65000 | I12: 106420 | J12: 113795 | K12: 0
B13: BSU | C13: =BSU!G11 -> 727061 | D13: =BSU!I11 -> 727061 | F13: =C13-D13 -> 0 | G13: =D13-K13-J13-I13-H13 -> 0 | H13: 0 | I13: 0 | J13: 727061 | K13: 0
B14: CSU | C14: =CSU!G13 -> 478822 | D14: =CSU!I13 -> 212045.14 | F14: =C14-D14 -> 266776.86 | G14: =D14-K14-J14-I14-H14 -> 0 | H14: 152045.14 | I14: 0 | J14: 60000 | K14: 0
B15: FSU | C15: =FSU!G8 -> 436881 | D15: =FSU!I8 -> 436881 | F15: =C15-D15 -> 0 | G15: =D15-K15-J15-I15-H15 -> 0 | H15: 0 | I15: 0 | J15: 436881 | K15: 0
B16: SU | C16: =SU!G11+SU!G18+SU!G24+SU!G34 -> 799907 | D16: =SU!I11+SU!I18+SU!I24+SU!I34 -> 799907 | F16: =C16-D16 -> 0 | G16: =D16-K16-J16-I16-H16 -> 0 | H16: 0 | I16: 0 | J16: 777582 | K16: 22325
B17: TU | C17: =TU!G11+TU!G19+TU!G27 -> 1981887 | D17: =TU!I11+TU!I19+TU!I27 -> 1603425.9 | F17: =C17-D17 -> 378461.12 | G17: =D17-K17-J17-I17-H17 -> 0 | H17: 1005129.9 | I17: 598295.99 | J17: 0 | K17: 0
B18: UB | C18: =UB!G17 -> 754816 | D18: =UB!I17 -> 738734 | F18: =C18-D18 -> 16082 | G18: =D18-K18-J18-I18-H18 -> 373447.37 | H18: 365286.63 | I18: 0 | J18: 0 | K18: 0
B20: Total | C20: =SUM(C7:C19) -> 21209000 | D20: =SUM(D7:D19) -> 15878343 | E20: =SUM(E7:E19) -> 0 | F20: =SUM(F7:F19) -> 5330657.2 | G20: =SUM(G7:G19) -> 3487316.5 | H20: =SUM(H7:H19) -> 4827377.8 | I20: =SUM(I7:I19) -> 4606439.7 | J20: =SUM(J7:J19) -> 2934883.9 | K20: =SUM(K7:K19) -> 22325
B22: 08-0-767072-4938 for Reimbursement
D23: =D24-D21 -> 22325 | F23: FR-001
D24: 22325
D25: =D26-D24 -> 157839 | F25: FR-002
D26: 180164
D27: =D28-D26 -> 57822.59 | F27: FR-003
D28: 237986.59
D29: =D30-D28 -> 5165 | F29: FR-004
D30: 243151.59
D31: =D32-D30 -> 3900 | F31: FR-005
D32: 247051.59
D33: =D34-D32 -> 122170 | F33: FR-006
D34: 369221.59
D35: =D36-D34 -> 60000 | F35: FR-007
D36: 429221.59
D37: =D38-D36 -> 52527.19 | F37: FR-008
D38: 481748.78
D39: =D40-D38 -> 146915.6 | F39: FR-009
D40: 628664.38
C41: 44438 | D41: =D42-D40 -> 46898 | F41: FR-010
D42: 675562.38
D43: =D44-D42 -> 243.42 | F43: FR-011
D44: 675805.8
D45: =D46-D44 -> 832.51 | F45: FR-012
...

Sheet UMCP
B1: FY2021 Deficiency Appropriation - Tier 2 State Facilities Renewal Projects - UMCP
A3: FY | B3: Cert # | C3: Date | D3: Project Name | E3: Account number | F3: Payee | G3: Authorization | H3: Inv No. | I3: Payment | J3: Balance Avail | K3: Doc # | L3: Clear Date
D5: UMCP Replace Failing Cold Water Piping Along Fieldhouse Drive | G5: 3536658
D6: UMCP Replace Failing Cold Water Piping Along Fieldhouse Drive | F6: Funds transferred from UMCP Toll Physics to Replace Failing Cold Water Piping, approved by Bill Olen, executive director of Planning and Construction per Cindy's email dated 3/29/22 | G6: 193421
A7: 22 | B7: FR-019 | C7: 44519 | D7: UMCP Replace Failing Cold Water Piping Along Fieldhouse Drive | F7: Rummel Klepper & Kahl, LLP | H7: 16104.018-16/16104.018-17 | I7: =6071.81+10094.99 -> 16166.8 | K7: 9894441 | L7: 44524
A8: 24 | B8: FR-088 | C8: 45378 | D8: UMCP Replace Failing Cold Water Piping Along Fieldhouse Drive | F8: The Whiting-Turner Contracting Co., Inc. | H8: 019548-0007 | I8: 859015.7 | K8: 13209587 | L8: 45412
A9: 24 | B9: FR-091 | C9: 45434 | D9: UMCP Replace Failing Cold Water Piping Along Fieldhouse Drive | F9: The Whiting-Turner Contracting Co., Inc. | H9: 019548-0006 | I9: 234445.92 | K9: 13331708 | L9: 45441
A10: 25 | B10: FR-094 | C10: 45525 | D10: UMCP Replace Failing Cold Water Piping Along Fieldhouse Drive | E10: 8880090 | F10: The Whiting-Turner Contracting Co., Inc. | H10: 019548-0008 | I10: 233707.67 | K10: 13704619 | L10: 45536
A11: 25 | B11: FR-094 | C11: 45525 | D11: UMCP Replace Failing Cold Water Piping Along Fieldhouse Drive | E11: 8880090 | F11: The Whiting-Turner Contracting Co., Inc. | H11: 019548-0009 | I11: 764005.87 | K11: 13704619 | L11: 45536
A12: 25 | B12: FR-096 | C12: 45558 | D12: UMCP Replace Failing Cold Water Piping Along Fieldhouse Drive | E12: 8880090 | F12: The Whiting-Turner Contracting Co., Inc. | H12: 019548-0010 | I12: 402420.63 | K12: 13836916 | L12: 45561
A13: 25 | B13: FR-096 | C13: 45558 | D13: UMCP Replace Failing Cold Water Piping Along Fieldhouse Drive | E13: 8880090 | F13: The Whiting-Turner Contracting Co., Inc. | H13: 019548-0011 | I13: 253514.35 | K13: 13836916 | L13: 45561
A14: 25 | B14: FR-099 | C14: 45586 | D14: UMCP Replace Failing Cold Water Piping Along Fieldhouse Drive | E14: 8880090 | F14: The Whiting-Turner Contracting Co., Inc. | H14: 019548-0012 | I14: 135987.41 | K14: 13974796 | L14: 45589
A15: 25 | B15: FR-100 | C15: 45615 | D15: UMCP Replace Failing Cold Water Piping Along Fieldhouse Drive | E15: 8880090 | F15: The Whiting-Turner Contracting Co., Inc. | H15: 019548-0013 | I15: 388967.63 | K15: JRN-000651 | L15: 11/22/2024
A16: 25 | B16: FR-106(2) | C16: 45727 | D16: UMCP Replace Failing Cold Water Piping Along Fieldhouse Drive | F16: The Whiting-Turner Contracting Co., Inc. | H16: 019548-0015 | I16: 336225.74 | K16: JRN-009522 | L16: 45740
A17: 25 | B17: FY-107 | C17: 45763 | D17: UMCP Replace Failing Cold Water Piping Along Fieldhouse Drive | F17: The Whiting-Turner Contracting Co., Inc. | H17: 019548-0016(Split) | I17: 105621.28 | K17: JRN-012771 | L17: 45768
D19: UMCP Replace Failing Cold Water Piping Total | G19: =SUM(G5:G18) -> 3730079 | I19: =SUM(I5:I18) -> 3730079 | J19: =G19-I19 -> 0
D21: UMCP School of Public Health Building - Replace Failing Roof | G21: 3000000
D24: UMCP School of Public Health Building Tota; | G24: =SUM(G21:G23) -> 3000000 | I24: =SUM(I21:I23) -> 0 | J24: =G24-I24 -> 3000000
D26: UMCP Toll Physics Building - Replace Failing Air Handing Units Serving Lecture Halls | G26: 1500000
D27: UMCP Toll Physics Building - Replace Failing Air Handing Units Serving Lecture Halls | F27: Funds transferred from UMCP Toll Physics to Replace Failing Cold Water Piping, approved by Bill Olen, executive director of Planning and Construction per Cindy's email dated 3/29/22 | G27: -193421
A28: 22 | B28: FR-030 | C28: 44635 | D28: UMCP Toll Physics Building - Replace Failing Air Handing Units Serving Lecture Halls | F28: W.L. Gary Company, Inc. | H28: 4 | I28: 10758.75 | K28: 10259164 | L28: 44637
A29: 23 | B29: FR-039 | C29: 44805 | D29: UMCP Toll Physics Building - Replace Failing Air Handing Units Serving Lecture Halls | F29: W.L. Gary Company, Inc. | H29: 2255-07 | I29: 87844.02 | K29: 10873313 | L29: 44810
A30: 23 | B30: FR-044 | C30: 44847 | D30: UMCP Toll Physics Building - Replace Failing Air Handing Units Serving Lecture Halls | F30: W.L. Gary Company, Inc. | H30: 8/9 | I30: =191427.41+14276.36 -> 205703.77 | K30: 11081868 | L30: 44860
A31: 23 | B31: FR-045 | C31: 44854 | D31: UMCP Toll Physics Building - Replace Failing Air Handing Units Serving Lecture Halls | F31: W.L. Gary Company, Inc. | H31: 5 | I31: 30742.94 | K31: 11081868 | L31: 44860
A32: 23 | B32: FR-050 | C32: 44896 | D32: UMCP Toll Physics Building - Replace Failing Air Handing Units Serving Lecture Halls | F32: W.L. Gary Company, Inc. | H32: 2255-06 | I32: 160979.96 | K32: 11255588 | L32: 44908
A33: 23 | B33: FR-054 | C33: 44979 | D33: UMCP Toll Physics Building - Replace Failing Air Handing Units Serving Lecture Halls | F33: W.L. Gary Company, Inc. | H33: 2255-11 | I33: 74039.63 | K33: 11527389 | L33: 45007
A34: 23 | B34: FR-059 | C34: 45037 | D34: UMCP Toll Physics Building - Replace Failing Air Handing Units Serving Lecture Halls | F34: W.L. Gary Company, Inc. | H34: 10 | I34: 66792.77 | K34: 11744955 | L34: 45047
A35: 23 | B35: FR-062 | C35: 45070 | D35: UMCP Toll Physics Building - Replace Failing Air Handing Units Serving Lecture Halls | F35: W.L. Gary Company, Inc. | H35: 12 | I35: 59352.58 | K35: 11892518 | L35: 45079
A36: 23 | B36: FR-063 | C36: 45084 | D36: UMCP Toll Physics Building - Replace Failing Air Handing Units Serving Lecture Halls | F36: Sandow Construction, Inc. | H36: 2889 | I36: 14925.57 | K36: 11950237 | L36: 45091
A37: 23 | B37: FR-064 | C37: 45091 | D37: UMCP Toll Physics Building - Replace Failing Air Handing Units Serving Lecture Halls | F37: W.L. Gary Company, Inc. | H37: 13 | I37: 59453.4 | K37: 11998394 | L37: 45103
A38: 24 | B38: FR-081 | C38: 45330 | D38: UMCP Toll Physics Building - Replace Failing Air Handing Units Serving Lecture Halls | F38: Sandow Construction, Inc. | H38: 3118 | I38: 10796.33 | K38: 12953849 | L38: 45348
A39: 24 | B39: FR-086 | C39: 45366 | D39: UMCP Toll Physics Building - Replace Failing Air Handing Units Serving Lecture Halls | E39: 8880214 | F39: W.L. Gary Company, Inc. | H39: 18 | I39: 51072 | K39: 13062445 | L39: 45377
A40: 25 | B40: FR-093 | C40: 45495 | D40: UMCP Toll Physics Building - Replace Failing Air Handing Units Serving Lecture Halls | E40: 8880214 | F40: W.L. Gary Company, Inc. | H40: 19 | I40: 176839.61 | K40: 13562178 | L40: 45504
A41: 25 | B41: FR-098 | C41: 45574 | D41: UMCP Toll Physics Building - Replace Failing Air Handing Units Serving Lecture Halls | F41: W.L. Gary Company, Inc. | H41: 21 | I41: 84083.19 | K41: 13924866 | L41: 10/24/24
A42: 25 | B42: FR-106(1) | C42: 45727 | D42: UMCP Toll Physics Building - Replace Failing Air Handing Units Serving Lecture Halls | F42: Bowman Consulting Group | H42: 452817 | I42: 532.04 | K42: JRN-010066 | L42: 45743
A43: 25 | B43: FR-109 | C43: 45796 | D43: UMCP Toll Physics Building - Replace Failing Air Handing Units Serving Lecture Halls | F43: W. L. Gary Company, Inc. | H43: 21 | I43: 35936.29 | K43: JRN-016300 | L43: 45798
D45: UMCP Toll Physics Building Total | G45: =SUM(G26:G44) -> 1306579 | I45: =SUM(I26:I44) -> 1129852.9 | J45: =G45-I45 -> 176726.15

Sheet UMB
B1: FY2021 Deficiency Appropriation - Tier 2 State Facilities Renewal Projects - UMB
A3: FY | B3: Cert # | C3: Date | D3: Project Name | E3: Account No. | F3: Payee | G3: Authorization | H3: Inv No. | I3: Payment | J3: Balance Avail | K3: DOC # | L3: Clear Date
D5: UMB Bressler Res Bldg Elec Sys Renewal Substations 4-7 | G5: 2000000
A6: 22 | B6: FR-033 | C6: 44714 | D6: UMB Bressler Res Bldg Elec Sys Renewal Substations 4-7 | F6: Cynergy Electric Company | H6: 1 (22-2839) | I6: 99322.5 | K6: 10605061 | L6: 44733
A7: 22 | B7: FR-033 | C7: 44714 | D7: UMB Bressler Res Bldg Elec Sys Renewal Substations 4-7 | F7: Cynergy Electric Company | H7: 2 (22-2847) | I7: 90725 | K7: 10605061 | L7: 44733
A8: 23 | B8: FR-040 | C8: 44811 | D8: UMB Bressler Res Bldg Elec Sys Renewal Substations 4-7 | F8: Cynergy Electric Company | H8: 3 | I8: 242722.15 | K8: 10949009 | L8: 44827
A9: 23 | B9: FR-043 | C9: 44832 | D9: UMB Bressler Res Bldg Elec Sys Renewal Substations 4-7 | F9: Cynergy Electric Company | H9: 4 | I9: 285950 | K9: 11268142 | L9: 44908
A10: 23 | B10: FR-049 | C10: 44872 | D10: UMB Bressler Res Bldg Elec Sys Renewal Substations 4-7 | F10: Cynergy Electric Company | H10: 5 | I10: 280725 | K10: 11222785 | L10: 44896
A11: 23 | B11: FR-051 | C11: 44930 | D11: UMB Bressler Res Bldg Elec Sys Renewal Substations 4-7 | F11: Cynergy Electric Company | H11: 6 | I11: 233225 | K11: 11400933 | L11: 44953
A12: 23 | B12: FR-052 | C12: 44960 | D12: UMB Bressler Res Bldg Elec Sys Renewal Substations 4-7 | F12: Cynergy Electric Company | H12: 7 | I12: 57000 | K12: 11568043 | L12: 44994
A13: 23 | B13: FR-055 | C13: 44992 | D13: UMB Bressler Res Bldg Elec Sys Renewal Substations 4-7 | F13: Cynergy Electric Company | H13: 8 | I13: 152000 | K13: 11726707 | L13: 45036
A14: 23 | B14: FR-057 | C14: 45028 | D14: UMB Bressler Res Bldg Elec Sys Renewal Substations 4-7 | F14: Cynergy Electric Company | H14: 9 | I14: 165300 | K14: 11825133 | L14: 45058
A15: 24 | B15: FR-071 | C15: 45128 | D15: UMB Bressler Res Bldg Elec Sys Renewal Substations 4-7 | F15: Cynergy Electric Company | H15: 10 | I15: 180417.35 | K15: 12201138 | L15: 45155
A16: 24 | B16: FR-074 | C16: 45177 | D16: UMB Bressler Res Bldg Elec Sys Renewal Substations 4-7 | F16: Cynergy Electric Company | H16: 11 (Split) | I16: 212613 | K16: 12398377 | L16: 45202
D18: UMB Bressler Research Building Total | G18: =SUM(G5:G17) -> 2000000 | I18: =SUM(I5:I17) -> 2000000 | J18: =G18-I18 -> 0
D20: UMB Health Sciences Research Facility II Façade Repairs | G20: 1200000
A21: 24 | B21: FR-074 | C21: 45177 | D21: UMB Bressler Res Bldg Elec Sys Renewal Substations 4-7/Health Sciences Research Facility II Façade Repairs | F21: Cynergy Electric Company | H21: 11 (Split) | I21: 45074.5 | K21: 12398377 | L21: 45202
A22: 24 | B22: FR-076 | C22: 45196 | D22: UMB Bressler Res Bldg Elec Sys Renewal Substations 4-7/Health Sciences Research Facility II Façade Repairs | F22: Cynergy Electric Company | H22: 12 | I22: 291175 | K22: 12554218 | L22: 45237 | M22: UMB Bressler Res Bldg Elec Sys Renewal Substations 4-7/Health Sciences Research Facility II Façade Repairs
A23: 24 | B23: FR-079 | C23: 45273 | D23: UMB Bressler Res Bldg Elec Sys Renewal Substations 4-7/Health Sciences Research Facility II Façade Repairs | F23: Cynergy Electric Company | H23: 13 | I23: 500875.15 | K23: 12758134 | L23: 45299
A24: 24 | B24: FR-083 | C24: 45351 | D24: UMB Bressler Res Bldg Elec Sys Renewal Substations 4-7/Health Sciences Research Facility II Façade Repairs | F24: Cynergy Electric Company | H24: 14 | I24: 54408.4 | K24: 13082439 | L24: 45377
A25: 24 | B25: FR-087 | C25: 45378 | D25: UMB Bressler Res Bldg Elec Sys Renewal Substations 4-7/Health Sciences Research Facility II Façade Repairs | F25: Cynergy Electric Company | H25: 15 | I25: 210467.75 | K25: 13205383 | L25: 45406
A26: 24 | B26: FR-090 | C26: 45390 | D26: UMB Bressler Res Bldg Elec Sys Renewal Substations 4-7/Health Sciences Research Facility II Façade Repairs | F26: Cynergy Electric Company | H26: 16(Split) | I26: 97999.2 | K26: 13205383 | L26: 45406
D28: UMB Health Sciences Research Facility II / Bressler ResearchTotal | G28: =SUM(G20:G27) -> 1200000 | I28: =SUM(I20:I27) -> 1200000 | J28: =G28-I28 -> 0
D30: UMB 108 N Greene Street Chiller/Cooling Tower Extension | G30: 1036947
A31: 22 | B31: FR-034 | C31: 44722 | D31: UMB 108 N Greene Street Chiller/Cooling Tower Extension | F31: Emjay Engineering & Construction | H31: 2 | I31: 598027.51 | K31: 10748226 | L31: 44776
A32: 23 | B32: FR-036 | C32: 44756 | D32: UMB 108 N Greene Street Chiller/Cooling Tower Extension | F32: Emjay Engineering & Construction | H32: 3 | I32: 131617.75 | K32: 10748226 | L32: 44776
A33: 23 | B33: FR-037 | C33: 44778 | D33: UMB 108 N Greene Street Chiller/Cooling Tower Extension | F33: Emjay Engineering & Construction | H33: 4 | I33: 230395.27 | K33: 10872527 | L33: 44810
A34: 23 | B34: FR-040 | C34: 44811 | D34: UMB 108 N Greene Street Chiller/Cooling Tower Extension | F34: Emjay Engineering & Construction | H34: 5(Split) | I34: 76906.47 | K34: 10949009 | L34: 44827
D36: UMB 108 N Greene Street Chiller/Cooling Tower Extension Tota; | G36: =SUM(G30:G35) -> 1036947 | I36: =SUM(I30:I35) -> 1036947 | J36: =G36-I36 -> 0

Sheet UMES
B1: FY2021 Deficiency Appropriation - Tier 2 State Facilities Renewal Projects - UMES
A3: FY | B3: Cert # | C3: Date | D3: Project Name | E3: Account No. | F3: Payee | G3: Authorization | H3: Inv No. | I3: Payment | J3: Balance Avail | K3: DOC # | L3: Clear Date
D5: UMES HVAC Replacement/New R-410A Chiller Multiple Buildings | G5: 1103538
D8: UMES HVAC Replacement Total | G8: =SUM(G5:G7) -> 1103538 | I8: =SUM(I5:I7) -> 0 | J8: =G8-I8 -> 1103538

Sheet UMBC
B1: FY2021 Deficiency Appropriation - Tier 2 State Facilities Renewal Projects - UMBC
A3: FY | B3: Cert # | C3: Date | D3: Project Name | E3: Account No. | F3: Payee | G3: Authorization | H3: Inv No. | I3: Payment | J3: Balance Avail | K3: DOC # | L3: Clear Date
D5: UMBC University Center Roof Replacement | G5: 1165373
A6: 22 | B6: FR-014 | C6: 44468 | D6: UMBC University Center Roof Replacement | F6: Ayers Saint Gross, Inc. | H6: 0021991.00-10 | I6: 4564.3 | K6: 9768342 | L6: 44489
A7: 23 | B7: FR-035 | C7: 44747 | D7: UMBC University Center Roof Replacement | F7: Ayers Saint Gross, Inc. | H7: 0021991.00-11 | I7: 12877 | K7: 10948997 | L7: 44827
A8: 23 | B8: FR-038 | C8: 44791 | D8: UMBC University Center Roof Replacement | F8: Tecta America East | H8: 1 | I8: =560250 -> 560250 | K8: 10948997 | L8: 44827
A9: 23 | B9: FR-038 | C9: 44791 | D9: UMBC University Center Roof Replacement | F9: Tecta America East | H9: 1 | I9: 314910 | K9: 10948997 | L9: 44827
A10: 23 | B10: FR-041 | C10: 44823 | D10: UMBC University Center Roof Replacement | F10: Ayers Saint Gross, Inc. | H10: 0021991.00 - 13 | I10: 5645.55 | K10: 11267361 | L10: 44908
A11: 23 | B11: FR-042 | C11: 44826 | D11: UMBC University Center Roof Replacement | F11: Ayers Saint Gross, Inc. | H11: 0021991.00 - 14 | I11: 3763.7 | K11: 11267361 | L11: 44908
A12: 23 | B12: FR-042 | C12: 44826 | D12: UMBC University Center Roof Replacement | F12: Tecta America East | H12: 2 | I12: 225283.5 | K12: 11267361 | L12: 44908
A13: 23 | B13: Correction | C13: 44854 | D13: UMBC University Center Roof Replacement | F13: Expenditure transfer for Tecta America East Inv#1 from University Center Roof Replacement to Biology Roof Replacement | I13: -314910
A14: 23 | B14: FR-046 | C14: 44838 | D14: UMBC University Center Roof Replacement | F14: Tecta America East | H14: 3 | I14: 82343.7 | K14: 11267361 | L14: 44908
A15: 23 | B15: FR-060 | C15: 45050 | D15: UMBC University Center Roof Replacement | F15: Baltimore Contractors | H15: 0815-1-1 | I15: 20419.2 | K15: 11871450 | L15: 45070
A16: 23 | B16: FR-061 | C16: 45070 | D16: UMBC University Center Roof Replacement | F16: Ayers Saint Gross, Inc. | H16: 0021991.00-21 | I16: 11736.9 | K16: 11980431 | L16: 45096
A17: 24 | B17: FR-069 | C17: 45128 | D17: UMBC University Center Roof Replacement | F17: Ayers Saint Gross, Inc. | H17: 0021991.00-23 | I17: 20300.65 | K17: 12720717 | L17: 45279
A18: 24 | B18: FR-073 | C18: 45153 | D18: UMBC University Center Roof Replacement | F18: Ayers Saint Gross, Inc. | H18: 0021991.00-24 | I18: 9632.15 | K18: 12720717 | L18: 45279
A19: 24 | B19: FR-077 | C19: 45250 | D19: UMBC University Center Roof Replacement | F19: Baltimore Contractors | H19: 0815-1-2 | I19: 2268.8 | K19: 12720717 | L19: 45279
A20: 24 | B20: FR-078 | C20: 45273 | D20: UMBC University Center Roof Replacement | F20: Tecta America East | H20: 5 | I20: 49853.75 | K20: 12720717 | L20: 45279
A21: 24 | B21: FR-078 | C21: 45273 | D21: UMBC University Center Roof Replacement | F21: Ayers Saint Gross, Inc. | H21: 0021991.00-25 | I21: 3763.7 | K21: 12720717 | L21: 45279
A22: 24 | B22: FR-078 | C22: 45273 | D22: UMBC University Center Roof Replacement | F22: Tecta America East | H22: 4 | I22: 29022.3 | K22: 12720717 | L22: 45279
A23: 24 | B23: FR-092 | C23: 45435 | D23: UMBC University Center Roof Replacement | F23: Ayers Saint Gross, Inc. | H23: 0021991.00-29 | I23: 8215.83 | K23: 13355686 | L23: 45441
A24: 25 | B24: FR-097 | C24: 45574 | D24: UMBC University Center Roof Replacement | F24: Ayers Saint Gross, Inc. | H24: 0021991.00-30 | I24: 2807.71 | K24: 13981279 | L24: 10/23/24
A25: 25 | B25: FR-102(1) | C25: 45638 | D25: UMBC University Center Roof Replacement | F25: Tecta America East | H25: Final | I25: 56921.75 | K25: SIR-00000779 | L25: 45643
A26: 25 | B26: FR-102(2) | C26: 45638 | D26: UMBC University Center Roof Replacement | F26: Ayers Saint Gross, Inc. | H26: 0021991.00-31 | I26: 1118.96 | K26: SIR-00000779 | L26: 45643
A27: 25 | B27: FR-105 | C27: 45727 | D27: UMBC University Center Roof Replacement | F27: Baltimore Contractors | H27: 0853 23-1R (Split) | I27: 33682.36 | K27: SIR-00002961 | L27: 45732
A28: 25 | B28: FR-110 | C28: 45814 | D28: UMBC University Center Roof Replacement | F28: Ayers Saint Gross, Inc. | H28: 0021991.00-32 | I28: 376.37 | K28: SIR-00005941 | L28: 45825
A29: 25 | B29: FR-110 | C29: 45814 | D29: UMBC University Center Roof Replacement | F29: Ayers Saint Gross, Inc. | H29: 0021991.00-33 | I29: 6042.16 | K29: SIR-00005941 | L29: 45825
A30: 25 | B30: FR-111 | C30: 45824 | D30: UMBC University Center Roof Replacement | F30: Baltimore Contractors | H30: 0853 23-2R | I30: 7304.58 | K30: SIR-00005941 | L30: 45825
D32: UMBC University Center Roof Replacement Total | G32: =SUM(G5:G31) -> 1165373 | I32: =SUM(I5:I31) -> 1158194.9 | J32: =G32-I32 -> 7178.08
D34: UMBC Biology Roof Replacement | G34: 820000
A35: 23 | B35: Correction | C35: 44854 | D35: UMBC Biology Roof Replacement | F35: Expenditure transfer for Tecta America East Inv#1 from University Center Roof Replacement to Biology Roof Replacement | I35: 314910 | K35: see above - 10948997 9/23/23
A36: 23 | B36: FR-048 | C36: 44865 | D36: UMBC Biology Roof Replacement | F36: Ayers Saint Gross, Inc. | H36: 0021991.00-15 | I36: 1505.48 | K36: 11267361 | L36: 44908
A37: 23 | B37: FR-053 | C37: 44979 | D37: UMBC Biology Roof Replacement | F37: Ayers Saint Gross, Inc. | H37: 0021991.00-16/'0021991.00-17/'0021991.00-18 | I37: =376.37+2918.2+8754.6 -> 12049.17 | K37: 11615183 | L37: 45009
A38: 23 | B38: FR-056 | C38: 45002 | D38: UMBC Biology Roof Replacement | F38: Ayers Saint Gross, Inc. | H38: 0021991.00-19 | I38: 14417.5 | K38: 11871450 | L38: 45070
A39: 23 | B39: FR-058 | C39: 45037 | D39: UMBC Biology Roof Replacement | F39: Ayers Saint Gross, Inc. | H39: 0021991.00-20 | I39: 20845.7 | K39: 11871450 | L39: 45070
A40: 24 | B40: FR-067 | C40: 45113 | D40: UMBC Biology Roof Replacement | F40: Ayers Saint Gross, Inc. | H40: 0021991.00-22 | I40: 25303.15 | K40: 12106962 | L40: 45133
A41: 24 | B41: FR-073 | C41: 45153 | D41: UMBC Biology Roof Replacement | F41: Tecta America East | H41: 2 | I41: 172390.5 | K41: 12720717 | L41: 45279
A42: 24 | B42: FR-075 | C42: 45187 | D42: UMBC Biology Roof Replacement | F42: Tecta America East | H42: 3 | I42: 125048.7 | K42: 12720717 | L42: 45279
A43: 24 | B43: FR-080 | C43: 45313 | D43: UMBC Biology Roof Replacement | F43: Tecta America East | H43: 4 | I43: 34019.4 | K43: 12817817 | L43: 45315
A44: 24 | B44: FR-085 | C44: 45366 | D44: UMBC Biology Roof Replacement | F44: Ayers Saint Gross, Inc. | H44: 0021991.00-28 | I44: 11736.9 | K44: 13082034 | L44: 45377
...

Sheet UMCES
B1: FY2021 Deficiency Appropriation - Tier 2 State Facilities Renewal Projects - UMCES
A3: FY | B3: Cert # | C3: Date | D3: Project Name | E3: Account No. | F3: Payee | G3: Authorization | H3: Inv No. | I3: Payment | J3: Balance Avail | K3: DOC # | L3: Clear Date
D5: UMCES Horn Point Laboratory (HPL) Well Water System Replacement | G5: 75000
A6: 22 | B6: FR-004 | C6: 44397 | D6: UMCES Horn Point Laboratory (HPL) Well Water System Replacement | F6: John w. Tieder, Inc. | H6: 45882 | I6: 5165 | K6: 9597244 | L6: 44441
A7: 22 | B7: FR-011 | C7: 44456 | D7: UMCES Horn Point Laboratory (HPL) Well Water System Replacement | F7: John w. Tieder, Inc. | H7: 45864 | I7: 243.42 | K7: 9688254 | L7: 44468
A8: 22 | B8: FR-012 | C8: 44461 | D8: UMCES Horn Point Laboratory (HPL) Well Water System Replacement | F8: Harrington Inidustrial Plastics | H8: 03100231 | I8: 832.51 | K8: 9671416 | L8: 44462
A9: 22 | B9: FR-016 | C9: 44468 | D9: UMCES Horn Point Laboratory (HPL) Well Water System Replacement | F9: Harman's Septic Care Inc. | H9: 76555 | I9: 5580 | K9: 9823596 | L9: 44504
A10: 22 | B10: FR-020 | C10: 44532 | D10: UMCES Horn Point Laboratory (HPL) Well Water System Replacement | F10: Atlantic Well Drilling, Inc. | H10: 12959/12960 | I10: =9035+19500 -> 28535 | K10: 9928161 | L10: 44537
A11: 22 | B11: FR-024 | C11: 44573 | D11: UMCES Horn Point Laboratory (HPL) Well Water System Replacement | F11: UMCES Reimbursement | H11: Ltr Dtd 01/12/22 | I11: 993.19 | K11: 10068620 | L11: 44588
A12: 22 | B12: FR-025 | C12: 44586 | D12: UMCES Horn Point Laboratory (HPL) Well Water System Replacement | F12: Somerset Well Drilling Co., Inc. | H12: 9999 | I12: 18645 | K12: 10068393 | L12: 44588
A13: 22 | B13: Return | C13: 44720 | D13: UMCES Horn Point Laboratory (HPL) Well Water System Replacement | F13: UMCES Return back and pay from ARB Bonds | I13: -59994.12 | K13: 10058296 | L13: 44720
D15: UMCES Horn Point Laboratory Total | G15: =SUM(G5:G14) -> 75000 | I15: =SUM(I5:I14) -> 0 | J15: =G15-I15 -> 75000
D17: UMCES Chesapeake Biological Laboratory (CBL) Replacement of Window-Wall | G17: 150000
A18: 22 | B18: FR-021 | C18: 44537 | D18: UMCES Chesapeake Biological Laboratory (CBL) Replacement of Window-Wall | F18: Waldorf Glass Company | H18: 52181 | I18: 63209 | K18: 9997084 | L18: 44566
A19: 22 | B19: FR-026 | C19: 44594 | D19: UMCES Chesapeake Biological Laboratory (CBL) Replacement of Window-Wall | F19: Ebby's Finishing Touches, LLC | H19: 4616 | I19: 14350 | K19: 10122463 | L19: 44602
A20: 22 | B20: Return | C20: 44720 | D20: UMCES Chesapeake Biological Laboratory (CBL) Replacement of Window-Wall | F20: UMCES Return back and pay from ARB Bonds | I20: -77559 | K20: 10058296 | L20: 44720
D22: UMCES Chesapeake Biological Laboratory Total | G22: =SUM(G17:G21) -> 150000 | I22: =SUM(I17:I21) -> 0 | J22: =G22-I22 -> 150000
D24: UMCES Horn Point Laboratory (HPL) Underground Fiber Optic Replacement | G24: 78615
A25: 22 | B25: FR-005 | C25: 44399 | D25: UMCES Horn Point Laboratory (HPL) Underground Fiber Optic Replacement | F25: McEnroe Voice and Data | H25: Quote#003758 | I25: 3900 | K25: 9637059 | L25: 44454
A26: 22 | B26: Return | C26: 44720 | D26: UMCES Horn Point Laboratory (HPL) Underground Fiber Optic Replacement | F26: UMCES Return back and pay from ARB Bonds | I26: -3900 | K26: 10058296 | L26: 44720
D28: UMCES HPL Underground Fiber Optic Replacement Total | G28: =SUM(G24:G27) -> 78615 | I28: =SUM(I24:I27) -> 0 | J28: =G28-I28 -> 78615

Sheet USM
B1: FY2021 Deficiency Appropriation - Tier 2 State Facilities Renewal Projects - USM Center
A3: FY | B3: Cert # | C3: Date | D3: Project Name | E3: Account No. | F3: Payee | G3: Authorization | H3: Inv No. | I3: Payment | J3: Balance Avail | K3: DOC # | L3: Clear Date
D5: USM/USG Bldg 1- Replace the Roof at the North Entrance | G5: 6558
C6: 44600 | F6: Per USG email dated 2/2/22, actual PO was $555 | G6: -6003
A7: 22 | B7: FR-027 | C7: 44600 | D7: Bldg 1- Replace the Roof at the North Entrance | F7: USG Reimbursement | H7: Request#2 | I7: 555 | K7: 10116908 | L7: 44601
D9: USM/USG Building 1 - Replace the Roof at the North Entrance Total | G9: =SUM(G5:G8) -> 555 | I9: =SUM(I5:I8) -> 555 | J9: =G9-I9 -> 0
D11: USM/USG Bldg 1 - Replace the Roof Above the Auditorium | G11: 100566
C12: 44600 | F12: Per USG email dated 2/2/22, project was deleted due to constructability challenges | G12: -100566
D14: USM/USG Building 1 - Replace the Roof Above the Auditorium Total | G14: =SUM(G11:G13) -> 0 | I14: =SUM(I11:I13) -> 0 | J14: =G14-I14 -> 0
D16: USM/USG Bldg 2 - Refinish Rusted Standing Seam Metal Roof Sections | G16: 99000
C17: 44600 | F17: Per USG email dated 2/2/22, actual PO was $106,970.00 | G17: 7970
A18: 22 | B18: FR-027 | C18: 44600 | D18: Bldg 2 - Refinish Rusted Standing Seam Metal Roof Sections | F18: USG Reimbursement | H18: Request#1 | I18: 106970 | K18: 10116908 | L18: 44601
D20: USM/USG Building 2 Total | G20: =SUM(G16:G19) -> 106970 | I20: =SUM(I16:I19) -> 106970 | J20: =G20-I20 -> 0
D22: USM/USG Bldg 3 - Repair the Lower Roof Above the Loading Dock | G22: 25130
C23: 44600 | D23: USM/USG Bldg 3 - Repair the Lower Roof Above the Loading Dock | F23: Per USG email dated 2/2/22, the scope increased due to additional roof damage. Plan is to utilize funds defered from other projects. | G23: 94870
C24: 44600 | D24: USM/USG Bldg 3 - Repair the Lower Roof Above the Loading Dock | F24: Difference between original auth and forecasted expnd | G24: 3502
A25: 22 | B25: FR-047 | C25: 44854 | D25: USM/USG Bldg 3 - Repair the Lower Roof Above the Loading Dock | F25: Raintree Services | H25: 3233 | I25: 106420 | K25: 11143615 | L25: 44874
D27: USM/USG Building 3 Total | G27: =SUM(G22:G26) -> 123502 | I27: =SUM(I22:I26) -> 106420 | J27: =G27-I27 -> 17082
D29: USM/USG Bldg 3 - Repair the Roof Above the Entrance Canopy | G29: 6043
C30: 44600 | F30: Per USG email dated 2/2/22, actual PO was $6,270 | G30: 227
A31: 22 | B31: FR-027 | C31: 44600 | D31: Bldg 3 - Repair the Roof Above the Entrance Canopy | F31: USG Reimbursement | H31: Request#3 | I31: 6270 | K31: 10116908 | L31: 44601
D33: USM/USG Building 3 Total | G33: =SUM(G29:G32) -> 6270 | I33: =SUM(I29:I32) -> 6270 | J33: =G33-I33 -> 0
D35: USMH Retrofit Building Security and Life Safety System | G35: 40000
D36: USMH Retrofit Building Security and Life Safety System | G36: -40000
D37: USMH Replace Damaged Tile Flooring | G37: 40000
A38: 22 | B38: FR-084_USM-H | C38: 45366 | D38: USMH Replace Damaged Tile Flooring | F38: Corridor Flooring | H38: 8824001-A (Split) | I38: 40000 | K38: 13099768 | L38: 45380
D40: USMH Replace Damaged Tile FlooringTotal | G40: =SUM(G35:G39) -> 40000 | I40: =SUM(I35:I39) -> 40000 | J40: =G40-I40 -> 0
D42: USMH Exterior Envelope Repair and Resealing/Painting | G42: 15000
D43: USMH Exterior Envelope Repair and Resealing/Painting | G43: -15000
D44: USMH Replace Damaged Tile Flooring | G44: 15000
A45: 22 | B45: FR-084_USM-H | C45: 45366 | D45: USMH Replace Damaged Tile Flooring | F45: Corridor Flooring | H45: 8824001-A (Split) | I45: 15000 | K45: 13077968 | L45: 45380
D47: USMH Replace Damaged Tile FlooringTotal | G47: =SUM(G42:G46) -> 15000 | I47: =SUM(I42:I46) -> 15000 | J47: =G47-I47 -> 0
D49: USMH Replace Damaged Tile Flooring Due to Differential Setting | G49: 10000
A50: 24 | B50: FR-082 | C50: 45351 | D50: USMH Replace Damaged Tile Flooring Due to Differential Setting | F50: Corridor Flooring Associates | H50: 8824001 (Split) | I50: 10000 | K50: 13037227 | L50: 45364
D52: USMH Replace Damaged Tile Flooring Total | G52: =SUM(G49:G51) -> 10000 | I52: =SUM(I49:I51) -> 10000 | J52: =G52-I52 -> 0
D54: USM System-Wide FR Emergency Priorities | G54: 61198
D57: USM System-Wide FR Emergency Priorities Total | G57: =SUM(G54:G56) -> 61198 | I57: =SUM(I54:I56) -> 0 | J57: =G57-I57 -> 61198

Sheet BSU
B1: FY2021 Deficiency Appropriation - Tier 2 State Facilities Renewal Projects - BSU
A3: FY | B3: Cert # | C3: Date | D3: Project Name | E3: Account No. | F3: Payee | G3: Authorization | H3: Inv No. | I3: Payment | J3: Balance Avail | K3: DOC # | L3: Clear Date
D5: BSU Campus Sewer Line Improvement I | G5: 727061
A6: 22 | B6: FR-009 | C6: 44418 | D6: BSU Campus Sewer Line Improvement I | F6: Pipeway Energy Construction | H6: 1 | I6: 146915.6 | K6: 9688210 | L6: 44468
A7: 22 | B7: FR-013 | C7: 44463 | D7: BSU Campus Sewer Line Improvement I | F7: Pipeway Energy Construction | H7: 2 | I7: 234684.93 | K7: 9773213 | L7: 44490
A8: 22 | B8: FR-018 | C8: 44489 | D8: BSU Campus Sewer Line Improvement I | F8: Pipeway Energy Construction | H8: 3 | I8: 333423.4 | K8: 9856293 | L8: 44512
A9: 22 | B9: FR-032 | C9: 44304 | D9: BSU Campus Sewer Line Improvement I | F9: Pipeway Energy Construction | H9: 4 | I9: 12037.07 | K9: 10579059 | L9: 44726
D11: BSU Campus Sewer Line Improvement Total | G11: =SUM(G5:G10) -> 727061 | I11: =SUM(I5:I10) -> 727061 | J11: =G11-I11 -> 0

Sheet CSU
B1: FY2021 Deficiency Appropriation - Tier 2 State Facilities Renewal Projects - CSU
A3: FY | B3: Cert # | C3: Date | D3: Project Name | E3: Account No. | F3: Payee | G3: Authorization | H3: Inv No. | I3: Payment | J3: Balance Avail | K3: Acct No. | L3: Clear Date
D5: CSU Exterior Building Repairs/Improvements Campuswide | G5: 478822
A6: 22 | B6: FR-007 | C6: 44406 | D6: CSU Exterior Building Repairs/Improvements Campuswide | F6: Long Fence | H6: 703370 | I6: 60000 | K6: 9717380 | L6: 44475
A7: 24 | B7: FR-070 | C7: 45128 | D7: CSU Exterior Building Repairs/Improvements Campuswide | F7: Gable | H7: 163102 | I7: 4812.5 | K7: 12141311 | L7: 44411
A8: 24 | B8: FR-070 | C8: 45128 | D8: CSU Exterior Building Repairs/Improvements Campuswide | F8: Fountain Craft | H8: 376 | I8: 32234.14 | K8: 12141311 | L8: 44411
A9: 24 | B9: FR-070 | C9: 45128 | D9: CSU Exterior Building Repairs/Improvements Campuswide | F9: Fountain Craft | H9: 307 | I9: 40045.5 | K9: 12141311 | L9: 44411
A10: 24 | B10: FR-070 | C10: 45128 | D10: CSU Exterior Building Repairs/Improvements Campuswide | F10: Dvorak, LLC | H10: 5997 | I10: 52937 | K10: 12141311 | L10: 44411
A11: 24 | B11: FR-070 | C11: 45128 | D11: CSU Exterior Building Repairs/Improvements Campuswide | F11: Boulevard Contractors Corp | H11: 1 | I11: 22016 | K11: 12141311 | L11: 44411
D13: CSU Exterior Building Repairs/Improvements Campuswide Total | G13: =SUM(G5:G12) -> 478822 | I13: =SUM(I5:I12) -> 212045.14 | J13: =G13-I13 -> 266776.86

Sheet FSU
B1: FY2021 Deficiency Appropriation - Tier 2 State Facilities Renewal Projects - FSU
A3: FY | B3: Cert # | C3: Date | D3: Project Name | E3: Account No. | F3: Payee | G3: Authorization | H3: Inv No. | I3: Payment | J3: Balance Avail | K3: DOC # | L3: Clear Date
D5: FSU Gunter Hall Roof Replacement | G5: 436881
A6: 22 | B6: FR-023 | C6: 44551 | D6: FSU Gunter Hall Roof Replacement | F6: Hite Associates, Inc. | H6: One (#7144-1)/Two(#7144-2)/Three (#7144-3) (Split) | I6: =260600.3+136250+40030.7 -> 436881 | K6: 10122862 | L6: 44602
D8: FSU Gunter Hall Roof Replacement Total | G8: =SUM(G5:G7) -> 436881 | I8: =SUM(I5:I7) -> 436881 | J8: =G8-I8 -> 0

Sheet SU
B1: FY2021 Deficiency Appropriation - Tier 2 State Facilities Renewal Projects - SU
A3: FY | B3: Cert # | C3: Date | D3: Project Name | E3: Account No. | F3: Payee | G3: Authorization | H3: Inv No. | I3: Payment | J3: Balance Avail | K3: DOC # | L3: Clear Date
D5: SU Building M2 Roof Replacement | G5: 299907
D6: SU Building M2 Roof Replacement | F6: Authorization transferred to Fulton Hall Restroom Renov per Mark Beck's email dated 7/2/21 | G6: -51012
A7: 22 | B7: FR-022 | C7: 44544 | D7: SU Building M2 Roof Replacement | F7: Garland/DBS Inc. | H7: 42785236978 | I7: 173042.84 | K7: 10143553 | L7: 44608
A8: 22 | B8: FR-028 | C8: 44614 | D8: SU Building M2 Roof Replacement | F8: Garland/DBS Inc. | H8: 42785237533 | I8: 66096.67 | K8: 10226659 | L8: 44629
A9: 22 | B9: FR-031 | C9: 44643 | D9: SU Building M2 Roof Replacement | F9: Garland/DBS Inc. | H9: 42785237741 | I9: 9755.49 | K9: 10321935 | L9: 44657
D11: SU Building M2 Roof Replacement Total | G11: =SUM(G5:G10) -> 248895 | I11: =SUM(I5:I10) -> 248895 | J11: =G11-I11 -> 0
D13: SU High Voltage Loop Repairs Ph1 | G13: 150000
A14: 22 | B14: FR-003 | C14: 44384 | D14: SU High Voltage Loop Repairs Ph1 | F14: Carter's Electric Services, Inc. | H14: 1 | I14: 57822.59 | K14: 9491970 | L14: 44410
A15: 22 | B15: FR-008 | C15: 44417 | D15: SU High Voltage Loop Repairs Ph1 | F15: Carter's Electric Services, Inc. | H15: 2 | I15: 52527.19 | K15: 9597124 | L15: 44441
A16: 22 | B16: FR-017 | C16: 44475 | D16: SU High Voltage Loop Repairs Ph1 | F16: Carter's Electric Services, Inc. | H16: 3 | I16: 39650.22 | K16: 9773155 | L16: 44490
D18: SU High Voltage Loof Repairs Ph1 Total | G18: =SUM(G13:G17) -> 150000 | I18: =SUM(I13:I17) -> 150000 | J18: =G18-I18 -> 0
D20: SU Maggs Wall Panel Installation | G20: 175000
D21: SU Maggs Wall Panel Installation | F21: Authorization transferred to Fulton Hall Restroom Renov per Mark Beck's email dated 7/2/21 | G21: -123220
A22: 22 | B22: FR-015 | C22: 44468 | D22: SU Maggs Wall Panel Installation | F22: Garland/DBS Inc. | H22: 42785236136 | I22: 51780 | K22: 9717406 | L22: 44475
D24: SU Maggs Wall Panel Installation Total | G24: =SUM(G20:G23) -> 51780 | I24: =SUM(I20:I23) -> 51780 | J24: =G24-I24 -> 0
D26: SU Fulton Hall Restroom Renovation | G26: 175000
D27: SU Fulton Hall Restroom Renovation | F27: Authorization transferred from Building M2 Roof per Mark Beck's email dated 7/2/21 | G27: 51012
D28: SU Fulton Hall Restroom Renovation | F28: Authorization transferred from Maggs Wall Panel Installation per Mark Beck's email dated 7/2/21 | G28: 123220
A29: 21 | B29: FR-001 | C29: 44357 | D29: SU Fulton Hall Restroom Renovation | F29: Delmarva Veteran Builders, LLC | H29: 1 | I29: 22325 | K29: 9372425 | L29: 44369
A30: 22 | B30: FR-002 | C30: 44379 | D30: SU Fulton Hall Restroom Renovation | F30: Delmarva Veteran Builders, LLC | H30: 2 | I30: 157839 | K30: 9491960 | L30: 44410
A31: 22 | B31: FR-006 | C31: 44404 | D31: SU Fulton Hall Restroom Renovation | F31: Delmarva Veteran Builders, LLC | H31: 3 | I31: 122170 | K31: 9491953 | L31: 44410
A32: 22 | B32: FR-010 | C32: 44438 | D32: SU Fulton Hall Restroom Renovation | F32: Delmarva Veteran Builders, LLC | H32: 4 (Partial) | I32: 46898 | K32: 9610914 | L32: 44442
D34: SU Fulton Hall Restroom Renovation | G34: =SUM(G26:G33) -> 349232 | I34: =SUM(I26:I33) -> 349232 | J34: =G34-I34 -> 0

Sheet TU
B1: FY2021 Deficiency Appropriation - Tier 2 State Facilities Renewal Projects - TU
A3: FY | B3: Cert # | C3: Date | D3: Project Name | E3: Account No. | F3: Payee | G3: Authorization | H3: Inv No. | I3: Payment | J3: Balance Avail | K3: DOC # | L3: Clear Date
D5: TU Lecture Hall Roof Replacement | G5: 591857
A6: 23 | B6: FR-065 | C6: 45104 | D6: TU Lecture Hall Roof Replacement | F6: Simpson Unlimited, Inc. | H6: 1(23)-0004-1-001(Split) | I6: 168689.17 | K6: 12141160 | L6: 45141
A7: 24 | B7: FR-066 | C7: 45113 | D7: TU Lecture Hall Roof Replacement | F7: Simpson Unlimited, Inc. | H7: 2(23)-0004-1-002(Split) | I7: 91713.51 | K7: 12141160 | L7: 45141
A8: 24 | B8: FR-072 | C8: 45139 | D8: TU Lecture Hall Roof Replacement | F8: Simpson Unlimited, Inc. | H8: 3(23)-0004-1-003(Split) | I8: 189002.67 | K8: 12333434 | L8: 45188
A9: 24 | B9: FR-089 | C9: 45390 | D9: TU Lecture Hall Roof Replacement | F9: Simpson Unlimited, Inc. | H9: 4(23)-0004-1-004(Split) | I9: 49954.97 | K9: 13272913 | L9: 45420
D11: TU Lecture Hall Roof Replacement Total | G11: =SUM(G5:G10) -> 591857 | I11: =SUM(I5:I10) -> 499360.32 | J11: =G11-I11 -> 92496.68
D13: TU Hawkins Hall Roof Replacement | G13: 694800
A14: 23 | B14: FR-065 | C14: 45104 | D14: TU Hawkins Hall Roof Replacement | F14: Simpson Unlimited, Inc. | H14: 1(23)-0004-1-001(Split) | I14: 222804.17 | K14: 12141160 | L14: 45141
A15: 24 | B15: FR-066 | C15: 45113 | D15: TU Hawkins Hall Roof Replacement | F15: Simpson Unlimited, Inc. | H15: 2(23)-0004-1-002(Split) | I15: 110553.8 | K15: 12141160 | L15: 45141
A16: 24 | B16: FR-072 | C16: 45139 | D16: TU Hawkins Hall Roof Replacement | F16: Simpson Unlimited, Inc. | H16: 3(23)-0004-1-003(Split) | I16: 180030.99 | K16: 12333434 | L16: 45188
A17: 24 | B17: FR-089 | C17: 45390 | D17: TU Hawkins Hall Roof Replacement | F17: Simpson Unlimited, Inc. | H17: 4(23)-0004-1-004(Split) | I17: 55772.83 | K17: 13272913 | L17: 45420
D19: TU Hawkins Hall Roof Replacement Total | G19: =SUM(G13:G18) -> 694800 | I19: =SUM(I13:I18) -> 569161.79 | J19: =G19-I19 -> 125638.21
D21: TU Psychology Roof Replacement | G21: 695230
A22: 23 | B22: FR-065 | C22: 45104 | D22: TU Psychology Roof Replacement | F22: Simpson Unlimited, Inc. | H22: 1(23)-0004-1-001(Split) | I22: 206802.65 | K22: 12141160 | L22: 45141
A23: 24 | B23: FR-066 | C23: 45113 | D23: TU Psychology Roof Replacement | F23: Simpson Unlimited, Inc. | H23: 2(23)-0004-1-002(Split) | I23: 98191.95 | K23: 12141160 | L23: 45141
A24: 24 | B24: FR-072 | C24: 45139 | D24: TU Psychology Roof Replacement | F24: Simpson Unlimited, Inc. | H24: 3(23)-0004-1-003(Split) | I24: 178154.24 | K24: 12333434 | L24: 45188
A25: 24 | B25: FR-089 | C25: 45390 | D25: TU Psychology Roof Replacement | F25: Simpson Unlimited, Inc. | H25: 4(23)-0004-1-004(Split) | I25: 51754.93 | K25: 13272913 | L25: 45420
D27: TU Psychology Roof Replacement Total | G27: =SUM(G21:G26) -> 695230 | I27: =SUM(I21:I26) -> 534903.77 | J27: =G27-I27 -> 160326.23

Sheet UB
B1: FY2021 Deficiency Appropriation - Tier 2 State Facilities Renewal Projects - UB
A3: FY | B3: Cert # | C3: Date | D3: Project Name | E3: Account No. | F3: Payee | G3: Authorization | H3: Inv No. | I3: Payment | J3: Balance Avail | K3: DOC # | L3: Clear Date
D5: UB HVAC Improvements for COVID Compliance, Campuswide | G5: 754816
A6: 24 | B6: FR-068 | C6: 45113 | D6: Business Center Elevator Modernization | F6: Thyssen Krupp Elevator Company (BPW 6/21/23 Item 1-GM) | H6: 1 | I6: 365286.63 | K6: 12141265 | L6: 45141
A7: 24 | B7: FR-095 | C7: 45558 | D7: Business Center Elevator Modernization | F7: Thyssen Krupp Elevator Company (BPW 6/21/23 Item 1-GM) | H7: 1000624067 | I7: 58202.52 | K7: 13864106 | L7: 45565
A8: 24 | B8: FR-101 | C8: 45637 | D8: Business Center Elevator Modernization | F8: TK Elevator Corporation | H8: 1000630994 | I8: 13431.35 | K8: SIR-00000721 | L8: 45644
A9: 25 | B9: FR-103 | C9: 45679 | D9: Business Center Elevator Modernization | F9: TK Elevator Corporation | H9: 1000638093 | I9: 8954.24 | K9: SIR-00001388 | L9: 45681
A10: 25 | B10: FR-103 | C10: 45679 | D10: Business Center Elevator Modernization | F10: TK Elevator Corporation | H10: 1000651924 (Partial) | I10: 24501.35 | K10: SIR-00001388 | L10: 45681
A11: 25 | B11: FR-104(1) | C11: 45727 | D11: Business Center Elevator Modernization | F11: TK Elevator Corporation | H11: 1000615881 | I11: 188038.92 | K11: SIR-00002959 | L11: 45732
A12: 25 | B12: FR-104(2) | C12: 45727 | D12: Business Center Elevator Modernization | F12: TK Elevator Corporation | H12: 1000651924 (Partial) | I12: 2830 | K12: SIR-00002959 | L12: 45732
A13: 25 | B13: FR-104(2) | C13: 45727 | D13: Business Center Elevator Modernization | F13: TK Elevator Corporation | H13: 1000665685 | I13: 26862.7 | K13: SIR-00002959 | L13: 45732
A14: 25 | B14: FR-104(2) | C14: 45727 | D14: Business Center Elevator Modernization | F14: TK Elevator Corporation | H14: 1000658894 | I14: 49248.29 | K14: SIR-00002959 | L14: 45732
A15: 25 | B15: FR-108 | C15: 45765 | D15: Business Center Elevator Modernization | F15: TK Elevator Corporation | H15: 1000678882 | I15: 1378 | K15: SIR-00004182 | L15: 45769
D17: UB HVAC Improvements for COVID Compliance, Campuswide Total | G17: =SUM(G5:G16) -> 754816 | I17: =SUM(I5:I16) -> 738734 | J17: =G17-I17 -> 16082

Sheet Cert log
A1: FY22 Deficiency Appropriation Certificate | K1: Vendor Name | L1: INVOICE NO. | M1: Date | N1: Certificate | O1: Invoice | Q1: Grand | R1: Certificate
A2: FY | B2: Cert # | C2: Date | D2: Project Name | E2: Account No. | F2: Payee | G2: Authorization | H2: Inv No. | I2: Payment | M2: Processed | N2: Number | O2: Amount | Q2: Total | R2: Number
A3: 24 | B3: FR-091 | C3: 45434 | D3: UMCP Replace Failing Cold Water Piping Along Fieldhouse Drive | F3: The Whiting-Turner Contracting Co., Inc. | H3: 019548-0006 | I3: 234445.92 | K3: The Whiting-Turner Contracting Co., Inc. | L3: 019548-0006 | M3: 45434 | N3: FR-091 | O3: 234445.92 | P3: UMCP | Q3: 234445.92 | R3: FR-091
A4: 24 | B4: FR-092 | C4: 45435 | D4: UMBC University Center Roof Replacement | F4: Ayers Saint Gross, Inc. | H4: 0021991.00-29 | I4: 8215.83 | K4: Ayers Saint Gross, Inc. | L4: 0021991.00-29 | M4: 45435 | N4: FR-092 | O4: 8215.83 | P4: UMBC | Q4: 8215.83 | R4: FR-092
A5: 25 | B5: FR-093 | C5: 45495 | D5: UMCP Toll Physics Building - Replace Failing Air Handing Units Serving Lecture Halls | F5: W.L. Gary Company, Inc. | H5: 19 | I5: 176839.61 | K5: W.L. Gary Company, Inc. | L5: 19 | M5: 45485 | N5: FR-093 | O5: 176839.61 | P5: UMCP | Q5: 176839.61 | R5: FR-093
A6: 25 | B6: FR-094 | C6: 45525 | D6: UMCP Replace Failing Cold Water Piping Along Fieldhouse Drive | F6: The Whiting-Turner Contracting Co., Inc. | H6: 019548-0008 | I6: 233707.67 | K6: The Whiting-Turner Contracting Co., Inc. | L6: 019548-0008 | M6: 45525 | N6: FR-094 | O6: 233707.67 | P6: UMCP
A7: 25 | B7: FR-094 | C7: 45525 | D7: UMCP Replace Failing Cold Water Piping Along Fieldhouse Drive | F7: The Whiting-Turner Contracting Co., Inc. | H7: 019548-0009 | I7: 764005.87 | K7: The Whiting-Turner Contracting Co., Inc. | L7: 019548-0009 | M7: 45525 | N7: FR-094 | O7: 764005.87 | P7: UMCP | Q7: =SUM(O6:O7) -> 997713.54 | R7: FR-094
A8: 25 | B8: FR-095 | C8: 45558 | D8: Business Center Elevator Modernization | F8: Thyssen Krupp Elevator Company (BPW 6/21/23 Item 1-GM) | H8: 1000624067 | I8: 58202.52
A9: 25 | B9: FR-095 | C9: 45558 | D9: UMCP Replace Failing Cold Water Piping Along Fieldhouse Drive | F9: The Whiting-Turner Contracting Co., Inc. | H9: 019548-0010 | I9: 402420.63
A10: 25 | B10: FR-095 | C10: 45558 | D10: UMCP Replace Failing Cold Water Piping Along Fieldhouse Drive | F10: The Whiting-Turner Contracting Co., Inc. | H10: 019548-0011 | I10: 253514.35
A11: 25 | B11: FR-096 | C11: 45558 | D11: UMCP Replace Failing Cold Water Piping Along Fieldhouse Drive | F11: The Whiting-Turner Contracting Co., Inc. | H11: 019548-0010 | I11: 402420.63 | K11: Above is consistent with the log for PayGo
A12: 25 | B12: FR-096 | C12: 45558 | D12: UMCP Replace Failing Cold Water Piping Along Fieldhouse Drive | F12: The Whiting-Turner Contracting Co., Inc. | H12: 019548-0011 | I12: 253514.35
A13: 24 | B13: FR-097 | C13: 45574 | D13: UMBC University Center Roof Replacement | F13: Ayers Saint Gross, Inc. | H13: 0021991.00-30 | I13: 2807.71 | J13: Copied by Cindy
A14: 25 | B14: FR-098 | C14: 45574 | D14: UMCP Toll Physics Building - Replace Failing Air Handing Units Serving Lecture Halls | F14: W.L. Gary Company, Inc. | H14: 21 | I14: 84083.19 | J14: Copied by Cindy
A15: 25 | B15: FR-099 | C15: 45586 | D15: UMCP Replace Failing Cold Water Piping Along Fieldhouse Drive | F15: The Whiting-Turner Contracting Co., Inc. | H15: 019548-0012 | I15: 135987.41
A16: 25 | B16: FR-100 | C16: 45615 | D16: UMCP Replace Failing Cold Water Piping Along Fieldhouse Drive | F16: The Whiting-Turner Contracting Co., Inc. | H16: 019548-0013 | I16: 388967.63
A17: 24 | B17: FR-101 | C17: 45637 | D17: Business Center Elevator Modernization | F17: TK Elevator Corporation | H17: 1000630994 | I17: 13431.35
A18: 24 | B18: FR-102(1) | C18: 45638 | D18: UMBC University Center Roof Replacement | F18: Tecta America East | H18: Final | I18: 56921.75
A19: 24 | B19: FR-102(1) | C19: 45638 | D19: UMBC Biology Roof Replacement | F19: Tecta America East | H19: 5r | I19: 25027.44
A20: 24 | B20: FR-102(2) | C20: 45638 | D20: UMBC University Center Roof Replacement | F20: Ayers Saint Gross, Inc. | H20: 0021991.00-31 | I20: 1118.96
A21: 25 | B21: FR-103 | C21: 45679 | D21: Business Center Elevator Modernization | F21: TK Elevator Corporation | H21: 1000638093 | I21: 8954.24
A22: 25 | B22: FR-103 | C22: 45679 | D22: Business Center Elevator Modernization | F22: TK Elevator Corporation | H22: 1000651924 (Partial) | I22: 24501.35 | J22: =SUM(I21:I22) -> 33455.59
A23: 25 | B23: FR-104(1) | C23: 45727 | D23: Business Center Elevator Modernization | F23: TK Elevator Corporation | H23: 1000615881 | I23: 188038.92
A24: 25 | B24: FR-104(2) | C24: 45727 | D24: Business Center Elevator Modernization | F24: TK Elevator Corporation | H24: 1000651924 (Partial) | I24: 2830
A25: 25 | B25: FR-104(2) | C25: 45727 | D25: Business Center Elevator Modernization | F25: TK Elevator Corporation | H25: 1000665685 | I25: 26862.7
A26: 25 | B26: FR-104(2) | C26: 45727 | D26: Business Center Elevator Modernization | F26: TK Elevator Corporation | H26: 1000658894 | I26: 49248.29 | J26: =SUM(I23:I26) -> 266979.91
A27: 25 | B27: FR-105 | C27: 45727 | D27: UMBC University Center Roof Replacement | F27: Baltimore Contractors | H27: 0853 23-1R (Split) | I27: 33682.36
A28: 25 | B28: FR-105 | C28: 45727 | D28: UMBC Biology Roof Replacement | F28: Baltimore Contractors | H28: 0853 23-1R (Split) | I28: 62746.06 | J28: =SUM(I27:I28) -> 96428.42
A29: 25 | B29: FR-106(1) | C29: 45727 | D29: UMCP Toll Physics Building - Replace Failing Air Handing Units Serving Lecture Halls | F29: Bowman Consulting Group | H29: 452817 | I29: 532.04
A30: 25 | B30: FR-106(2) | C30: 45727 | D30: UMCP Replace Failing Cold Water Piping Along Fieldhouse Drive | F30: The Whiting-Turner Contracting Co., Inc. | H30: 019548-0015 | I30: 336225.74
A31: 25 | B31: FY-107 | C31: 45763 | D31: UMCP Replace Failing Cold Water Piping Along Fieldhouse Drive | F31: The Whiting-Turner Contracting Co., Inc. | H31: 019548-0016(Split) | I31: 105621.28
A32: 25 | B32: FR-108 | C32: 45765 | D32: Business Center Elevator Modernization | F32: TK Elevator Corporation | H32: 1000678882 | I32: 1378
A33: 25 | B33: FR-109 | C33: 45796 | D33: UMCP Toll Physics Building - Replace Failing Air Handing Units Serving Lecture Halls | F33: W. L. Gary Company, Inc. | H33: 21 | I33: 35936.29
A34: 25 | B34: FR-110 | C34: 45814 | D34: UMBC University Center Roof Replacement | F34: Ayers Saint Gross, Inc. | H34: 0021991.00-32 | I34: 376.37
A35: 25 | B35: FR-110 | C35: 45814 | D35: UMBC University Center Roof Replacement | F35: Ayers Saint Gross, Inc. | H35: 0021991.00-33 | I35: 6042.16
A36: 25 | B36: FR-111 | C36: 45824 | D36: UMBC University Center Roof Replacement | F36: Baltimore Contractors | H36: 0853 23-2R | I36: 7304.58

Sheet Sheet1
