Workbook

Sheet 2021A Revised 
I1: University System of Maryland | AA1: University System of Maryland | AU1: University System of Maryland | BO1: University System of Maryland | CI1: University System of Maryland | DC1: University System of Maryland | DW1: University System of Maryland
I2: Distribution of Debt Services | AA2: Distribution of Debt Services | AU2: Distribution of Debt Services | BO2: Distribution of Debt Services | CI2: Distribution of Debt Services | DC2: Distribution of Debt Services | DW2: Distribution of Debt Services
I3: 2021 Series A Bond Funded Projects | AA3: 2021 Series A Bond Funded Projects | AU3: 2021 Series A Bond Funded Projects | BO3: 2021 Series A Bond Funded Projects | CI3: 2021 Series A Bond Funded Projects | DC3: 2021 Series A Bond Funded Projects | DW3: 2021 Series A Bond Funded Projects
A5: Payment | C5: Total Debt Services - 2021A | T5: Total Facilities Renewal - 2021A | Y5: Total UMCP Housing Projects - 2021A | AD5: UMCP N. Campus Dining Hall Replace (Aux) | AI5: UMCP Two New Residence Halls (Aux) | AN5: Total Academic Projects - 2021A | AS5: Total Auxiliary Projects - 2021A | AX5: UMCP Chem Building Wing -42nd Amendment (Aux) | BC5: UMCP Public Policy Bldg 42nd Amendment(Aux) | BH5: UMCP Physics Bldg 42nd Amendment (Aux) | BM5: UMCP Dorchester Residence Hall (Auxiliary) | BR5: UMCP Rossborough Lane Parking Garage (Aux) | BW5: UMB Facilities Renewal 42nd Amendment (Aux) | CB5: UMB Elevator & Fire Alarm Improvement (Aux) | CG5: UMES Natural Gas Conversion (Aux) | CL5: UMBC Event Center and Arena (Aux) | CQ5: UMBC New Health Svc & Counseling Bldg (Aux) | CV5: UMBC Retriver Activities Center Renewal (Aux) | DA5: FSU Five Dorm Renovation (Aux) | DF5: TU Glen Towers & Addition & Renov (Aux) | DK5: TU Union Addition/Renovation (Aux) | DP5: TU Residence Tower Renovation (Aux) | DU5: Debt Svc from Plant Fund\Trustee Accounts | DZ5: Debt Svc from Plant Fund\Trustee Accounts
A6: Date | C6: 2021A - 30 Year Bond | F6: 2021A - 20 Year Bond | I6: 2021A - 10 Year Bond | L6: 2021A - Refunding | O6: 2021A Bonds - Total | T6: 2021A - 10 Year Bond | Y6: 2021A - 30 Year Bond | AE6: 30 Year Bonds | AJ6: 30 Year Bonds | AN6: 2021A - 20 Year Bond | AS6: 2021A - 20 Year Bond | AX6: 20 Year Bond | BC6: 20 Year Bond | BH6: 20 Year Bond | BN6: 20 Year Bond | BS6: 20 Year Bond | BX6: 20 Year Bond | CC6: 20 Year Bond | CH6: 20 Year Bond | CM6: 20 Year Bond | CR6: 20 Year Bond | CW6: 20 Year Bond | DB6: 20 Year Bond | DG6: 20 Year Bond | DL6: 20 Year Bond | DQ6: 20 Year Bond | DV6: 20 year bond | EA6: 10 year bond
E7: Amort of | H7: Amort of | K7: Amort of | N7: Amort of | R7: Amort of | W7: Amort of | AB7: Amort of | AE7: 0.1658126 | AG7: Amort of | AJ7: 0.8341874 | AL7: Amort of | AN7: 0.0429894 | AO7: 0.0477879 | AP7: 0.0634425 | AQ7: Amort of | AS7: =AX7+BC7+BH7+BM7+BR7+BW7+CB7+CG7+CL7+CQ7+CV7+DA7+DF7+DK7+DP7+DU7 -> 0.95701072 | AT7: =AY7+BD7+BI7+BN7+BS7+BX7+CC7+CH7+CM7+CR7+CW7+DB7+DG7+DL7+DQ7+DV7 -> 0.95221197 | AU7: =AZ7+BE7+BJ7+BO7+BT7+BY7+CD7+CI7+CN7+CS7+CX7+DC7+DH7+DM7+DR7+DW7 -> 0.93655762 | AV7: Amort of | AX7: 0.04640834 | AY7: 0.053141342 | AZ7: 0.053150685 | BA7: Amort of | BC7: 0.0703604 | BD7: 0.1546606 | BE7: 0.1613014 | BF7: Amort of | BH7: 0.0156686 | BI7: 0.0185029 | BJ7: 0.0202699 | BK7: Amort of | BM7: 0.0002236 | BN7: 0.0002236 | BO7: 0.0002236 | BP7: Amort of | BR7: 0 | BS7: 0 | BT7: 0.000355 | BU7: Amort of | BW7: 0.020236796 | BX7: 0.020636988 | BY7: 0.020636988 | BZ7: Amort of | CB7: 0.0001081 | CC7: 0.0001081 | CD7: 0.0001081 | CE7: Amort of | CG7: 0 | CH7: 0 | CI7: 0.0019795 | CJ7: Amort of | CL7: 0.005355 | CM7: 0.005355 | CN7: 0.005355 | CO7: Amort of | CQ7: 0.054797 | CR7: 0.054797 | CS7: 0.054797 | CT7: Amort of | CV7: 0.0418367 | CW7: 0.049707 | CX7: 0.049707 | CY7: Amort of | DA7: 0.0039008 | DB7: 0.0041094 | DC7: 0.0043294 | DD7: Amort of | DF7: 0.0089917 | DG7: 0.043892 | DH7: 0.1124684 | DI7: Amort of | DK7: 0.2003503 | DL7: 0.2594369 | DM7: 0.3051562 | DN7: Amort of | DQ7: 6.95e-05 | DR7: 6.95e-05 | DS7: Amort of | DU7: 0.48877338 | DV7: 0.28757164 | DW7: 0.14664994 | DX7: Amort of | DZ7: 0.33471093 | EA7: 0.18831251 | EB7: 0.18831251 | EC7: Amort of
E8: Premium | H8: Premium | K8: Premium | N8: Premium | R8: Premium | W8: Premium | AB8: Premium | AG8: Premium | AL8: Premium | AN8: 0.0876226 | AQ8: Premium | AS8: =AX8+BC8+BH8+BM8+BR8+BW8+CB8+CG8+CL8+CQ8+CV8+DA8+DF8+DK8+DP8+DU8 -> 0.91237741 | AV8: Premium | AX8: 0.053150685 | AY8: 0.053176468 | BA8: Premium | BC8: 0.16130137 | BD8: 0.16137962 | BF8: Premium | BH8: 0.020425876 | BI8: 0.020435785 | BK8: Premium | BM8: 0.00022360432 | BN8: 0.00022371279 | BP8: Premium | BR8: 0.00035502055 | BS8: 0.00035519277 | BU8: Premium | BW8: 0.020636988 | BX8: 0.021072556 | BZ8: Premium | CB8: 0.00010810281 | CC8: 0.00010815525 | CE8: Premium | CG8: 0.0044765034 | CH8: 0.004643478 | CJ8: Premium | CL8: 0.0053550198 | CM8: 0.0053576175 | CO8: Premium | CQ8: 0.054796971 | CR8: 0.054823553 | CT8: Premium | CV8: 0.049707008 | CW8: 0.049731121 | CY8: Premium | DA8: 0.0047367372 | DB8: 0.0049545069 | DD8: Premium | DF8: 0.1569329 | DG8: 0.17152375 | DI8: Premium | DK8: =2.08425%+31.93873% -> 0.3402298 | DL8: 0.35460432 | DN8: Premium | DP8: 6.9526233e-05 | DQ8: 6.955996e-05 | DS8: Premium | DU8: 0.039871297 | DX8: Premium | DZ8: 0.18831251 | EC8: Premium
C9: Principal | D9: Interest | E9: Total | F9: Principal | G9: Interest | H9: Total | I9: Principal | J9: Interest | K9: Total | L9: Principal | M9: Interest | N9: Total | O9: Principal-Total | P9: Interest-Total | Q9: Total | R9: Total | T9: Principal | U9: Interest | V9: Total | W9: Total | Y9: Principal | Z9: Interest | AA9: Total | AB9: Total | AD9: Principal | AE9: Interest | AF9: Total | AG9: Total | AI9: Principal | AJ9: Interest | AK9: Total | AL9: Total | AN9: Principal | AO9: Interest | AP9: Total | AQ9: Total | AS9: Principal | AT9: Interest | AU9: Total | AV9: Total | AX9: Principal | AY9: Interest | AZ9: Total | BA9: Total | BC9: Principal | BD9: Interest | BE9: Total | BF9: Total | BH9: Principal | BI9: Interest | BJ9: Total | BK9: Total | BM9: Principal | BN9: Interest | BO9: Total | BP9: Total | BR9: Principal | BS9: Interest | BT9: Total | BU9: Total | BW9: Principal | BX9: Interest | BY9: Total | BZ9: Total | CB9: Principal | CC9: Interest | CD9: Total | CE9: Total | CG9: Principal | CH9: Interest | CI9: Total | CJ9: Total | CL9: Principal | CM9: Interest | CN9: Total | CO9: Total | CQ9: Principal | CR9: Interest | CS9: Total | CT9: Total | CV9: Principal | CW9: Interest | CX9: Total | CY9: Total | DA9: Principal | DB9: Interest | DC9: Total | DD9: Total | DF9: Principal | DG9: Interest | DH9: Total | DI9: Total | DK9: Principal | DL9: Interest | DM9: Total | DN9: Total | DP9: Principal | DQ9: Interest | DR9: Total | DS9: Total | DU9: Principal | DV9: Interest | DW9: Total | DX9: Total | DZ9: Principal | EA9: Interest | EB9: Total | EC9: Total
A10: 45566 | D10: 1298700 | E10: 285756 | G10: 2252650 | H10: 751642 | J10: 238625 | K10: 166259 | M10: 340375 | N10: 345072 | P10: =D10+G10+J10+M10 -> 4130350 | Q10: =O10+P10 -> 4130350 | R10: =E10+H10+K10+N10 -> 1548729 | T10: ='10-Year FR Revised'!H9 -> 0 | U10: ='10-Year FR Revised'!I9 -> 238625 | V10: =T10+U10 -> 238625 | W10: ='10-Year FR Revised'!K9 -> 166259 | Z10: =AE10+AJ10 -> 1298700 | AA10: =Y10+Z10 -> 1298700 | AB10: =AG10+AL10 -> 285756 | AE10: =D10*$AE$7 -> 215340.82 | AF10: =AD10+AE10 -> 215340.82 | AG10: =AE$7*$E10 -> 47381.945 | AJ10: =D10*$AJ$7 -> 1083359.2 | AK10: =AI10+AJ10 -> 1083359.2 | AL10: =AJ$7*$E10 -> 238374.05 | AN10: ='20-Yrs Acad Revised'!H9 -> 0 | AO10: ='20-Yrs Acad Revised'!I9 -> 219724.84 | AP10: =AN10+AO10 -> 219724.84 | AQ10: ='20-Yrs Acad Revised'!K9 -> 73315.614 | AS10: =BW10+AX10+BC10+BM10+BR10+CG10+CL10+CQ10+CV10+DA10+DF10+DK10+DP10+DU10+BH10+CB10 -> 0 | AT10: =BX10+AY10+BD10+BN10+BS10+CH10+CM10+CR10+CW10+DB10+DG10+DL10+DQ10+DV10+BI10+CC10 -> 2032925.2 | AU10: =AS10+AT10 -> 2032925.2 | AV10: =BZ10+BA10+BF10+BP10+BU10+CJ10+CO10+CT10+CY10+DD10+DI10+DN10+DS10+DX10+BK10+CE10 -> 678326.39 | AX10: =$F10*AY$8 -> 0 | AY10: =$G10*AY$8 -> 119787.97 | AZ10: =AX10+AY10 -> 119787.97 | BA10: =AY$8*$H10 -> 39969.667 | BC10: =$F10*BD$8 -> 0 | BD10: =$G10*BD$8 -> 363531.79 | BE10: =BC10+BD10 -> 363531.79 | BF10: =BD$8*$H10 -> 121299.7 | BH10: =$F10*BI$8 -> 0 | BI10: =$G10*BI$8 -> 46034.67 | BJ10: =BH10+BI10 -> 46034.67 | BK10: =BI$8*$H10 -> 15360.394 | BM10: =$F10*BN$8 -> 0 | BN10: =$G10*BN$8 -> 503.94661 | BO10: =BM10+BN10 -> 503.94661 | BP10: =BN$8*$H10 -> 168.15193 | BR10: =$F10*BS$8 -> 0 | BS10: =$G10*BS$8 -> 800.12499 | BT10: =BR10+BS10 -> 800.12499 | BU10: =BS$8*$H10 -> 266.9778 | BW10: =$F10*BX$8 -> 0 | BX10: =$G10*BX$8 -> 47469.094 | BY10: =BW10+BX10 -> 47469.094 | BZ10: =BX$8*$H10 -> 15839.018 | CB10: =$F10*CC$8 -> 0 | CC10: =$G10*CC$8 -> 243.63592 | CD10: =CB10+CC10 -> 243.63592 | CE10: =CC$8*$H10 -> 81.294028 | CG10: =$F10*CH$8 -> 0 | CH10: =$G10*CH$8 -> 10460.131 | CI10: =CG10+CH10 -> 10460.131 | CJ10: =CH$8*$H10 -> 3490.2331 | CL10: =$F10*CM$8 -> 0 | CM10: =$G10*CM$8 -> 12068.837 | CN10: =CL10+CM10 -> 12068.837 | CO10: =CM$8*$H10 -> 4027.0103 | CQ10: =$F10*CR$8 -> 0 | CR10: =$G10*CR$8 -> 123498.28 | CS10: =CQ10+CR10 -> 123498.28 | CT10: =CR$8*$H10 -> 41207.685 | CV10: =$F10*CW$8 -> 0 | CW10: =$G10*CW$8 -> 112026.81 | CX10: =CV10+CW10 -> 112026.81 | CY10: =CW$8*$H10 -> 37379.999 | DA10: =$F10*DB$8 -> 0 | DB10: =$G10*DB$8 -> 11160.77 | DC10: =DA10+DB10 -> 11160.77 | DD10: =DB$8*$H10 -> 3724.0155 | DF10: =$F10*DG$8 -> 0 | DG10: =$G10*DG$8 -> 386382.98 | DH10: =DF10+DG10 -> 386382.98 | DI10: =DG$8*$H10 -> 128924.45 | DK10: =$F10*DL$8 -> 0 | DL10: =$G10*DL$8 -> 798799.43 | DM10: =DK10+DL10 -> 798799.43 | DN10: =DL$8*$H10 -> 266535.5 | DP10: =$F10*DQ$8 -> 0 | DQ10: =$G10*DQ$8 -> 156.69424 | DR10: =DP10+DQ10 -> 156.69424 | DS10: =DQ$8*$H10 -> 52.284188 | DU10: =$F10*DV$8 -> 0 | DV10: =$G10*DV$8 -> 0 | DW10: =DU10+DV10 -> 0 | DX10: =DV$8*$H10 -> 0
A11: 45748 | C11: 0 | D11: 1298700 | E11: 285756 | F11: 4160000 | G11: 2252650 | H11: 751642 | I11: 1175000 | J11: 238625 | K11: 166259 | L11: 0 | M11: 340375 | N11: 345072 | O11: =C11+F11+I11+L11 -> 5335000 | P11: =D11+G11+J11+M11 -> 4130350 | Q11: =O11+P11 -> 9465350 | R11: =E11+H11+K11+N11 -> 1548729 | T11: ='10-Year FR Revised'!H10 -> 1175000 | U11: ='10-Year FR Revised'!I10 -> 238625 | V11: =T11+U11 -> 1413625 | W11: ='10-Year FR Revised'!K10 -> 166259 | Y11: =AD11+AI11 -> 0 | Z11: =AE11+AJ11 -> 1298700 | AA11: =Y11+Z11 -> 1298700 | AB11: =AG11+AL11 -> 285756 | AD11: =C11*$AE$7 -> 0 | AE11: =D11*$AE$7 -> 215340.82 | AF11: =AD11+AE11 -> 215340.82 | AG11: =AE$7*$E11 -> 47381.945 | AI11: =C11*$AJ$7 -> 0 | AJ11: =D11*$AJ$7 -> 1083359.2 | AK11: =AI11+AJ11 -> 1083359.2 | AL11: =AJ$7*$E11 -> 238374.05 | AN11: ='20-Yrs Acad Revised'!H10 -> 405768.91 | AO11: ='20-Yrs Acad Revised'!I10 -> 219724.84 | AP11: =AN11+AO11 -> 625493.74 | AQ11: ='20-Yrs Acad Revised'!K10 -> 73315.614 | AS11: =BW11+AX11+BC11+BM11+BR11+CG11+CL11+CQ11+CV11+DA11+DF11+DK11+DP11+DU11+BH11+CB11 -> 3754231.1 | AT11: =BX11+AY11+BD11+BN11+BS11+CH11+CM11+CR11+CW11+DB11+DG11+DL11+DQ11+DV11+BI11+CC11 -> 2032925.2 | AU11: =AS11+AT11 -> 5787156.3 | AV11: =BZ11+BA11+BF11+BP11+BU11+CJ11+CO11+CT11+CY11+DD11+DI11+DN11+DS11+DX11+BK11+CE11 -> 678326.39 | AX11: =$F11*AY$8 -> 221214.11 | AY11: =$G11*AY$8 -> 119787.97 | AZ11: =AX11+AY11 -> 341002.08 | BA11: =AY$8*$H11 -> 39969.667 | BC11: =$F11*BD$8 -> 671339.21 | BD11: =$G11*BD$8 -> 363531.79 | BE11: =BC11+BD11 -> 1034871 | BF11: =BD$8*$H11 -> 121299.7 | BH11: =$F11*BI$8 -> 85012.864 | BI11: =$G11*BI$8 -> 46034.67 | BJ11: =BH11+BI11 -> 131047.53 | BK11: =BI$8*$H11 -> 15360.394 | BM11: =$F11*BN$8 -> 930.64519 | BN11: =$G11*BN$8 -> 503.94661 | BO11: =BM11+BN11 -> 1434.5918 | BP11: =BN$8*$H11 -> 168.15193 | BR11: =$F11*BS$8 -> 1477.6019 | BS11: =$G11*BS$8 -> 800.12499 | BT11: =BR11+BS11 -> 2277.7269 | BU11: =BS$8*$H11 -> 266.9778 | BW11: =$F11*BX$8 -> 87661.835 | BX11: =$G11*BX$8 -> 47469.094 | BY11: =BW11+BX11 -> 135130.93 | BZ11: =BX$8*$H11 -> 15839.018 | CB11: =$F11*CC$8 -> 449.92584 | CC11: =$G11*CC$8 -> 243.63592 | CD11: =CB11+CC11 -> 693.56176 | CE11: =CC$8*$H11 -> 81.294028 | CG11: =$F11*CH$8 -> 19316.869 | CH11: =$G11*CH$8 -> 10460.131 | CI11: =CG11+CH11 -> 29776.999 | CJ11: =CH$8*$H11 -> 3490.2331 | CL11: =$F11*CM$8 -> 22287.689 | CM11: =$G11*CM$8 -> 12068.837 | CN11: =CL11+CM11 -> 34356.526 | CO11: =CM$8*$H11 -> 4027.0103 | CQ11: =$F11*CR$8 -> 228065.98 | CR11: =$G11*CR$8 -> 123498.28 | CS11: =CQ11+CR11 -> 351564.26 | CT11: =CR$8*$H11 -> 41207.685 | CV11: =$F11*CW$8 -> 206881.46 | CW11: =$G11*CW$8 -> 112026.81 | CX11: =CV11+CW11 -> 318908.27 | CY11: =CW$8*$H11 -> 37379.999 | DA11: =$F11*DB$8 -> 20610.749 | DB11: =$G11*DB$8 -> 11160.77 | DC11: =DA11+DB11 -> 31771.519 | DD11: =DB$8*$H11 -> 3724.0155 | DF11: =$F11*DG$8 -> 713538.8 | DG11: =$G11*DG$8 -> 386382.98 | DH11: =DF11+DG11 -> 1099921.8 | DI11: =DG$8*$H11 -> 128924.45 | DK11: =$F11*DL$8 -> 1475154 | DL11: =$G11*DL$8 -> 798799.43 | DM11: =DK11+DL11 -> 2273953.4 | DN11: =DL$8*$H11 -> 266535.5 | DP11: =$F11*DQ$8 -> 289.36943 | DQ11: =$G11*DQ$8 -> 156.69424 | DR11: =DP11+DQ11 -> 446.06368 | DS11: =DQ$8*$H11 -> 52.284188 | DU11: =$F11*DV$8 -> 0 | DV11: =$G11*DV$8 -> 0 | DW11: =DU11+DV11 -> 0 | DX11: =DV$8*$H11 -> 0
A12: 45931 | D12: 1298700 | E12: 285756 | G12: 2148650 | H12: 751642 | J12: 209250 | K12: 166259 | M12: 340375 | N12: 345072 | P12: =D12+G12+J12+M12 -> 3996975 | Q12: =O12+P12 -> 3996975 | R12: =E12+H12+K12+N12 -> 1548729 | T12: ='10-Year FR Revised'!H11 -> 0 | U12: ='10-Year FR Revised'!I11 -> 209250 | V12: =T12+U12 -> 209250 | W12: ='10-Year FR Revised'!K11 -> 166259 | Z12: =AE12+AJ12 -> 1298700 | AA12: =Y12+Z12 -> 1298700 | AB12: =AG12+AL12 -> 285756 | AE12: =D12*$AE$7 -> 215340.82 | AF12: =AD12+AE12 -> 215340.82 | AG12: =AE$7*$E12 -> 47381.945 | AJ12: =D12*$AJ$7 -> 1083359.2 | AK12: =AI12+AJ12 -> 1083359.2 | AL12: =AJ$7*$E12 -> 238374.05 | AN12: ='20-Yrs Acad Revised'!H11 -> 0 | AO12: ='20-Yrs Acad Revised'!I11 -> 209580.62 | AP12: =AN12+AO12 -> 209580.62 | AQ12: ='20-Yrs Acad Revised'!K11 -> 73315.614 | AS12: =BW12+AX12+BC12+BM12+BR12+CG12+CL12+CQ12+CV12+DA12+DF12+DK12+DP12+DU12+BH12+CB12 -> 0 | AT12: =BX12+AY12+BD12+BN12+BS12+CH12+CM12+CR12+CW12+DB12+DG12+DL12+DQ12+DV12+BI12+CC12 -> 1939069.4 | AU12: =AS12+AT12 -> 1939069.4 | AV12: =BZ12+BA12+BF12+BP12+BU12+CJ12+CO12+CT12+CY12+DD12+DI12+DN12+DS12+DX12+BK12+CE12 -> 678326.39 | AX12: =$F12*AY$8 -> 0 | AY12: =$G12*AY$8 -> 114257.62 | AZ12: =AX12+AY12 -> 114257.62 | BA12: =AY$8*$H12 -> 39969.667 | BC12: =$F12*BD$8 -> 0 | BD12: =$G12*BD$8 -> 346748.31 | BE12: =BC12+BD12 -> 346748.31 | BF12: =BD$8*$H12 -> 121299.7 | BH12: =$F12*BI$8 -> 0 | BI12: =$G12*BI$8 -> 43909.349 | BJ12: =BH12+BI12 -> 43909.349 | BK12: =BI$8*$H12 -> 15360.394 | BM12: =$F12*BN$8 -> 0 | BN12: =$G12*BN$8 -> 480.68048 | BO12: =BM12+BN12 -> 480.68048 | BP12: =BN$8*$H12 -> 168.15193 | BR12: =$F12*BS$8 -> 0 | BS12: =$G12*BS$8 -> 763.18494 | BT12: =BR12+BS12 -> 763.18494 | BU12: =BS$8*$H12 -> 266.9778 | BW12: =$F12*BX$8 -> 0 | BX12: =$G12*BX$8 -> 45277.548 | BY12: =BW12+BX12 -> 45277.548 | BZ12: =BX$8*$H12 -> 15839.018 | CB12: =$F12*CC$8 -> 0 | CC12: =$G12*CC$8 -> 232.38778 | CD12: =CB12+CC12 -> 232.38778 | CE12: =CC$8*$H12 -> 81.294028 | CG12: =$F12*CH$8 -> 0 | CH12: =$G12*CH$8 -> 9977.2091 | CI12: =CG12+CH12 -> 9977.2091 | CJ12: =CH$8*$H12 -> 3490.2331 | CL12: =$F12*CM$8 -> 0 | CM12: =$G12*CM$8 -> 11511.645 | CN12: =CL12+CM12 -> 11511.645 | CO12: =CM$8*$H12 -> 4027.0103 | CQ12: =$F12*CR$8 -> 0 | CR12: =$G12*CR$8 -> 117796.63 | CS12: =CQ12+CR12 -> 117796.63 | CT12: =CR$8*$H12 -> 41207.685 | CV12: =$F12*CW$8 -> 0 | CW12: =$G12*CW$8 -> 106854.77 | CX12: =CV12+CW12 -> 106854.77 | CY12: =CW$8*$H12 -> 37379.999 | DA12: =$F12*DB$8 -> 0 | DB12: =$G12*DB$8 -> 10645.501 | DC12: =DA12+DB12 -> 10645.501 | DD12: =DB$8*$H12 -> 3724.0155 | DF12: =$F12*DG$8 -> 0 | DG12: =$G12*DG$8 -> 368544.51 | DH12: =DF12+DG12 -> 368544.51 | DI12: =DG$8*$H12 -> 128924.45 | DK12: =$F12*DL$8 -> 0 | DL12: =$G12*DL$8 -> 761920.58 | DM12: =DK12+DL12 -> 761920.58 | DN12: =DL$8*$H12 -> 266535.5 | DP12: =$F12*DQ$8 -> 0 | DQ12: =$G12*DQ$8 -> 149.46001 | DR12: =DP12+DQ12 -> 149.46001 | DS12: =DQ$8*$H12 -> 52.284188 | DU12: =$F12*DV$8 -> 0 | DV12: =$G12*DV$8 -> 0 | DW12: =DU12+DV12 -> 0 | DX12: =DV$8*$H12 -> 0
A13: 46113 | C13: 0 | D13: 1298700 | E13: 285756 | F13: 4370000 | G13: 2148650 | H13: 751642 | I13: 1230000 | J13: 209250 | K13: 166259 | L13: 0 | M13: 340375 | N13: 345072 | O13: =C13+F13+I13+L13 -> 5600000 | P13: =D13+G13+J13+M13 -> 3996975 | Q13: =O13+P13 -> 9596975 | R13: =E13+H13+K13+N13 -> 1548729 | T13: ='10-Year FR Revised'!H12 -> 1230000 | U13: ='10-Year FR Revised'!I12 -> 209250 | V13: =T13+U13 -> 1439250 | W13: ='10-Year FR Revised'!K12 -> 166259 | Y13: =AD13+AI13 -> 0 | Z13: =AE13+AJ13 -> 1298700 | AA13: =Y13+Z13 -> 1298700 | AB13: =AG13+AL13 -> 285756 | AD13: =C13*$AE$7 -> 0 | AE13: =D13*$AE$7 -> 215340.82 | AF13: =AD13+AE13 -> 215340.82 | AG13: =AE$7*$E13 -> 47381.945 | AI13: =C13*$AJ$7 -> 0 | AJ13: =D13*$AJ$7 -> 1083359.2 | AK13: =AI13+AJ13 -> 1083359.2 | AL13: =AJ$7*$E13 -> 238374.05 | AN13: ='20-Yrs Acad Revised'!H12 -> 426252.43 | AO13: ='20-Yrs Acad Revised'!I12 -> 209580.62 | AP13: =AN13+AO13 -> 635833.05 | AQ13: ='20-Yrs Acad Revised'!K12 -> 73315.614 | AS13: =BW13+AX13+BC13+BM13+BR13+CG13+CL13+CQ13+CV13+DA13+DF13+DK13+DP13+DU13+BH13+CB13 -> 3943747.6 | AT13: =BX13+AY13+BD13+BN13+BS13+CH13+CM13+CR13+CW13+DB13+DG13+DL13+DQ13+DV13+BI13+CC13 -> 1939069.4 | AU13: =AS13+AT13 -> 5882817 | AV13: =BZ13+BA13+BF13+BP13+BU13+CJ13+CO13+CT13+CY13+DD13+DI13+DN13+DS13+DX13+BK13+CE13 -> 678326.39 | AX13: =$F13*AY$8 -> 232381.17 | AY13: =$G13*AY$8 -> 114257.62 | AZ13: =AX13+AY13 -> 346638.79 | BA13: =AY$8*$H13 -> 39969.667 | BC13: =$F13*BD$8 -> 705228.93 | BD13: =$G13*BD$8 -> 346748.31 | BE13: =BC13+BD13 -> 1051977.2 | BF13: =BD$8*$H13 -> 121299.7 | BH13: =$F13*BI$8 -> 89304.379 | BI13: =$G13*BI$8 -> 43909.349 | BJ13: =BH13+BI13 -> 133213.73 | BK13: =BI$8*$H13 -> 15360.394 | BM13: =$F13*BN$8 -> 977.62487 | BN13: =$G13*BN$8 -> 480.68048 | BO13: =BM13+BN13 -> 1458.3054 | BP13: =BN$8*$H13 -> 168.15193 | BR13: =$F13*BS$8 -> 1552.1924 | BS13: =$G13*BS$8 -> 763.18494 | BT13: =BR13+BS13 -> 2315.3773 | BU13: =BS$8*$H13 -> 266.9778 | BW13: =$F13*BX$8 -> 92087.071 | BX13: =$G13*BX$8 -> 45277.548 | BY13: =BW13+BX13 -> 137364.62 | BZ13: =BX$8*$H13 -> 15839.018 | CB13: =$F13*CC$8 -> 472.63844 | CC13: =$G13*CC$8 -> 232.38778 | CD13: =CB13+CC13 -> 705.02621 | CE13: =CC$8*$H13 -> 81.294028 | CG13: =$F13*CH$8 -> 20291.999 | CH13: =$G13*CH$8 -> 9977.2091 | CI13: =CG13+CH13 -> 30269.208 | CJ13: =CH$8*$H13 -> 3490.2331 | CL13: =$F13*CM$8 -> 23412.789 | CM13: =$G13*CM$8 -> 11511.645 | CN13: =CL13+CM13 -> 34924.433 | CO13: =CM$8*$H13 -> 4027.0103 | CQ13: =$F13*CR$8 -> 239578.93 | CR13: =$G13*CR$8 -> 117796.63 | CS13: =CQ13+CR13 -> 357375.55 | CT13: =CR$8*$H13 -> 41207.685 | CV13: =$F13*CW$8 -> 217325 | CW13: =$G13*CW$8 -> 106854.77 | CX13: =CV13+CW13 -> 324179.77 | CY13: =CW$8*$H13 -> 37379.999 | DA13: =$F13*DB$8 -> 21651.195 | DB13: =$G13*DB$8 -> 10645.501 | DC13: =DA13+DB13 -> 32296.697 | DD13: =DB$8*$H13 -> 3724.0155 | DF13: =$F13*DG$8 -> 749558.79 | DG13: =$G13*DG$8 -> 368544.51 | DH13: =DF13+DG13 -> 1118103.3 | DI13: =DG$8*$H13 -> 128924.45 | DK13: =$F13*DL$8 -> 1549620.9 | DL13: =$G13*DL$8 -> 761920.58 | DM13: =DK13+DL13 -> 2311541.5 | DN13: =DL$8*$H13 -> 266535.5 | DP13: =$F13*DQ$8 -> 303.97703 | DQ13: =$G13*DQ$8 -> 149.46001 | DR13: =DP13+DQ13 -> 453.43703 | DS13: =DQ$8*$H13 -> 52.284188 | DU13: =$F13*DV$8 -> 0 | DV13: =$G13*DV$8 -> 0 | DW13: =DU13+DV13 -> 0 | DX13: =DV$8*$H13 -> 0
A14: 46296 | D14: 1298700 | E14: 285756 | G14: 2039400 | H14: 751642 | J14: 178500 | K14: 166259 | M14: 340375 | N14: 345072 | P14: =D14+G14+J14+M14 -> 3856975 | Q14: =O14+P14 -> 3856975 | R14: =E14+H14+K14+N14 -> 1548729 | T14: ='10-Year FR Revised'!H13 -> 0 | U14: ='10-Year FR Revised'!I13 -> 178500 | V14: =T14+U14 -> 178500 | W14: ='10-Year FR Revised'!K13 -> 166259 | Z14: =AE14+AJ14 -> 1298700 | AA14: =Y14+Z14 -> 1298700 | AB14: =AG14+AL14 -> 285756 | AE14: =D14*$AE$7 -> 215340.82 | AF14: =AD14+AE14 -> 215340.82 | AG14: =AE$7*$E14 -> 47381.945 | AJ14: =D14*$AJ$7 -> 1083359.2 | AK14: =AI14+AJ14 -> 1083359.2 | AL14: =AJ$7*$E14 -> 238374.05 | AN14: ='20-Yrs Acad Revised'!H13 -> 0 | AO14: ='20-Yrs Acad Revised'!I13 -> 198924.3 | AP14: =AN14+AO14 -> 198924.3 | AQ14: ='20-Yrs Acad Revised'!K13 -> 73315.614 | AS14: =BW14+AX14+BC14+BM14+BR14+CG14+CL14+CQ14+CV14+DA14+DF14+DK14+DP14+DU14+BH14+CB14 -> 0 | AT14: =BX14+AY14+BD14+BN14+BS14+CH14+CM14+CR14+CW14+DB14+DG14+DL14+DQ14+DV14+BI14+CC14 -> 1840475.7 | AU14: =AS14+AT14 -> 1840475.7 | AV14: =BZ14+BA14+BF14+BP14+BU14+CJ14+CO14+CT14+CY14+DD14+DI14+DN14+DS14+DX14+BK14+CE14 -> 678326.39 | AX14: =$F14*AY$8 -> 0 | AY14: =$G14*AY$8 -> 108448.09 | AZ14: =AX14+AY14 -> 108448.09 | BA14: =AY$8*$H14 -> 39969.667 | BC14: =$F14*BD$8 -> 0 | BD14: =$G14*BD$8 -> 329117.59 | BE14: =BC14+BD14 -> 329117.59 | BF14: =BD$8*$H14 -> 121299.7 | BH14: =$F14*BI$8 -> 0 | BI14: =$G14*BI$8 -> 41676.739 | BJ14: =BH14+BI14 -> 41676.739 | BK14: =BI$8*$H14 -> 15360.394 | BM14: =$F14*BN$8 -> 0 | BN14: =$G14*BN$8 -> 456.23986 | BO14: =BM14+BN14 -> 456.23986 | BP14: =BN$8*$H14 -> 168.15193 | BR14: =$F14*BS$8 -> 0 | BS14: =$G14*BS$8 -> 724.38013 | BT14: =BR14+BS14 -> 724.38013 | BU14: =BS$8*$H14 -> 266.9778 | BW14: =$F14*BX$8 -> 0 | BX14: =$G14*BX$8 -> 42975.372 | BY14: =BW14+BX14 -> 42975.372 | BZ14: =BX$8*$H14 -> 15839.018 | CB14: =$F14*CC$8 -> 0 | CC14: =$G14*CC$8 -> 220.57181 | CD14: =CB14+CC14 -> 220.57181 | CE14: =CC$8*$H14 -> 81.294028 | CG14: =$F14*CH$8 -> 0 | CH14: =$G14*CH$8 -> 9469.9091 | CI14: =CG14+CH14 -> 9469.9091 | CJ14: =CH$8*$H14 -> 3490.2331 | CL14: =$F14*CM$8 -> 0 | CM14: =$G14*CM$8 -> 10926.325 | CN14: =CL14+CM14 -> 10926.325 | CO14: =CM$8*$H14 -> 4027.0103 | CQ14: =$F14*CR$8 -> 0 | CR14: =$G14*CR$8 -> 111807.15 | CS14: =CQ14+CR14 -> 111807.15 | CT14: =CR$8*$H14 -> 41207.685 | CV14: =$F14*CW$8 -> 0 | CW14: =$G14*CW$8 -> 101421.65 | CX14: =CV14+CW14 -> 101421.65 | CY14: =CW$8*$H14 -> 37379.999 | DA14: =$F14*DB$8 -> 0 | DB14: =$G14*DB$8 -> 10104.221 | DC14: =DA14+DB14 -> 10104.221 | DD14: =DB$8*$H14 -> 3724.0155 | DF14: =$F14*DG$8 -> 0 | DG14: =$G14*DG$8 -> 349805.54 | DH14: =DF14+DG14 -> 349805.54 | DI14: =DG$8*$H14 -> 128924.45 | DK14: =$F14*DL$8 -> 0 | DL14: =$G14*DL$8 -> 723180.06 | DM14: =DK14+DL14 -> 723180.06 | DN14: =DL$8*$H14 -> 266535.5 | DP14: =$F14*DQ$8 -> 0 | DQ14: =$G14*DQ$8 -> 141.86058 | DR14: =DP14+DQ14 -> 141.86058 | DS14: =DQ$8*$H14 -> 52.284188 | DU14: =$F14*DV$8 -> 0 | DV14: =$G14*DV$8 -> 0 | DW14: =DU14+DV14 -> 0 | DX14: =DV$8*$H14 -> 0
A15: 46478 | C15: 0 | D15: 1298700 | E15: 285756 | F15: 4585000 | G15: 2039400 | H15: 751642 | I15: 1295000 | J15: 178500 | K15: 166259 | L15: 0 | M15: 340375 | N15: 345072 | O15: =C15+F15+I15+L15 -> 5880000 | P15: =D15+G15+J15+M15 -> 3856975 | Q15: =O15+P15 -> 9736975 | R15: =E15+H15+K15+N15 -> 1548729 | T15: ='10-Year FR Revised'!H14 -> 1295000 | U15: ='10-Year FR Revised'!I14 -> 178500 | V15: =T15+U15 -> 1473500 | W15: ='10-Year FR Revised'!K14 -> 166259 | Y15: =AD15+AI15 -> 0 | Z15: =AE15+AJ15 -> 1298700 | AA15: =Y15+Z15 -> 1298700 | AB15: =AG15+AL15 -> 285756 | AD15: =C15*$AE$7 -> 0 | AE15: =D15*$AE$7 -> 215340.82 | AF15: =AD15+AE15 -> 215340.82 | AG15: =AE$7*$E15 -> 47381.945 | AI15: =C15*$AJ$7 -> 0 | AJ15: =D15*$AJ$7 -> 1083359.2 | AK15: =AI15+AJ15 -> 1083359.2 | AL15: =AJ$7*$E15 -> 238374.05 | AN15: ='20-Yrs Acad Revised'!H14 -> 447223.66 | AO15: ='20-Yrs Acad Revised'!I14 -> 198924.3 | AP15: =AN15+AO15 -> 646147.97 | AQ15: ='20-Yrs Acad Revised'!K14 -> 73315.614 | AS15: =BW15+AX15+BC15+BM15+BR15+CG15+CL15+CQ15+CV15+DA15+DF15+DK15+DP15+DU15+BH15+CB15 -> 4137776.3 | AT15: =BX15+AY15+BD15+BN15+BS15+CH15+CM15+CR15+CW15+DB15+DG15+DL15+DQ15+DV15+BI15+CC15 -> 1840475.7 | AU15: =AS15+AT15 -> 5978252 | AV15: =BZ15+BA15+BF15+BP15+BU15+CJ15+CO15+CT15+CY15+DD15+DI15+DN15+DS15+DX15+BK15+CE15 -> 678326.39 | AX15: =$F15*AY$8 -> 243814.11 | AY15: =$G15*AY$8 -> 108448.09 | AZ15: =AX15+AY15 -> 352262.2 | BA15: =AY$8*$H15 -> 39969.667 | BC15: =$F15*BD$8 -> 739925.55 | BD15: =$G15*BD$8 -> 329117.59 | BE15: =BC15+BD15 -> 1069043.1 | BF15: =BD$8*$H15 -> 121299.7 | BH15: =$F15*BI$8 -> 93698.073 | BI15: =$G15*BI$8 -> 41676.739 | BJ15: =BH15+BI15 -> 135374.81 | BK15: =BI$8*$H15 -> 15360.394 | BM15: =$F15*BN$8 -> 1025.7231 | BN15: =$G15*BN$8 -> 456.23986 | BO15: =BM15+BN15 -> 1481.963 | BP15: =BN$8*$H15 -> 168.15193 | BR15: =$F15*BS$8 -> 1628.5588 | BS15: =$G15*BS$8 -> 724.38013 | BT15: =BR15+BS15 -> 2352.939 | BU15: =BS$8*$H15 -> 266.9778 | BW15: =$F15*BX$8 -> 96617.671 | BX15: =$G15*BX$8 -> 42975.372 | BY15: =BW15+BX15 -> 139593.04 | BZ15: =BX$8*$H15 -> 15839.018 | CB15: =$F15*CC$8 -> 495.89182 | CC15: =$G15*CC$8 -> 220.57181 | CD15: =CB15+CC15 -> 716.46363 | CE15: =CC$8*$H15 -> 81.294028 | CG15: =$F15*CH$8 -> 21290.347 | CH15: =$G15*CH$8 -> 9469.9091 | CI15: =CG15+CH15 -> 30760.256 | CJ15: =CH$8*$H15 -> 3490.2331 | CL15: =$F15*CM$8 -> 24564.676 | CM15: =$G15*CM$8 -> 10926.325 | CN15: =CL15+CM15 -> 35491.002 | CO15: =CM$8*$H15 -> 4027.0103 | CQ15: =$F15*CR$8 -> 251365.99 | CR15: =$G15*CR$8 -> 111807.15 | CS15: =CQ15+CR15 -> 363173.14 | CT15: =CR$8*$H15 -> 41207.685 | CV15: =$F15*CW$8 -> 228017.19 | CW15: =$G15*CW$8 -> 101421.65 | CX15: =CV15+CW15 -> 329438.84 | CY15: =CW$8*$H15 -> 37379.999 | DA15: =$F15*DB$8 -> 22716.414 | DB15: =$G15*DB$8 -> 10104.221 | DC15: =DA15+DB15 -> 32820.636 | DD15: =DB$8*$H15 -> 3724.0155 | DF15: =$F15*DG$8 -> 786436.39 | DG15: =$G15*DG$8 -> 349805.54 | DH15: =DF15+DG15 -> 1136241.9 | DI15: =DG$8*$H15 -> 128924.45 | DK15: =$F15*DL$8 -> 1625860.8 | DL15: =$G15*DL$8 -> 723180.06 | DM15: =DK15+DL15 -> 2349040.9 | DN15: =DL$8*$H15 -> 266535.5 | DP15: =$F15*DQ$8 -> 318.93242 | DQ15: =$G15*DQ$8 -> 141.86058 | DR15: =DP15+DQ15 -> 460.793 | DS15: =DQ$8*$H15 -> 52.284188 | DU15: =$F15*DV$8 -> 0 | DV15: =$G15*DV$8 -> 0 | DW15: =DU15+DV15 -> 0 | DX15: =DV$8*$H15 -> 0
A16: 46661 | D16: 1298700 | E16: 285756 | G16: 1924775 | H16: 751642 | J16: 146125 | K16: 166259 | M16: 340375 | N16: 345072 | P16: =D16+G16+J16+M16 -> 3709975 | Q16: =O16+P16 -> 3709975 | R16: =E16+H16+K16+N16 -> 1548729 | T16: ='10-Year FR Revised'!H15 -> 0 | U16: ='10-Year FR Revised'!I15 -> 146125 | V16: =T16+U16 -> 146125 | W16: ='10-Year FR Revised'!K15 -> 166259 | Z16: =AE16+AJ16 -> 1298700 | AA16: =Y16+Z16 -> 1298700 | AB16: =AG16+AL16 -> 285756 | AE16: =D16*$AE$7 -> 215340.82 | AF16: =AD16+AE16 -> 215340.82 | AG16: =AE$7*$E16 -> 47381.945 | AJ16: =D16*$AJ$7 -> 1083359.2 | AK16: =AI16+AJ16 -> 1083359.2 | AL16: =AJ$7*$E16 -> 238374.05 | AN16: ='20-Yrs Acad Revised'!H15 -> 0 | AO16: ='20-Yrs Acad Revised'!I15 -> 187743.71 | AP16: =AN16+AO16 -> 187743.71 | AQ16: ='20-Yrs Acad Revised'!K15 -> 73315.614 | AS16: =BW16+AX16+BC16+BM16+BR16+CG16+CL16+CQ16+CV16+DA16+DF16+DK16+DP16+DU16+BH16+CB16 -> 0 | AT16: =BX16+AY16+BD16+BN16+BS16+CH16+CM16+CR16+CW16+DB16+DG16+DL16+DQ16+DV16+BI16+CC16 -> 1737031.3 | AU16: =AS16+AT16 -> 1737031.3 | AV16: =BZ16+BA16+BF16+BP16+BU16+CJ16+CO16+CT16+CY16+DD16+DI16+DN16+DS16+DX16+BK16+CE16 -> 678326.39 | AX16: =$F16*AY$8 -> 0 | AY16: =$G16*AY$8 -> 102352.74 | AZ16: =AX16+AY16 -> 102352.74 | BA16: =AY$8*$H16 -> 39969.667 | BC16: =$F16*BD$8 -> 0 | BD16: =$G16*BD$8 -> 310619.45 | BE16: =BC16+BD16 -> 310619.45 | BF16: =BD$8*$H16 -> 121299.7 | BH16: =$F16*BI$8 -> 0 | BI16: =$G16*BI$8 -> 39334.287 | BJ16: =BH16+BI16 -> 39334.287 | BK16: =BI$8*$H16 -> 15360.394 | BM16: =$F16*BN$8 -> 0 | BN16: =$G16*BN$8 -> 430.59678 | BO16: =BM16+BN16 -> 430.59678 | BP16: =BN$8*$H16 -> 168.15193 | BR16: =$F16*BS$8 -> 0 | BS16: =$G16*BS$8 -> 683.66616 | BT16: =BR16+BS16 -> 683.66616 | BU16: =BS$8*$H16 -> 266.9778 | BW16: =$F16*BX$8 -> 0 | BX16: =$G16*BX$8 -> 40559.93 | BY16: =BW16+BX16 -> 40559.93 | BZ16: =BX$8*$H16 -> 15839.018 | CB16: =$F16*CC$8 -> 0 | CC16: =$G16*CC$8 -> 208.17452 | CD16: =CB16+CC16 -> 208.17452 | CE16: =CC$8*$H16 -> 81.294028 | CG16: =$F16*CH$8 -> 0 | CH16: =$G16*CH$8 -> 8937.6504 | CI16: =CG16+CH16 -> 8937.6504 | CJ16: =CH$8*$H16 -> 3490.2331 | CL16: =$F16*CM$8 -> 0 | CM16: =$G16*CM$8 -> 10312.208 | CN16: =CL16+CM16 -> 10312.208 | CO16: =CM$8*$H16 -> 4027.0103 | CQ16: =$F16*CR$8 -> 0 | CR16: =$G16*CR$8 -> 105523 | CS16: =CQ16+CR16 -> 105523 | CT16: =CR$8*$H16 -> 41207.685 | CV16: =$F16*CW$8 -> 0 | CW16: =$G16*CW$8 -> 95721.218 | CX16: =CV16+CW16 -> 95721.218 | CY16: =CW$8*$H16 -> 37379.999 | DA16: =$F16*DB$8 -> 0 | DB16: =$G16*DB$8 -> 9536.3111 | DC16: =DA16+DB16 -> 9536.3111 | DD16: =DB$8*$H16 -> 3724.0155 | DF16: =$F16*DG$8 -> 0 | DG16: =$G16*DG$8 -> 330144.63 | DH16: =DF16+DG16 -> 330144.63 | DI16: =DG$8*$H16 -> 128924.45 | DK16: =$F16*DL$8 -> 0 | DL16: =$G16*DL$8 -> 682533.54 | DM16: =DK16+DL16 -> 682533.54 | DN16: =DL$8*$H16 -> 266535.5 | DP16: =$F16*DQ$8 -> 0 | DQ16: =$G16*DQ$8 -> 133.88727 | DR16: =DP16+DQ16 -> 133.88727 | DS16: =DQ$8*$H16 -> 52.284188 | DU16: =$F16*DV$8 -> 0 | DV16: =$G16*DV$8 -> 0 | DW16: =DU16+DV16 -> 0 | DX16: =DV$8*$H16 -> 0
A17: 46844 | C17: 0 | D17: 1298700 | E17: 285756 | F17: 4815000 | G17: 1924775 | H17: 751642 | I17: 1355000 | J17: 146125 | K17: 166259 | L17: 0 | M17: 340375 | N17: 345072 | O17: =C17+F17+I17+L17 -> 6170000 | P17: =D17+G17+J17+M17 -> 3709975 | Q17: =O17+P17 -> 9879975 | R17: =E17+H17+K17+N17 -> 1548729 | T17: ='10-Year FR Revised'!H16 -> 1355000 | U17: ='10-Year FR Revised'!I16 -> 146125 | V17: =T17+U17 -> 1501125 | W17: ='10-Year FR Revised'!K16 -> 166259 | Y17: =AD17+AI17 -> 0 | Z17: =AE17+AJ17 -> 1298700 | AA17: =Y17+Z17 -> 1298700 | AB17: =AG17+AL17 -> 285756 | AD17: =C17*$AE$7 -> 0 | AE17: =D17*$AE$7 -> 215340.82 | AF17: =AD17+AE17 -> 215340.82 | AG17: =AE$7*$E17 -> 47381.945 | AI17: =C17*$AJ$7 -> 0 | AJ17: =D17*$AJ$7 -> 1083359.2 | AK17: =AI17+AJ17 -> 1083359.2 | AL17: =AJ$7*$E17 -> 238374.05 | AN17: ='20-Yrs Acad Revised'!H16 -> 469658 | AO17: ='20-Yrs Acad Revised'!I16 -> 187743.71 | AP17: =AN17+AO17 -> 657401.71 | AQ17: ='20-Yrs Acad Revised'!K16 -> 73315.614 | AS17: =BW17+AX17+BC17+BM17+BR17+CG17+CL17+CQ17+CV17+DA17+DF17+DK17+DP17+DU17+BH17+CB17 -> 4345342 | AT17: =BX17+AY17+BD17+BN17+BS17+CH17+CM17+CR17+CW17+DB17+DG17+DL17+DQ17+DV17+BI17+CC17 -> 1737031.3 | AU17: =AS17+AT17 -> 6082373.3 | AV17: =BZ17+BA17+BF17+BP17+BU17+CJ17+CO17+CT17+CY17+DD17+DI17+DN17+DS17+DX17+BK17+CE17 -> 678326.39 | AX17: =$F17*AY$8 -> 256044.7 | AY17: =$G17*AY$8 -> 102352.74 | AZ17: =AX17+AY17 -> 358397.43 | BA17: =AY$8*$H17 -> 39969.667 | BC17: =$F17*BD$8 -> 777042.86 | BD17: =$G17*BD$8 -> 310619.45 | BE17: =BC17+BD17 -> 1087662.3 | BF17: =BD$8*$H17 -> 121299.7 | BH17: =$F17*BI$8 -> 98398.303 | BI17: =$G17*BI$8 -> 39334.287 | BJ17: =BH17+BI17 -> 137732.59 | BK17: =BI$8*$H17 -> 15360.394 | BM17: =$F17*BN$8 -> 1077.1771 | BN17: =$G17*BN$8 -> 430.59678 | BO17: =BM17+BN17 -> 1507.7738 | BP17: =BN$8*$H17 -> 168.15193 | BR17: =$F17*BS$8 -> 1710.2532 | BS17: =$G17*BS$8 -> 683.66616 | BT17: =BR17+BS17 -> 2393.9193 | BU17: =BS$8*$H17 -> 266.9778 | BW17: =$F17*BX$8 -> 101464.36 | BX17: =$G17*BX$8 -> 40559.93 | BY17: =BW17+BX17 -> 142024.29 | BZ17: =BX$8*$H17 -> 15839.018 | CB17: =$F17*CC$8 -> 520.76752 | CC17: =$G17*CC$8 -> 208.17452 | CD17: =CB17+CC17 -> 728.94204 | CE17: =CC$8*$H17 -> 81.294028 | CG17: =$F17*CH$8 -> 22358.347 | CH17: =$G17*CH$8 -> 8937.6504 | CI17: =CG17+CH17 -> 31295.997 | CJ17: =CH$8*$H17 -> 3490.2331 | CL17: =$F17*CM$8 -> 25796.928 | CM17: =$G17*CM$8 -> 10312.208 | CN17: =CL17+CM17 -> 36109.137 | CO17: =CM$8*$H17 -> 4027.0103 | CQ17: =$F17*CR$8 -> 263975.41 | CR17: =$G17*CR$8 -> 105523 | CS17: =CQ17+CR17 -> 369498.41 | CT17: =CR$8*$H17 -> 41207.685 | CV17: =$F17*CW$8 -> 239455.35 | CW17: =$G17*CW$8 -> 95721.218 | CX17: =CV17+CW17 -> 335176.56 | CY17: =CW$8*$H17 -> 37379.999 | DA17: =$F17*DB$8 -> 23855.951 | DB17: =$G17*DB$8 -> 9536.3111 | DC17: =DA17+DB17 -> 33392.262 | DD17: =DB$8*$H17 -> 3724.0155 | DF17: =$F17*DG$8 -> 825886.86 | DG17: =$G17*DG$8 -> 330144.63 | DH17: =DF17+DG17 -> 1156031.5 | DI17: =DG$8*$H17 -> 128924.45 | DK17: =$F17*DL$8 -> 1707419.8 | DL17: =$G17*DL$8 -> 682533.54 | DM17: =DK17+DL17 -> 2389953.4 | DN17: =DL$8*$H17 -> 266535.5 | DP17: =$F17*DQ$8 -> 334.93121 | DQ17: =$G17*DQ$8 -> 133.88727 | DR17: =DP17+DQ17 -> 468.81848 | DS17: =DQ$8*$H17 -> 52.284188 | DU17: =$F17*DV$8 -> 0 | DV17: =$G17*DV$8 -> 0 | DW17: =DU17+DV17 -> 0 | DX17: =DV$8*$H17 -> 0
A18: 47027 | D18: 1298700 | E18: 285756 | G18: 1804400 | H18: 751642 | J18: 112250 | K18: 166259 | M18: 340375 | N18: 345072 | P18: =D18+G18+J18+M18 -> 3555725 | Q18: =O18+P18 -> 3555725 | R18: =E18+H18+K18+N18 -> 1548729 | T18: ='10-Year FR Revised'!H17 -> 0 | U18: ='10-Year FR Revised'!I17 -> 112250 | V18: =T18+U18 -> 112250 | W18: ='10-Year FR Revised'!K17 -> 166259 | Z18: =AE18+AJ18 -> 1298700 | AA18: =Y18+Z18 -> 1298700 | AB18: =AG18+AL18 -> 285756 | AE18: =D18*$AE$7 -> 215340.82 | AF18: =AD18+AE18 -> 215340.82 | AG18: =AE$7*$E18 -> 47381.945 | AJ18: =D18*$AJ$7 -> 1083359.2 | AK18: =AI18+AJ18 -> 1083359.2 | AL18: =AJ$7*$E18 -> 238374.05 | AN18: ='20-Yrs Acad Revised'!H17 -> 0 | AO18: ='20-Yrs Acad Revised'!I17 -> 176002.26 | AP18: =AN18+AO18 -> 176002.26 | AQ18: ='20-Yrs Acad Revised'!K17 -> 73315.614 | AS18: =BW18+AX18+BC18+BM18+BR18+CG18+CL18+CQ18+CV18+DA18+DF18+DK18+DP18+DU18+BH18+CB18 -> 0 | AT18: =BX18+AY18+BD18+BN18+BS18+CH18+CM18+CR18+CW18+DB18+DG18+DL18+DQ18+DV18+BI18+CC18 -> 1628397.7 | AU18: =AS18+AT18 -> 1628397.7 | AV18: =BZ18+BA18+BF18+BP18+BU18+CJ18+CO18+CT18+CY18+DD18+DI18+DN18+DS18+DX18+BK18+CE18 -> 678326.39 | AX18: =$F18*AY$8 -> 0 | AY18: =$G18*AY$8 -> 95951.62 | AZ18: =AX18+AY18 -> 95951.62 | BA18: =AY$8*$H18 -> 39969.667 | BC18: =$F18*BD$8 -> 0 | BD18: =$G18*BD$8 -> 291193.38 | BE18: =BC18+BD18 -> 291193.38 | BF18: =BD$8*$H18 -> 121299.7 | BH18: =$F18*BI$8 -> 0 | BI18: =$G18*BI$8 -> 36874.33 | BJ18: =BH18+BI18 -> 36874.33 | BK18: =BI$8*$H18 -> 15360.394 | BM18: =$F18*BN$8 -> 0 | BN18: =$G18*BN$8 -> 403.66735 | BO18: =BM18+BN18 -> 403.66735 | BP18: =BN$8*$H18 -> 168.15193 | BR18: =$F18*BS$8 -> 0 | BS18: =$G18*BS$8 -> 640.90983 | BT18: =BR18+BS18 -> 640.90983 | BU18: =BS$8*$H18 -> 266.9778 | BW18: =$F18*BX$8 -> 0 | BX18: =$G18*BX$8 -> 38023.321 | BY18: =BW18+BX18 -> 38023.321 | BZ18: =BX$8*$H18 -> 15839.018 | CB18: =$F18*CC$8 -> 0 | CC18: =$G18*CC$8 -> 195.15533 | CD18: =CB18+CC18 -> 195.15533 | CE18: =CC$8*$H18 -> 81.294028 | CG18: =$F18*CH$8 -> 0 | CH18: =$G18*CH$8 -> 8378.6918 | CI18: =CG18+CH18 -> 8378.6918 | CJ18: =CH$8*$H18 -> 3490.2331 | CL18: =$F18*CM$8 -> 0 | CM18: =$G18*CM$8 -> 9667.2851 | CN18: =CL18+CM18 -> 9667.2851 | CO18: =CM$8*$H18 -> 4027.0103 | CQ18: =$F18*CR$8 -> 0 | CR18: =$G18*CR$8 -> 98923.619 | CS18: =CQ18+CR18 -> 98923.619 | CT18: =CR$8*$H18 -> 41207.685 | CV18: =$F18*CW$8 -> 0 | CW18: =$G18*CW$8 -> 89734.834 | CX18: =CV18+CW18 -> 89734.834 | CY18: =CW$8*$H18 -> 37379.999 | DA18: =$F18*DB$8 -> 0 | DB18: =$G18*DB$8 -> 8939.9123 | DC18: =DA18+DB18 -> 8939.9123 | DD18: =DB$8*$H18 -> 3724.0155 | DF18: =$F18*DG$8 -> 0 | DG18: =$G18*DG$8 -> 309497.45 | DH18: =DF18+DG18 -> 309497.45 | DI18: =DG$8*$H18 -> 128924.45 | DK18: =$F18*DL$8 -> 0 | DL18: =$G18*DL$8 -> 639848.04 | DM18: =DK18+DL18 -> 639848.04 | DN18: =DL$8*$H18 -> 266535.5 | DP18: =$F18*DQ$8 -> 0 | DQ18: =$G18*DQ$8 -> 125.51399 | DR18: =DP18+DQ18 -> 125.51399 | DS18: =DQ$8*$H18 -> 52.284188 | DU18: =$F18*DV$8 -> 0 | DV18: =$G18*DV$8 -> 0 | DW18: =DU18+DV18 -> 0 | DX18: =DV$8*$H18 -> 0
A19: 47209 | C19: 0 | D19: 1298700 | E19: 285756 | F19: 5055000 | G19: 1804400 | H19: 751642 | I19: 1425000 | J19: 112250 | K19: 166259 | L19: 6440000 | M19: 340375 | N19: 345072 | O19: =C19+F19+I19+L19 -> 12920000 | P19: =D19+G19+J19+M19 -> 3555725 | Q19: =O19+P19 -> 16475725 | R19: =E19+H19+K19+N19 -> 1548729 | T19: ='10-Year FR Revised'!H18 -> 1425000 | U19: ='10-Year FR Revised'!I18 -> 112250 | V19: =T19+U19 -> 1537250 | W19: ='10-Year FR Revised'!K18 -> 166259 | Y19: =AD19+AI19 -> 0 | Z19: =AE19+AJ19 -> 1298700 | AA19: =Y19+Z19 -> 1298700 | AB19: =AG19+AL19 -> 285756 | AD19: =C19*$AE$7 -> 0 | AE19: =D19*$AE$7 -> 215340.82 | AF19: =AD19+AE19 -> 215340.82 | AG19: =AE$7*$E19 -> 47381.945 | AI19: =C19*$AJ$7 -> 0 | AJ19: =D19*$AJ$7 -> 1083359.2 | AK19: =AI19+AJ19 -> 1083359.2 | AL19: =AJ$7*$E19 -> 238374.05 | AN19: ='20-Yrs Acad Revised'!H18 -> 493067.75 | AO19: ='20-Yrs Acad Revised'!I18 -> 176002.26 | AP19: =AN19+AO19 -> 669070.01 | AQ19: ='20-Yrs Acad Revised'!K18 -> 73315.614 | AS19: =BW19+AX19+BC19+BM19+BR19+CG19+CL19+CQ19+CV19+DA19+DF19+DK19+DP19+DU19+BH19+CB19 -> 4561932.3 | AT19: =BX19+AY19+BD19+BN19+BS19+CH19+CM19+CR19+CW19+DB19+DG19+DL19+DQ19+DV19+BI19+CC19 -> 1628397.7 | AU19: =AS19+AT19 -> 6190330 | AV19: =BZ19+BA19+BF19+BP19+BU19+CJ19+CO19+CT19+CY19+DD19+DI19+DN19+DS19+DX19+BK19+CE19 -> 678326.39 | AX19: =$F19*AY$8 -> 268807.05 | AY19: =$G19*AY$8 -> 95951.62 | AZ19: =AX19+AY19 -> 364758.67 | BA19: =AY$8*$H19 -> 39969.667 | BC19: =$F19*BD$8 -> 815773.97 | BD19: =$G19*BD$8 -> 291193.38 | BE19: =BC19+BD19 -> 1106967.3 | BF19: =BD$8*$H19 -> 121299.7 | BH19: =$F19*BI$8 -> 103302.89 | BI19: =$G19*BI$8 -> 36874.33 | BJ19: =BH19+BI19 -> 140177.22 | BK19: =BI$8*$H19 -> 15360.394 | BM19: =$F19*BN$8 -> 1130.8681 | BN19: =$G19*BN$8 -> 403.66735 | BO19: =BM19+BN19 -> 1534.5355 | BP19: =BN$8*$H19 -> 168.15193 | BR19: =$F19*BS$8 -> 1795.4994 | BS19: =$G19*BS$8 -> 640.90983 | BT19: =BR19+BS19 -> 2436.4093 | BU19: =BS$8*$H19 -> 266.9778 | BW19: =$F19*BX$8 -> 106521.77 | BX19: =$G19*BX$8 -> 38023.321 | BY19: =BW19+BX19 -> 144545.09 | BZ19: =BX$8*$H19 -> 15839.018 | CB19: =$F19*CC$8 -> 546.72478 | CC19: =$G19*CC$8 -> 195.15533 | CD19: =CB19+CC19 -> 741.88012 | CE19: =CC$8*$H19 -> 81.294028 | CG19: =$F19*CH$8 -> 23472.781 | CH19: =$G19*CH$8 -> 8378.6918 | CI19: =CG19+CH19 -> 31851.473 | CJ19: =CH$8*$H19 -> 3490.2331 | CL19: =$F19*CM$8 -> 27082.757 | CM19: =$G19*CM$8 -> 9667.2851 | CN19: =CL19+CM19 -> 36750.042 | CO19: =CM$8*$H19 -> 4027.0103 | CQ19: =$F19*CR$8 -> 277133.06 | CR19: =$G19*CR$8 -> 98923.619 | CS19: =CQ19+CR19 -> 376056.68 | CT19: =CR$8*$H19 -> 41207.685 | CV19: =$F19*CW$8 -> 251390.82 | CW19: =$G19*CW$8 -> 89734.834 | CX19: =CV19+CW19 -> 341125.65 | CY19: =CW$8*$H19 -> 37379.999 | DA19: =$F19*DB$8 -> 25045.033 | DB19: =$G19*DB$8 -> 8939.9123 | DC19: =DA19+DB19 -> 33984.945 | DD19: =DB$8*$H19 -> 3724.0155 | DF19: =$F19*DG$8 -> 867052.56 | DG19: =$G19*DG$8 -> 309497.45 | DH19: =DF19+DG19 -> 1176550 | DI19: =DG$8*$H19 -> 128924.45 | DK19: =$F19*DL$8 -> 1792524.9 | DL19: =$G19*DL$8 -> 639848.04 | DM19: =DK19+DL19 -> 2432372.9 | DN19: =DL$8*$H19 -> 266535.5 | DP19: =$F19*DQ$8 -> 351.6256 | DQ19: =$G19*DQ$8 -> 125.51399 | DR19: =DP19+DQ19 -> 477.13959 | DS19: =DQ$8*$H19 -> 52.284188 | DU19: =$F19*DV$8 -> 0 | DV19: =$G19*DV$8 -> 0 | DW19: =DU19+DV19 -> 0 | DX19: =DV$8*$H19 -> 0
A20: 47392 | D20: 1298700 | E20: 285756 | G20: 1678025 | H20: 751642 | J20: 76625 | K20: 166259 | M20: 179375 | N20: 345072 | P20: =D20+G20+J20+M20 -> 3232725 | Q20: =O20+P20 -> 3232725 | R20: =E20+H20+K20+N20 -> 1548729 | T20: ='10-Year FR Revised'!H19 -> 0 | U20: ='10-Year FR Revised'!I19 -> 76625 | V20: =T20+U20 -> 76625 | W20: ='10-Year FR Revised'!K19 -> 166259 | Z20: =AE20+AJ20 -> 1298700 | AA20: =Y20+Z20 -> 1298700 | AB20: =AG20+AL20 -> 285756 | AE20: =D20*$AE$7 -> 215340.82 | AF20: =AD20+AE20 -> 215340.82 | AG20: =AE$7*$E20 -> 47381.945 | AJ20: =D20*$AJ$7 -> 1083359.2 | AK20: =AI20+AJ20 -> 1083359.2 | AL20: =AJ$7*$E20 -> 238374.05 | AN20: ='20-Yrs Acad Revised'!H19 -> 0 | AO20: ='20-Yrs Acad Revised'!I19 -> 163675.57 | AP20: =AN20+AO20 -> 163675.57 | AQ20: ='20-Yrs Acad Revised'!K19 -> 73315.614 | AS20: =BW20+AX20+BC20+BM20+BR20+CG20+CL20+CQ20+CV20+DA20+DF20+DK20+DP20+DU20+BH20+CB20 -> 0 | AT20: =BX20+AY20+BD20+BN20+BS20+CH20+CM20+CR20+CW20+DB20+DG20+DL20+DQ20+DV20+BI20+CC20 -> 1514349.4 | AU20: =AS20+AT20 -> 1514349.4 | AV20: =BZ20+BA20+BF20+BP20+BU20+CJ20+CO20+CT20+CY20+DD20+DI20+DN20+DS20+DX20+BK20+CE20 -> 678326.39 | AX20: =$F20*AY$8 -> 0 | AY20: =$G20*AY$8 -> 89231.443 | AZ20: =AX20+AY20 -> 89231.443 | BA20: =AY$8*$H20 -> 39969.667 | BC20: =$F20*BD$8 -> 0 | BD20: =$G20*BD$8 -> 270799.03 | BE20: =BC20+BD20 -> 270799.03 | BF20: =BD$8*$H20 -> 121299.7 | BH20: =$F20*BI$8 -> 0 | BI20: =$G20*BI$8 -> 34291.758 | BJ20: =BH20+BI20 -> 34291.758 | BK20: =BI$8*$H20 -> 15360.394 | BM20: =$F20*BN$8 -> 0 | BN20: =$G20*BN$8 -> 375.39565 | BO20: =BM20+BN20 -> 375.39565 | BP20: =BN$8*$H20 -> 168.15193 | BR20: =$F20*BS$8 -> 0 | BS20: =$G20*BS$8 -> 596.02235 | BT20: =BR20+BS20 -> 596.02235 | BU20: =BS$8*$H20 -> 266.9778 | BW20: =$F20*BX$8 -> 0 | BX20: =$G20*BX$8 -> 35360.276 | BY20: =BW20+BX20 -> 35360.276 | BZ20: =BX$8*$H20 -> 15839.018 | CB20: =$F20*CC$8 -> 0 | CC20: =$G20*CC$8 -> 181.48721 | CD20: =CB20+CC20 -> 181.48721 | CE20: =CC$8*$H20 -> 81.294028 | CG20: =$F20*CH$8 -> 0 | CH20: =$G20*CH$8 -> 7791.8722 | CI20: =CG20+CH20 -> 7791.8722 | CJ20: =CH$8*$H20 -> 3490.2331 | CL20: =$F20*CM$8 -> 0 | CM20: =$G20*CM$8 -> 8990.2161 | CN20: =CL20+CM20 -> 8990.2161 | CO20: =CM$8*$H20 -> 4027.0103 | CQ20: =$F20*CR$8 -> 0 | CR20: =$G20*CR$8 -> 91995.292 | CS20: =CQ20+CR20 -> 91995.292 | CT20: =CR$8*$H20 -> 41207.685 | CV20: =$F20*CW$8 -> 0 | CW20: =$G20*CW$8 -> 83450.064 | CX20: =CV20+CW20 -> 83450.064 | CY20: =CW$8*$H20 -> 37379.999 | DA20: =$F20*DB$8 -> 0 | DB20: =$G20*DB$8 -> 8313.7865 | DC20: =DA20+DB20 -> 8313.7865 | DD20: =DB$8*$H20 -> 3724.0155 | DF20: =$F20*DG$8 -> 0 | DG20: =$G20*DG$8 -> 287821.14 | DH20: =DF20+DG20 -> 287821.14 | DI20: =DG$8*$H20 -> 128924.45 | DK20: =$F20*DL$8 -> 0 | DL20: =$G20*DL$8 -> 595034.92 | DM20: =DK20+DL20 -> 595034.92 | DN20: =DL$8*$H20 -> 266535.5 | DP20: =$F20*DQ$8 -> 0 | DQ20: =$G20*DQ$8 -> 116.72335 | DR20: =DP20+DQ20 -> 116.72335 | DS20: =DQ$8*$H20 -> 52.284188 | DU20: =$F20*DV$8 -> 0 | DV20: =$G20*DV$8 -> 0 | DW20: =DU20+DV20 -> 0 | DX20: =DV$8*$H20 -> 0
A21: 11049 | C21: 0 | D21: 1298700 | E21: 285756 | F21: 5310000 | G21: 1678025 | H21: 751642 | I21: 1495000 | J21: 76625 | K21: 166259 | L21: 0 | M21: 179375 | N21: 345072 | O21: =C21+F21+I21+L21 -> 6805000 | P21: =D21+G21+J21+M21 -> 3232725 | Q21: =O21+P21 -> 10037725 | R21: =E21+H21+K21+N21 -> 1548729 | T21: ='10-Year FR Revised'!H20 -> 1495000 | U21: ='10-Year FR Revised'!I20 -> 76625 | V21: =T21+U21 -> 1571625 | W21: ='10-Year FR Revised'!K20 -> 166259 | Y21: =AD21+AI21 -> 0 | Z21: =AE21+AJ21 -> 1298700 | AA21: =Y21+Z21 -> 1298700 | AB21: =AG21+AL21 -> 285756 | AD21: =C21*$AE$7 -> 0 | AE21: =D21*$AE$7 -> 215340.82 | AF21: =AD21+AE21 -> 215340.82 | AG21: =AE$7*$E21 -> 47381.945 | AI21: =C21*$AJ$7 -> 0 | AJ21: =D21*$AJ$7 -> 1083359.2 | AK21: =AI21+AJ21 -> 1083359.2 | AL21: =AJ$7*$E21 -> 238374.05 | AN21: ='20-Yrs Acad Revised'!H20 -> 517940.6 | AO21: ='20-Yrs Acad Revised'!I20 -> 163675.57 | AP21: =AN21+AO21 -> 681616.17 | AQ21: ='20-Yrs Acad Revised'!K20 -> 73315.614 | AS21: =BW21+AX21+BC21+BM21+BR21+CG21+CL21+CQ21+CV21+DA21+DF21+DK21+DP21+DU21+BH21+CB21 -> 4792059.4 | AT21: =BX21+AY21+BD21+BN21+BS21+CH21+CM21+CR21+CW21+DB21+DG21+DL21+DQ21+DV21+BI21+CC21 -> 1514349.4 | AU21: =AS21+AT21 -> 6306408.8 | AV21: =BZ21+BA21+BF21+BP21+BU21+CJ21+CO21+CT21+CY21+DD21+DI21+DN21+DS21+DX21+BK21+CE21 -> 678326.39 | AX21: =$F21*AY$8 -> 282367.05 | AY21: =$G21*AY$8 -> 89231.443 | AZ21: =AX21+AY21 -> 371598.49 | BA21: =AY$8*$H21 -> 39969.667 | BC21: =$F21*BD$8 -> 856925.77 | BD21: =$G21*BD$8 -> 270799.03 | BE21: =BC21+BD21 -> 1127724.8 | BF21: =BD$8*$H21 -> 121299.7 | BH21: =$F21*BI$8 -> 108514.02 | BI21: =$G21*BI$8 -> 34291.758 | BJ21: =BH21+BI21 -> 142805.77 | BK21: =BI$8*$H21 -> 15360.394 | BM21: =$F21*BN$8 -> 1187.9149 | BN21: =$G21*BN$8 -> 375.39565 | BO21: =BM21+BN21 -> 1563.3105 | BP21: =BN$8*$H21 -> 168.15193 | BR21: =$F21*BS$8 -> 1886.0736 | BS21: =$G21*BS$8 -> 596.02235 | BT21: =BR21+BS21 -> 2482.0959 | BU21: =BS$8*$H21 -> 266.9778 | BW21: =$F21*BX$8 -> 111895.27 | BX21: =$G21*BX$8 -> 35360.276 | BY21: =BW21+BX21 -> 147255.55 | BZ21: =BX$8*$H21 -> 15839.018 | CB21: =$F21*CC$8 -> 574.30437 | CC21: =$G21*CC$8 -> 181.48721 | CD21: =CB21+CC21 -> 755.79158 | CE21: =CC$8*$H21 -> 81.294028 | CG21: =$F21*CH$8 -> 24656.868 | CH21: =$G21*CH$8 -> 7791.8722 | CI21: =CG21+CH21 -> 32448.741 | CJ21: =CH$8*$H21 -> 3490.2331 | CL21: =$F21*CM$8 -> 28448.949 | CM21: =$G21*CM$8 -> 8990.2161 | CN21: =CL21+CM21 -> 37439.165 | CO21: =CM$8*$H21 -> 4027.0103 | CQ21: =$F21*CR$8 -> 291113.07 | CR21: =$G21*CR$8 -> 91995.292 | CS21: =CQ21+CR21 -> 383108.36 | CT21: =CR$8*$H21 -> 41207.685 | CV21: =$F21*CW$8 -> 264072.25 | CW21: =$G21*CW$8 -> 83450.064 | CX21: =CV21+CW21 -> 347522.31 | CY21: =CW$8*$H21 -> 37379.999 | DA21: =$F21*DB$8 -> 26308.432 | DB21: =$G21*DB$8 -> 8313.7865 | DC21: =DA21+DB21 -> 34622.218 | DD21: =DB$8*$H21 -> 3724.0155 | DF21: =$F21*DG$8 -> 910791.11 | DG21: =$G21*DG$8 -> 287821.14 | DH21: =DF21+DG21 -> 1198612.3 | DI21: =DG$8*$H21 -> 128924.45 | DK21: =$F21*DL$8 -> 1882949 | DL21: =$G21*DL$8 -> 595034.92 | DM21: =DK21+DL21 -> 2477983.9 | DN21: =DL$8*$H21 -> 266535.5 | DP21: =$F21*DQ$8 -> 369.36339 | DQ21: =$G21*DQ$8 -> 116.72335 | DR21: =DP21+DQ21 -> 486.08674 | DS21: =DQ$8*$H21 -> 52.284188 | DU21: =$F21*DV$8 -> 0 | DV21: =$G21*DV$8 -> 0 | DW21: =DU21+DV21 -> 0 | DX21: =DV$8*$H21 -> 0
A22: 11232 | D22: 1298700 | E22: 285756 | G22: 1545275 | H22: 751642 | J22: 39250 | K22: 166259 | M22: 179375 | N22: 345072 | P22: =D22+G22+J22+M22 -> 3062600 | Q22: =O22+P22 -> 3062600 | R22: =E22+H22+K22+N22 -> 1548729 | T22: ='10-Year FR Revised'!H21 -> 0 | U22: ='10-Year FR Revised'!I21 -> 39250 | V22: =T22+U22 -> 39250 | W22: ='10-Year FR Revised'!K21 -> 166259 | Z22: =AE22+AJ22 -> 1298700 | AA22: =Y22+Z22 -> 1298700 | AB22: =AG22+AL22 -> 285756 | AE22: =D22*$AE$7 -> 215340.82 | AF22: =AD22+AE22 -> 215340.82 | AG22: =AE$7*$E22 -> 47381.945 | AJ22: =D22*$AJ$7 -> 1083359.2 | AK22: =AI22+AJ22 -> 1083359.2 | AL22: =AJ$7*$E22 -> 238374.05 | AN22: ='20-Yrs Acad Revised'!H21 -> 0 | AO22: ='20-Yrs Acad Revised'!I21 -> 150727.05 | AP22: =AN22+AO22 -> 150727.05 | AQ22: ='20-Yrs Acad Revised'!K21 -> 73315.614 | AS22: =BW22+AX22+BC22+BM22+BR22+CG22+CL22+CQ22+CV22+DA22+DF22+DK22+DP22+DU22+BH22+CB22 -> 0 | AT22: =BX22+AY22+BD22+BN22+BS22+CH22+CM22+CR22+CW22+DB22+DG22+DL22+DQ22+DV22+BI22+CC22 -> 1394547.9 | AU22: =AS22+AT22 -> 1394547.9 | AV22: =BZ22+BA22+BF22+BP22+BU22+CJ22+CO22+CT22+CY22+DD22+DI22+DN22+DS22+DX22+BK22+CE22 -> 678326.39 | AX22: =$F22*AY$8 -> 0 | AY22: =$G22*AY$8 -> 82172.267 | AZ22: =AX22+AY22 -> 82172.267 | BA22: =AY$8*$H22 -> 39969.667 | BC22: =$F22*BD$8 -> 0 | BD22: =$G22*BD$8 -> 249375.89 | BE22: =BC22+BD22 -> 249375.89 | BF22: =BD$8*$H22 -> 121299.7 | BH22: =$F22*BI$8 -> 0 | BI22: =$G22*BI$8 -> 31578.907 | BJ22: =BH22+BI22 -> 31578.907 | BK22: =BI$8*$H22 -> 15360.394 | BM22: =$F22*BN$8 -> 0 | BN22: =$G22*BN$8 -> 345.69778 | BO22: =BM22+BN22 -> 345.69778 | BP22: =BN$8*$H22 -> 168.15193 | BR22: =$F22*BS$8 -> 0 | BS22: =$G22*BS$8 -> 548.87051 | BT22: =BR22+BS22 -> 548.87051 | BU22: =BS$8*$H22 -> 266.9778 | BW22: =$F22*BX$8 -> 0 | BX22: =$G22*BX$8 -> 32562.895 | BY22: =BW22+BX22 -> 32562.895 | BZ22: =BX$8*$H22 -> 15839.018 | CB22: =$F22*CC$8 -> 0 | CC22: =$G22*CC$8 -> 167.1296 | CD22: =CB22+CC22 -> 167.1296 | CE22: =CC$8*$H22 -> 81.294028 | CG22: =$F22*CH$8 -> 0 | CH22: =$G22*CH$8 -> 7175.4505 | CI22: =CG22+CH22 -> 7175.4505 | CJ22: =CH$8*$H22 -> 3490.2331 | CL22: =$F22*CM$8 -> 0 | CM22: =$G22*CM$8 -> 8278.9924 | CN22: =CL22+CM22 -> 8278.9924 | CO22: =CM$8*$H22 -> 4027.0103 | CQ22: =$F22*CR$8 -> 0 | CR22: =$G22*CR$8 -> 84717.466 | CS22: =CQ22+CR22 -> 84717.466 | CT22: =CR$8*$H22 -> 41207.685 | CV22: =$F22*CW$8 -> 0 | CW22: =$G22*CW$8 -> 76848.258 | CX22: =CV22+CW22 -> 76848.258 | CY22: =CW$8*$H22 -> 37379.999 | DA22: =$F22*DB$8 -> 0 | DB22: =$G22*DB$8 -> 7656.0757 | DC22: =DA22+DB22 -> 7656.0757 | DD22: =DB$8*$H22 -> 3724.0155 | DF22: =$F22*DG$8 -> 0 | DG22: =$G22*DG$8 -> 265051.36 | DH22: =DF22+DG22 -> 265051.36 | DI22: =DG$8*$H22 -> 128924.45 | DK22: =$F22*DL$8 -> 0 | DL22: =$G22*DL$8 -> 547961.2 | DM22: =DK22+DL22 -> 547961.2 | DN22: =DL$8*$H22 -> 266535.5 | DP22: =$F22*DQ$8 -> 0 | DQ22: =$G22*DQ$8 -> 107.48927 | DR22: =DP22+DQ22 -> 107.48927 | DS22: =DQ$8*$H22 -> 52.284188 | DU22: =$F22*DV$8 -> 0 | DV22: =$G22*DV$8 -> 0 | DW22: =DU22+DV22 -> 0 | DX22: =DV$8*$H22 -> 0
A23: 11414 | C23: 0 | D23: 1298700 | E23: 285756 | F23: 5575000 | G23: 1545275 | H23: 751642 | I23: 1570000 | J23: 39250 | K23: 166259 | L23: 7175000 | M23: 179375 | N23: 345072 | O23: =C23+F23+I23+L23 -> 14320000 | P23: =D23+G23+J23+M23 -> 3062600 | Q23: =O23+P23 -> 17382600 | R23: =E23+H23+K23+N23 -> 1548729 | T23: ='10-Year FR Revised'!H22 -> 1570000 | U23: ='10-Year FR Revised'!I22 -> 39250 | V23: =T23+U23 -> 1609250 | W23: ='10-Year FR Revised'!K22 -> 166259 | Y23: =AD23+AI23 -> 0 | Z23: =AE23+AJ23 -> 1298700 | AA23: =Y23+Z23 -> 1298700 | AB23: =AG23+AL23 -> 285756 | AD23: =C23*$AE$7 -> 0 | AE23: =D23*$AE$7 -> 215340.82 | AF23: =AD23+AE23 -> 215340.82 | AG23: =AE$7*$E23 -> 47381.945 | AI23: =C23*$AJ$7 -> 0 | AJ23: =D23*$AJ$7 -> 1083359.2 | AK23: =AI23+AJ23 -> 1083359.2 | AL23: =AJ$7*$E23 -> 238374.05 | AN23: ='20-Yrs Acad Revised'!H22 -> 543788.86 | AO23: ='20-Yrs Acad Revised'!I22 -> 150727.05 | AP23: =AN23+AO23 -> 694515.91 | AQ23: ='20-Yrs Acad Revised'!K22 -> 73315.614 | AS23: =BW23+AX23+BC23+BM23+BR23+CG23+CL23+CQ23+CV23+DA23+DF23+DK23+DP23+DU23+BH23+CB23 -> 5031211.1 | AT23: =BX23+AY23+BD23+BN23+BS23+CH23+CM23+CR23+CW23+DB23+DG23+DL23+DQ23+DV23+BI23+CC23 -> 1394547.9 | AU23: =AS23+AT23 -> 6425759.1 | AV23: =BZ23+BA23+BF23+BP23+BU23+CJ23+CO23+CT23+CY23+DD23+DI23+DN23+DS23+DX23+BK23+CE23 -> 678326.39 | AX23: =$F23*AY$8 -> 296458.81 | AY23: =$G23*AY$8 -> 82172.267 | AZ23: =AX23+AY23 -> 378631.08 | BA23: =AY$8*$H23 -> 39969.667 | BC23: =$F23*BD$8 -> 899691.37 | BD23: =$G23*BD$8 -> 249375.89 | BE23: =BC23+BD23 -> 1149067.3 | BF23: =BD$8*$H23 -> 121299.7 | BH23: =$F23*BI$8 -> 113929.5 | BI23: =$G23*BI$8 -> 31578.907 | BJ23: =BH23+BI23 -> 145508.41 | BK23: =BI$8*$H23 -> 15360.394 | BM23: =$F23*BN$8 -> 1247.1988 | BN23: =$G23*BN$8 -> 345.69778 | BO23: =BM23+BN23 -> 1592.8966 | BP23: =BN$8*$H23 -> 168.15193 | BR23: =$F23*BS$8 -> 1980.1997 | BS23: =$G23*BS$8 -> 548.87051 | BT23: =BR23+BS23 -> 2529.0702 | BU23: =BS$8*$H23 -> 266.9778 | BW23: =$F23*BX$8 -> 117479.5 | BX23: =$G23*BX$8 -> 32562.895 | BY23: =BW23+BX23 -> 150042.4 | BZ23: =BX$8*$H23 -> 15839.018 | CB23: =$F23*CC$8 -> 602.96551 | CC23: =$G23*CC$8 -> 167.1296 | CD23: =CB23+CC23 -> 770.09512 | CE23: =CC$8*$H23 -> 81.294028 | CG23: =$F23*CH$8 -> 25887.39 | CH23: =$G23*CH$8 -> 7175.4505 | CI23: =CG23+CH23 -> 33062.841 | CJ23: =CH$8*$H23 -> 3490.2331 | CL23: =$F23*CM$8 -> 29868.718 | CM23: =$G23*CM$8 -> 8278.9924 | CN23: =CL23+CM23 -> 38147.71 | CO23: =CM$8*$H23 -> 4027.0103 | CQ23: =$F23*CR$8 -> 305641.31 | CR23: =$G23*CR$8 -> 84717.466 | CS23: =CQ23+CR23 -> 390358.77 | CT23: =CR$8*$H23 -> 41207.685 | CV23: =$F23*CW$8 -> 277251 | CW23: =$G23*CW$8 -> 76848.258 | CX23: =CV23+CW23 -> 354099.26 | CY23: =CW$8*$H23 -> 37379.999 | DA23: =$F23*DB$8 -> 27621.376 | DB23: =$G23*DB$8 -> 7656.0757 | DC23: =DA23+DB23 -> 35277.452 | DD23: =DB$8*$H23 -> 3724.0155 | DF23: =$F23*DG$8 -> 956244.91 | DG23: =$G23*DG$8 -> 265051.36 | DH23: =DF23+DG23 -> 1221296.3 | DI23: =DG$8*$H23 -> 128924.45 | DK23: =$F23*DL$8 -> 1976919.1 | DL23: =$G23*DL$8 -> 547961.2 | DM23: =DK23+DL23 -> 2524880.3 | DN23: =DL$8*$H23 -> 266535.5 | DP23: =$F23*DQ$8 -> 387.79678 | DQ23: =$G23*DQ$8 -> 107.48927 | DR23: =DP23+DQ23 -> 495.28605 | DS23: =DQ$8*$H23 -> 52.284188 | DU23: =$F23*DV$8 -> 0 | DV23: =$G23*DV$8 -> 0 | DW23: =DU23+DV23 -> 0 | DX23: =DV$8*$H23 -> 0
A24: 11597 | D24: 1298700 | E24: 285756 | G24: 1405900 | H24: 751642 | P24: =D24+G24+J24+M24 -> 2704600 | Q24: =O24+P24 -> 2704600 | R24: =E24+H24+K24+N24 -> 1037398 | Z24: =AE24+AJ24 -> 1298700 | AA24: =Y24+Z24 -> 1298700 | AB24: =AG24+AL24 -> 285756 | AE24: =D24*$AE$7 -> 215340.82 | AF24: =AD24+AE24 -> 215340.82 | AG24: =AE$7*$E24 -> 47381.945 | AJ24: =D24*$AJ$7 -> 1083359.2 | AK24: =AI24+AJ24 -> 1083359.2 | AL24: =AJ$7*$E24 -> 238374.05 | AN24: ='20-Yrs Acad Revised'!H23 -> 0 | AO24: ='20-Yrs Acad Revised'!I23 -> 137132.33 | AP24: =AN24+AO24 -> 137132.33 | AQ24: ='20-Yrs Acad Revised'!K23 -> 73315.614 | AS24: =BW24+AX24+BC24+BM24+BR24+CG24+CL24+CQ24+CV24+DA24+DF24+DK24+DP24+DU24+BH24+CB24 -> 0 | AT24: =BX24+AY24+BD24+BN24+BS24+CH24+CM24+CR24+CW24+DB24+DG24+DL24+DQ24+DV24+BI24+CC24 -> 1268767.7 | AU24: =AS24+AT24 -> 1268767.7 | AV24: =BZ24+BA24+BF24+BP24+BU24+CJ24+CO24+CT24+CY24+DD24+DI24+DN24+DS24+DX24+BK24+CE24 -> 678326.39 | AX24: =$F24*AY$8 -> 0 | AY24: =$G24*AY$8 -> 74760.797 | AZ24: =AX24+AY24 -> 74760.797 | BA24: =AY$8*$H24 -> 39969.667 | BC24: =$F24*BD$8 -> 0 | BD24: =$G24*BD$8 -> 226883.6 | BE24: =BC24+BD24 -> 226883.6 | BF24: =BD$8*$H24 -> 121299.7 | BH24: =$F24*BI$8 -> 0 | BI24: =$G24*BI$8 -> 28730.67 | BJ24: =BH24+BI24 -> 28730.67 | BK24: =BI$8*$H24 -> 15360.394 | BM24: =$F24*BN$8 -> 0 | BN24: =$G24*BN$8 -> 314.51781 | BO24: =BM24+BN24 -> 314.51781 | BP24: =BN$8*$H24 -> 168.15193 | BR24: =$F24*BS$8 -> 0 | BS24: =$G24*BS$8 -> 499.36551 | BT24: =BR24+BS24 -> 499.36551 | BU24: =BS$8*$H24 -> 266.9778 | BW24: =$F24*BX$8 -> 0 | BX24: =$G24*BX$8 -> 29625.907 | BY24: =BW24+BX24 -> 29625.907 | BZ24: =BX$8*$H24 -> 15839.018 | CB24: =$F24*CC$8 -> 0 | CC24: =$G24*CC$8 -> 152.05546 | CD24: =CB24+CC24 -> 152.05546 | CE24: =CC$8*$H24 -> 81.294028 | CG24: =$F24*CH$8 -> 0 | CH24: =$G24*CH$8 -> 6528.2658 | CI24: =CG24+CH24 -> 6528.2658 | CJ24: =CH$8*$H24 -> 3490.2331 | CL24: =$F24*CM$8 -> 0 | CM24: =$G24*CM$8 -> 7532.2745 | CN24: =CL24+CM24 -> 7532.2745 | CO24: =CM$8*$H24 -> 4027.0103 | CQ24: =$F24*CR$8 -> 0 | CR24: =$G24*CR$8 -> 77076.433 | CS24: =CQ24+CR24 -> 77076.433 | CT24: =CR$8*$H24 -> 41207.685 | CV24: =$F24*CW$8 -> 0 | CW24: =$G24*CW$8 -> 69916.983 | CX24: =CV24+CW24 -> 69916.983 | CY24: =CW$8*$H24 -> 37379.999 | DA24: =$F24*DB$8 -> 0 | DB24: =$G24*DB$8 -> 6965.5413 | DC24: =DA24+DB24 -> 6965.5413 | DD24: =DB$8*$H24 -> 3724.0155 | DF24: =$F24*DG$8 -> 0 | DG24: =$G24*DG$8 -> 241145.24 | DH24: =DF24+DG24 -> 241145.24 | DI24: =DG$8*$H24 -> 128924.45 | DK24: =$F24*DL$8 -> 0 | DL24: =$G24*DL$8 -> 498538.22 | DM24: =DK24+DL24 -> 498538.22 | DN24: =DL$8*$H24 -> 266535.5 | DP24: =$F24*DQ$8 -> 0 | DQ24: =$G24*DQ$8 -> 97.794348 | DR24: =DP24+DQ24 -> 97.794348 | DS24: =DQ$8*$H24 -> 52.284188 | DU24: =$F24*DV$8 -> 0 | DV24: =$G24*DV$8 -> 0 | DW24: =DU24+DV24 -> 0 | DX24: =DV$8*$H24 -> 0
A25: 11780 | C25: 0 | D25: 1298700 | E25: 285756 | F25: 5855000 | G25: 1405900 | H25: 751642 | O25: =C25+F25+I25+L25 -> 5855000 | P25: =D25+G25+J25+M25 -> 2704600 | Q25: =O25+P25 -> 8559600 | R25: =E25+H25+K25+N25 -> 1037398 | Y25: =AD25+AI25 -> 0 | Z25: =AE25+AJ25 -> 1298700 | AA25: =Y25+Z25 -> 1298700 | AB25: =AG25+AL25 -> 285756 | AD25: =C25*$AE$7 -> 0 | AE25: =D25*$AE$7 -> 215340.82 | AF25: =AD25+AE25 -> 215340.82 | AG25: =AE$7*$E25 -> 47381.945 | AI25: =C25*$AJ$7 -> 0 | AJ25: =D25*$AJ$7 -> 1083359.2 | AK25: =AI25+AJ25 -> 1083359.2 | AL25: =AJ$7*$E25 -> 238374.05 | AN25: ='20-Yrs Acad Revised'!H24 -> 571100.23 | AO25: ='20-Yrs Acad Revised'!I24 -> 137132.33 | AP25: =AN25+AO25 -> 708232.56 | AQ25: ='20-Yrs Acad Revised'!K24 -> 73315.614 | AS25: =BW25+AX25+BC25+BM25+BR25+CG25+CL25+CQ25+CV25+DA25+DF25+DK25+DP25+DU25+BH25+CB25 -> 5283899.8 | AT25: =BX25+AY25+BD25+BN25+BS25+CH25+CM25+CR25+CW25+DB25+DG25+DL25+DQ25+DV25+BI25+CC25 -> 1268767.7 | AU25: =AS25+AT25 -> 6552667.4 | AV25: =BZ25+BA25+BF25+BP25+BU25+CJ25+CO25+CT25+CY25+DD25+DI25+DN25+DS25+DX25+BK25+CE25 -> 678326.39 | AX25: =$F25*AY$8 -> 311348.22 | AY25: =$G25*AY$8 -> 74760.797 | AZ25: =AX25+AY25 -> 386109.02 | BA25: =AY$8*$H25 -> 39969.667 | BC25: =$F25*BD$8 -> 944877.66 | BD25: =$G25*BD$8 -> 226883.6 | BE25: =BC25+BD25 -> 1171761.3 | BF25: =BD$8*$H25 -> 121299.7 | BH25: =$F25*BI$8 -> 119651.52 | BI25: =$G25*BI$8 -> 28730.67 | BJ25: =BH25+BI25 -> 148382.19 | BK25: =BI$8*$H25 -> 15360.394 | BM25: =$F25*BN$8 -> 1309.8384 | BN25: =$G25*BN$8 -> 314.51781 | BO25: =BM25+BN25 -> 1624.3562 | BP25: =BN$8*$H25 -> 168.15193 | BR25: =$F25*BS$8 -> 2079.6537 | BS25: =$G25*BS$8 -> 499.36551 | BT25: =BR25+BS25 -> 2579.0192 | BU25: =BS$8*$H25 -> 266.9778 | BW25: =$F25*BX$8 -> 123379.82 | BX25: =$G25*BX$8 -> 29625.907 | BY25: =BW25+BX25 -> 153005.72 | BZ25: =BX$8*$H25 -> 15839.018 | CB25: =$F25*CC$8 -> 633.24898 | CC25: =$G25*CC$8 -> 152.05546 | CD25: =CB25+CC25 -> 785.30445 | CE25: =CC$8*$H25 -> 81.294028 | CG25: =$F25*CH$8 -> 27187.564 | CH25: =$G25*CH$8 -> 6528.2658 | CI25: =CG25+CH25 -> 33715.83 | CJ25: =CH$8*$H25 -> 3490.2331 | CL25: =$F25*CM$8 -> 31368.851 | CM25: =$G25*CM$8 -> 7532.2745 | CN25: =CL25+CM25 -> 38901.125 | CO25: =CM$8*$H25 -> 4027.0103 | CQ25: =$F25*CR$8 -> 320991.9 | CR25: =$G25*CR$8 -> 77076.433 | CS25: =CQ25+CR25 -> 398068.33 | CT25: =CR$8*$H25 -> 41207.685 | CV25: =$F25*CW$8 -> 291175.71 | CW25: =$G25*CW$8 -> 69916.983 | CX25: =CV25+CW25 -> 361092.69 | CY25: =CW$8*$H25 -> 37379.999 | DA25: =$F25*DB$8 -> 29008.638 | DB25: =$G25*DB$8 -> 6965.5413 | DC25: =DA25+DB25 -> 35974.179 | DD25: =DB$8*$H25 -> 3724.0155 | DF25: =$F25*DG$8 -> 1004271.6 | DG25: =$G25*DG$8 -> 241145.24 | DH25: =DF25+DG25 -> 1245416.8 | DI25: =DG$8*$H25 -> 128924.45 | DK25: =$F25*DL$8 -> 2076208.3 | DL25: =$G25*DL$8 -> 498538.22 | DM25: =DK25+DL25 -> 2574746.5 | DN25: =DL$8*$H25 -> 266535.5 | DP25: =$F25*DQ$8 -> 407.27357 | DQ25: =$G25*DQ$8 -> 97.794348 | DR25: =DP25+DQ25 -> 505.06791 | DS25: =DQ$8*$H25 -> 52.284188 | DU25: =$F25*DV$8 -> 0 | DV25: =$G25*DV$8 -> 0 | DW25: =DU25+DV25 -> 0 | DX25: =DV$8*$H25 -> 0
